Workbook
Name Afectación_Económica: '3 PROBABIL E IMPACTO INHERENTE'!$X$7:$X$12
Name Definicion_tratamiento: '11 FORMULAS'!#REF!
Name E_Relaciones_Laborales: '11 FORMULAS'!$C$12:$C$17
Name F_Usuarios_Productos_y_Prácticas_Organizacionales: '11 FORMULAS'!$C$18:$C$23
Name G_Daños_Activos_Físicos: '11 FORMULAS'!$C$24:$C$26
Name IMPACTO_PROCESOS: '[1]LISTAS FORMULAS'!$C$3:$C$7
Name IMPACTO_PROCESOS: '[1]LISTAS FORMULAS'!$C$3:$C$7
Name IMPACTO_PROCESOS: '[1]LISTAS FORMULAS'!$C$3:$C$7
Name IMPACTO_PROCESOS: '[1]LISTAS FORMULAS'!$C$3:$C$7
Name IMPACTO_PROCESOS: '[1]LISTAS FORMULAS'!$C$3:$C$7
Name IMPACTO_PROCESOS: '[1]LISTAS FORMULAS'!$C$3:$C$7
Name opciones: '[1]LISTAS FORMULAS'!$F$3:$F$4
Name opciones: '[1]LISTAS FORMULAS'!$F$3:$F$4
Name opciones: '[1]LISTAS FORMULAS'!$F$3:$F$4
Name opciones: '[1]LISTAS FORMULAS'!$F$3:$F$4
Name opciones: '[1]LISTAS FORMULAS'!$F$3:$F$4
Name opciones: '[1]LISTAS FORMULAS'!$F$3:$F$4
Name opciones2: '[1]LISTAS FORMULAS'!$G$3:$G$5
Name opciones2: '[1]LISTAS FORMULAS'!$G$3:$G$5
Name opciones2: '[1]LISTAS FORMULAS'!$G$3:$G$5
Name opciones2: '[1]LISTAS FORMULAS'!$G$3:$G$5
Name opciones2: '[1]LISTAS FORMULAS'!$G$3:$G$5
Name opciones2: '[1]LISTAS FORMULAS'!$G$3:$G$5
Name Plan_accion: '11 FORMULAS'!#REF!
Name Plan_acción: '11 FORMULAS'!#REF!
Name Plan_de_acción: '11 FORMULAS'!#REF!
Name Quince_Cero: '[1]LISTAS FORMULAS'!$F$14:$F$15
Name Quince_Cero: '[1]LISTAS FORMULAS'!$F$14:$F$15
Name Quince_Cero: '[1]LISTAS FORMULAS'!$F$14:$F$15
Name Quince_Cero: '[1]LISTAS FORMULAS'!$F$14:$F$15
Name Quince_Cero: '[1]LISTAS FORMULAS'!$F$14:$F$15
Name Quince_Cero: '[1]LISTAS FORMULAS'!$F$14:$F$15
Name Rango_Calificacion_Ejecucion: '[1]LISTAS FORMULAS'!$H$3:$H$5
Name Rango_Calificacion_Ejecucion: '[1]LISTAS FORMULAS'!$H$3:$H$5
Name Rango_Calificacion_Ejecucion: '[1]LISTAS FORMULAS'!$H$3:$H$5
Name Rango_Calificacion_Ejecucion: '[1]LISTAS FORMULAS'!$H$3:$H$5
Name Rango_Calificacion_Ejecucion: '[1]LISTAS FORMULAS'!$H$3:$H$5
Name Rango_Calificacion_Ejecucion: '[1]LISTAS FORMULAS'!$H$3:$H$5
Name Reducir_mitigar_Transferir_Evitar: '8 MAPA RIESGOS'!$AJ$13:$AJ$14
Name Reputacional: '3 PROBABIL E IMPACTO INHERENTE'!$Y$7:$Y$12
Name Requiere_Plan_de_Acción: '8 MAPA RIESGOS'!$AJ$13:$AJ$14
Name TIPO: '[1]CONTEXTO E IDENTIFICACIÓN'!$E$29:$E$32
Name TIPO: '[1]CONTEXTO E IDENTIFICACIÓN'!$E$29:$E$32
Name TIPO: '[1]CONTEXTO E IDENTIFICACIÓN'!$E$29:$E$32
Name TIPO: '[1]CONTEXTO E IDENTIFICACIÓN'!$E$29:$E$32
Name TIPO: '[1]CONTEXTO E IDENTIFICACIÓN'!$E$29:$E$32
Name Tipo: '11 FORMULAS'!$A$4:$A$11

Sheet 1 INSTRUCTIVO
B2: Matriz Mapa de Riesgos
B4: Con la expedición del Decreto 1499 de 2017 “Por medio del cual se modifica el Decreto 1083 de 2015, Decreto Único Reglamentario del Sector Función Pública, en lo relacionado con el Sistema de Gestión establecido en el artículo 133 de la Ley 1753 de 2015”, se crea un solo Sistema de Gestión y se alinea con el Sistema de Control Interno, hoy todas las entidades públicas requieren actualizar y/o implementar el Modelo Integrado de Planeación y Gestión MIPG, modelo que incorpora el Modelo Estándar de Control Interno MECI a través de la 7a dimensión del mismo. En este marco general, el proceso de administración del riesgo es un esfuerzo conjunto entre la Alta Dirección y los servidores en todos sus niveles, ejercicio que inicia con la formulación de la política de Administración del Riesgo, la cual incluye los niveles de responsabilidad frente al seguimiento y evaluación, aspectos que deberán definirse acorde con el Esquema de Líneas de Defensa vinculado a la Dimensión 7. Teniendo en cuenta lo anterior y dada la necesidad de las entidades frente a la estructuración de los mapas de riesgos, como herramienta fundamental frente a la gestión del riesgo, el presente formato desarrolla un esquema completo acorde con los contenidos metodológicos de la Guía para la Administración del Riesgo y el diseño de controles V5. El formato cuenta con celdas parametrizadas y permite contar con los respectivos mapas de calor para riesgo inherente y riesgo residual.
B6: Orientaciones Generales
B7: Antes de iniciar con el diligenciamiento de la información en la matriz, se requiere haber avanzado en el análisis del proceso, su objetivo, alcance, actividades clave, considere los lineamientos establecidos en el Paso 2: identificación del riesgo, donde se explica ampliamente las bases para adelantar este análisis. Así mismo, considere en el Paso 3: valoración del riesgo los lineamientos para definir el No. de veces que se hace la actividad con la cual se relaciona el riesgo y su impacto en términos económicos o reputacionales. En este mismo paso se analizan los controles que deben responder a los atributos de eficiencia e informativos.
B9: Las hojas se encuentran protegidas para evidar dañar las formulas, para desprotegerlas no se requiere contraseña
B11: Se debe ingresar información solo en las celdas identificadas con color NARANJA CLARO, las demás contienen formulas de autollenado
B13: El formato de fecha es: DD/MM/AAAA
B15: El archivo contiene las siguientes hojas:
B17: 1 INSTRUCTIVO: Identifica el contenido del archivo y su funcionalidad
B19: 2 CONTEXTO E IDENTIFICACIÓN: Se establece el Número, Descripción y Factor del riesgo
C21: Columna | E21: Descripción - Lineamientos para el diligenciamiento
C22: Proceso | E22: Diligencie el nombre del proceso al cual se le identificarán y valorarán los riesgos.
C23: Objetivo del Proceso | E23: Diligencie el objetivo del proceso.
C24: Elaboración o Actualización: | E24: Fecha en la que realiza el diligenciamiento o actualización del mapa de riesgos, formato (DD/MM/AAAA)
C25: Vigencia del Al: | E25: Vigencia que tiene el mapa de riesgos fecha inicio fecha final, formato (DD/MM/AAAA)
C26: No. de Riesgo | E26: Permite definir unl consecutivo de riesgos. Una entidad puede ir en el riesgo 150, pero tener 70 riesgos, lo que permite llevar una traza de los riesgos. Esta información la debe administrar la oficina asesora de planeación o gerencia de riesgos. Cuando un el riesgo salga del mapa no existirá otro riesgo con el mismo número.
C27: ¿QUÉ? IMPACTO | E27: Analice las consecuencias que puede ocasionar a la organización la materialización del riesgo, Seleccione de la lista desplegable entre: Posibilidad de pérdida Económica Posibilidad de pérdida Reputacional Posibilidad de pérdida Económica y Reputacional
C28: ¿CÓMO? CAUSA INMEDIATA | E28: Circunstancias bajo las cuales se presenta el riesgo, es la situación más evidente frente al riesgo, redacte de la forma más concreta posible. (Iniciar con la palabra por)
C29: ¿PORQUÉ? CAUSA RAÍZ | E29: Causa principal o básica, corresponde a las razones por la cuales se puede presentar el riesgo, redacte de la forma más concreta posible. (Iniciar con debido a)
C30: DESCRIPCIÓN DEL RIESGO | E30: Consolida o resume los análisis sobre impacto + causa inmediata + causa raíz, permitiendo contar con una redacción clara y concreta del riesgo indentificado. Tenga en cuenta la estructura de alto nivel establecida en al guía, inicia con POSIBILIDAD DE + Impacto para la entidad (Qué) + Causa Inmediata (Cómo) + Causa Raíz (Por qué) (Se genera automáticamente)
C31: FACTOR DEL RIESGO / TIPO | E31: Seleccione de la lista desplegable entre las opiciones: A_Ejecución_y_Administración_de_procesos B_Fraude_Externo C_Fraude_Interno D_Fallas_Tecnológicas E_Relaciones_Laborales F_Usuarios_Productos_y_Prácticas_Organizacionales G_Daños_Activos_Físicos
C32: FACTOR DEL RIESGO / SELECCIONE FUENTE GENERADORA DEL EVENTO PARA TIPO E,F,G | E32: Si en TIPO seleccioneó las opiciones: E_Relaciones_Laborales F_Usuarios_Productos_y_Prácticas_Organizacionales G_Daños_Activos_Físicos Debe definir la fuente generadora de la lista desplegable
C33: RESULTADO FUENTE GENERADORA DEL EVENTO | E33: Se rellena automáticamente según lo seleccinado de FACTOR DEL RIESGO
B35: 3 PROBABIL E IMPACTO INHERENTE:
C37: Columna | E37: Descripción - Lineamientos para el diligenciamiento
C38: No. veces que realiza la actividad al año | E38: Defina el número de veces que se ejecuta la actividad durante el año, (Recuerde la probabilidad e ocurrencia del riesgo se define como el No. de veces que se pasa por el punto de riesgo en el periodo de 1 año). La matriz automáticamente hará el cálculo para el nivel de probabilidad inherente. La matriz calcula automáticamente: Frecuencia de la Actividad % Probabilidad Nivel Probabilidad
C39: Afectación Económica | E39: Selecciona de la lista desplegable el rango de afectación económica y la matriz calcula: % Nivel
C40: Reputacional | E40: Selecciona de la lista desplegable el rango de afectación reputacional y la matriz calcula: % Nivel
C41: Resultado / Porcentaje de Impacto / Nivel de Impacto | E41: Se calcula automáticamente según la información de afectación económica y reputacional
B43: 4 MAPA CALOR INHERENTE: Representación gráfica de la ubicación de cada riesgo inherente en el mapa de calor (En esta hoja no se ingresan datos)
B45: 5 VALORACIÓN DEL CONTROL: Se realiza la descripción y atributos del control, calcula automáticamente el Valor Total del Control, Probabilidad residual e Impacto Residual
C47: Columna | E47: Descripción - Lineamientos para el diligenciamiento
C48: Descripción del Control | E48: Recuerde que el control se define como la medida que permite reducir o mitigar un riesgo. Defina el control (es) que atacan la causa raíz del riesgo, considere la estructura explicada en la guía: Responsable de ejecutar el control + Acción + Complemento
C49: Tipo de control | E49: Debe seleccionar de lista desplegable entre: Preventivo Detectivo Correctivo
C50: Peso del Control | E50: Se calcula automáticamente según lo seleccionado en Tipo de Control Preventivo: 25 % Detectivo: 15 % Correctivo: 10 %
C51: Afectación o Desplazamiento en la Matriz | E51: Se calcula automáticamente según lo seleccionado en Tipo de Control Preventivo: 25 % Detectivo: 15 % Correctivo: 10 %
C52: Implementación | E52: Debe seleccionar de lista desplegable entre: Automático: 25 % Manual: 15 %
C53: Peso de la implementación | E53: Se calcula automáticamente según lo seleccionado en Implementación Manual Automático
C54: Informativos | E54: Debe seleccionar de listas desplegables Documentación: Documentado - Sin Documentar Frecuencia: Continua - Aleatoria Evidencia: Con registro - Sin registro
C55: Valor Total del Control | E55: Se calcula automáticamente: Peso del Control + Peso de la implementación
C56: Probabilidad residual | E56: Se calcula automáticamente: % Probabilidad Riesgo Inherente-(% Probabilidad Riesgo Inherente*Valor Total del Control)
C57: Impacto Residual | E57: % Impacto Riesgo Inherente-(% Impacto Riesgo Inherente*Valor Total del Control)
B59: 6 MAPA CALOR RESIDUAL: Representación gráfica de la ubicación de cada riesgo residual en el mapa de calor (En esta hoja no se ingresan datos)
B61: 7 MAPA CALOR INHEREN Y RESIDUAL: Comparación gráfica de la ubicación de cada riesgo inherente y residual en el mapa de calor (En esta hoja no se ingresan dados)
B63: 8 MAPA RIESGOS: Establece el Tratamiento, Plan de Acción, Seguimientos por parte del Líder del Proceso, Verificación por parte de segunda línea de defensa o quien haga sus veces, Verificación por parte de la Oficina de Control Interno o quien haga sus veces y el estado de la acción.
C65: Columna | E65: Descripción - Lineamientos para el diligenciamiento
C66: SEVERIDAD (NIVEL DE RIESGO) | E66: Se calcula automáticamente según CALIFICACIÓN RIESGO RESIDUAL / PROBABILIDAD E IMPACTO
C67: Tratamiento | E67: Se calcula automáticamente según SEVERIDAD (NIVEL DE RIESGO): Extremo, Alto, Moderado: Reducir, mitigar, Transferir, Evitar Bajo: Aceptar
C68: ¿Requiere Plan de Acción? | E68: Se calcula automáticamente según Tratamiento Reducir, mitigar, Transferir, Evitar: Requiere plan de acción Aceptar: No requiere plan de acción
C69: Plan de Acción Descripción de la Acción, basado en el análisis de causas Responsable (Cargo) Fecha de Inicio Fecha de Finalización | E69: Esta casilla dependerá del tratamiento establecido, si es Aceptar no se requieren acciones adicionales, en caso de escoger Reducir (mitigar) se deben diligenciar las acciones que se adelantarán como complemento a los controles establecidos, no necesariamente son controles adicionales. Para Reducir (compartir), es viable diligenciar la acción que deriva de esta (ejemplo póliza seguros, terceración), indicando información relevante.
C70: Seguimientos por parte del Líder del Proceso | E70: Realizar descripción de los seguimientos por parte del proceso
C71: Verificación por parte de segunda línea de defensa o quien haga sus veces (Fecha y Descripción) | E71: Realizar descripción de las verificaciones de la segunda línea de defensa
C72: Verificación por parte de la Oficina de Control Interno o quien haga sus veces (Fecha y Descripción) | E72: Realizar descripción de las verificaciones que realiza Control Interno o quien haga sus veces.
C73: Estado | E73: Utilice la lista de despligue que se encuentra parametrizada, le aparecerán las opciones: Sin Iniciar, En proceso, Cerrado, la selección en este caso dependerá de las acciones del plan que se hayan establecido en cada caso.
B75: 9 RIESGO DEL PROCESO: Calcula el nivel de riesgo del proceso (En esta hoja no se ingresan datos)
B77: 10 CONTROL DE CAMBIOS: En ella se debe registrar los cambios al formato y al contenido del mismo
B79: 11 FORMULAS: La información que contiene se utiliza para realizar operaciones en las demás hojas (En esta hoja no se ingresan datos)
B82: Lista de datos de la matriz:
B85: Hoja | C85: Columna | E85: Descripción - Lineamientos para el diligenciamiento
B86: 2 | C86: Proceso | E86: Diligencie el nombre del proceso al cual se le identificarán y valorarán los riesgos.
B87: 2 | C87: Objetivo del Proceso | E87: Diligencie el objetivo del proceso.
B88: 2 | C88: Elaboración o Actualización: | E88: Fecha en la que realiza el diligenciamiento o actualización del mapa de riesgos, formato (DD/MM/AAAA)
B89: 2 | C89: Vigencia del Al: | E89: Vigencia que tiene el mapa de riesgos fecha inicio fecha final, formato (DD/MM/AAAA)
B90: 2 | C90: No. de Riesgo | E90: Permite definir unl consecutivo de riesgos. Una entidad puede ir en el riesgo 150, pero tener 70 riesgos, lo que permite llevar una traza de los riesgos. Esta información la debe administrar la oficina asesora de planeación o gerencia de riesgos. Cuando un el riesgo salga del mapa no existirá otro riesgo con el mismo número.
B91: 2 | C91: ¿QUÉ? IMPACTO | E91: Analice las consecuencias que puede ocasionar a la organización la materialización del riesgo, Seleccione de la lista desplegable entre: Posibilidad de pérdida Económica Posibilidad de pérdida Reputacional Posibilidad de pérdida Económica y Reputacional
B92: 2 | C92: ¿CÓMO? CAUSA INMEDIATA | E92: Circunstancias bajo las cuales se presenta el riesgo, es la situación más evidente frente al riesgo, redacte de la forma más concreta posible. (Iniciar con la palabra por)
B93: 2 | C93: ¿PORQUÉ? CAUSA RAÍZ | E93: Causa principal o básica, corresponde a las razones por la cuales se puede presentar el riesgo, redacte de la forma más concreta posible. (Iniciar con debido a)
B94: 2 | C94: DESCRIPCIÓN DEL RIESGO | E94: Consolida o resume los análisis sobre impacto + causa inmediata + causa raíz, permitiendo contar con una redacción clara y concreta del riesgo indentificado. Tenga en cuenta la estructura de alto nivel establecida en al guía, inicia con POSIBILIDAD DE + Impacto para la entidad (Qué) + Causa Inmediata (Cómo) + Causa Raíz (Por qué) (Se genera automáticamente)
B95: 2 | C95: FACTOR DEL RIESGO / TIPO | E95: Seleccione de la lista desplegable entre las opiciones: A_Ejecución_y_Administración_de_procesos B_Fraude_Externo C_Fraude_Interno D_Fallas_Tecnológicas E_Relaciones_Laborales F_Usuarios_Productos_y_Prácticas_Organizacionales G_Daños_Activos_Físicos
B96: 2 | C96: FACTOR DEL RIESGO / SELECCIONE FUENTE GENERADORA DEL EVENTO PARA TIPO E,F,G | E96: Si en TIPO seleccioneó las opiciones: E_Relaciones_Laborales F_Usuarios_Productos_y_Prácticas_Organizacionales G_Daños_Activos_Físicos Debe definir la fuente generadora de la lista desplegable
B97: 2 | C97: RESULTADO FUENTE GENERADORA DEL EVENTO | E97: Se rellena automáticamente según lo seleccinado de FACTOR DEL RIESGO
... B119: 8 | C119: Estado | E119: Utilice la lista de despligue que se encuentra parametrizada, le aparecerán las opciones: Sin Iniciar, En proceso, Cerrado, la selección en este caso dependerá de las acciones del plan que se hayan establecido en cada caso.
B126: Archivo creado por:
B127: Gobernación del Meta - Secretaría Administrativa - Gerencia de Desarrollo Organizacional
B128: 44342

Sheet 2 CONTEXTO E IDENTIFICACIÓN
A2: PROCESO: | B2: GESTIÓN DE SERVICIOS PUBLICOS
A4: No. de Riesgo (Mismo consecutivo para toda la entidad) | B4: ¿QUÉ? IMPACTO | C4: ¿CÓMO? CAUSA INMEDIATA (Iniciar con la palabra por) | D4: ¿PORQUÉ? CAUSA RAÍZ (Iniciar con debido a) | E4: DESCRIPCIÓN DEL RIESGO | F4: FACTOR DEL RIESGO
F5: TIPO | G5: SELECCIONE FUENTE GENERADORA DEL EVENTO PARA TIPO E,F,G | H5: VALIDACIÓN FUENTE GENERADORA DEL EVENTO PARA TIPO A,B,C,D | I5: RESULTADO FUENTE GENERADORA DEL EVENTO
A6: R1 | B6: Posibilidad de pérdida Económica y Reputacional | C6: por contaminación ambiental a causa de las descargas de aguas residuales | D6: debido a la falta de seguimiento y control a los vertimientos realizados por usuarios diferentes al residencial que hacen uso del alcantarillado público y a la infraestructura de las redes de alcantarillado en condiciones inadecuadas. | E6: =+CONCATENATE(B6," ",C6," ",D6) -> Posibilidad de pérdida Económica y Reputacional por contaminación ambiental a causa de las descargas de aguas residuales debido a la falta de seguimiento y control a los vertimientos realizados por usuarios diferentes al residencial que hacen uso del alcantarillado público y a la infraestructura de las redes de alcantarillado en condiciones inadecuadas. | F6: A_Ejecución_y_Administración_de_procesos | G6: Procesos | H6: =+IF(F6='11 FORMULAS'!$B$4,'11 FORMULAS'!$C$4,IF(F6='11 FORMULAS'!$B$6,'11 FORMULAS'!$C$6,IF(F6='11 FORMULAS'!$B$8,'11 FORMULAS'!$C$8,IF(F6='11 FORMULAS'!$B$10,'11 FORMULAS'!$C$10,"")))) -> Procesos | I6: =+G6&H6 -> ProcesosProcesos
A7: R2 | B7: Posibilidad de pérdida Económica y Reputacional | C7: por la atención inoportuna de las solicitudes de reparación de alcantarillado | D7: debido a la falta de seguimiento a las ordenes de trabajo generadas, falta de personal operativo para los grupos de trabajo y falta de asignación de recursos o de disponibilidad de materiales. | E7: =+CONCATENATE(B7," ",C7," ",D7) -> Posibilidad de pérdida Económica y Reputacional por la atención inoportuna de las solicitudes de reparación de alcantarillado debido a la falta de seguimiento a las ordenes de trabajo generadas, falta de personal operativo para los grupos de trabajo y falta de asignación de recursos o de disponibilidad de materiales. | F7: F_Usuarios_Productos_y_Prácticas_Organizacionales | G7: Procesos | H7: =+IF(F7='11 FORMULAS'!$B$4,'11 FORMULAS'!$C$4,IF(F7='11 FORMULAS'!$B$6,'11 FORMULAS'!$C$6,IF(F7='11 FORMULAS'!$B$8,'11 FORMULAS'!$C$8,IF(F7='11 FORMULAS'!$B$10,'11 FORMULAS'!$C$10,"")))) | I7: =+G7&H7 -> Procesos
A8: R3 | B8: Posibilidad de pérdida Económica y Reputacional | C8: por la falta de atención a las afectaciones generadas por actividades de alcantarillado | D8: debido a que la parametrización del software permite el cierre de ordenes de trabajo con actividades pendientes. | E8: =+CONCATENATE(B8," ",C8," ",D8) -> Posibilidad de pérdida Económica y Reputacional por la falta de atención a las afectaciones generadas por actividades de alcantarillado debido a que la parametrización del software permite el cierre de ordenes de trabajo con actividades pendientes. | F8: F_Usuarios_Productos_y_Prácticas_Organizacionales | G8: Procesos | H8: =+IF(F8='11 FORMULAS'!$B$4,'11 FORMULAS'!$C$4,IF(F8='11 FORMULAS'!$B$6,'11 FORMULAS'!$C$6,IF(F8='11 FORMULAS'!$B$8,'11 FORMULAS'!$C$8,IF(F8='11 FORMULAS'!$B$10,'11 FORMULAS'!$C$10,"")))) | I8: =+G8&H8 -> Procesos
A9: R4 | B9: Posibilidad de pérdida Económica y Reputacional | C9: Por la captacion del caudal de las plantas de tratamiento de los municipios por encima del lt/s consecionados | D9: Debido a la falta de medicion en el sistema de las bocatomas | E9: =+CONCATENATE(B9," ",C9," ",D9) -> Posibilidad de pérdida Económica y Reputacional Por la captacion del caudal de las plantas de tratamiento de los municipios por encima del lt/s consecionados Debido a la falta de medicion en el sistema de las bocatomas | F9: A_Ejecución_y_Administración_de_procesos | G9: Procesos | H9: =+IF(F9='11 FORMULAS'!$B$4,'11 FORMULAS'!$C$4,IF(F9='11 FORMULAS'!$B$6,'11 FORMULAS'!$C$6,IF(F9='11 FORMULAS'!$B$8,'11 FORMULAS'!$C$8,IF(F9='11 FORMULAS'!$B$10,'11 FORMULAS'!$C$10,"")))) -> Procesos | I9: =+G9&H9 -> ProcesosProcesos
A10: R5 | B10: Posibilidad de pérdida Económica y Reputacional | C10: por condiciones de calidad de agua cruda que no permite tratabilidad y afectaciones de tipo climático | D10: debido a crecientes que generan arrastre de solidos y elevacion en los niveles de turbierdad en agua cruda | E10: =+CONCATENATE(B10," ",C10," ",D10) -> Posibilidad de pérdida Económica y Reputacional por condiciones de calidad de agua cruda que no permite tratabilidad y afectaciones de tipo climático debido a crecientes que generan arrastre de solidos y elevacion en los niveles de turbierdad en agua cruda | F10: F_Usuarios_Productos_y_Prácticas_Organizacionales | G10: Procesos | H10: =+IF(F10='11 FORMULAS'!$B$4,'11 FORMULAS'!$C$4,IF(F10='11 FORMULAS'!$B$6,'11 FORMULAS'!$C$6,IF(F10='11 FORMULAS'!$B$8,'11 FORMULAS'!$C$8,IF(F10='11 FORMULAS'!$B$10,'11 FORMULAS'!$C$10,"")))) | I10: =+G10&H10 -> Procesos
A11: R6 | B11: Posibilidad de pérdida Económica y Reputacional | C11: por el aumento en el índice de agua no contabilizada por pérdidas técnicas | D11: debido a la infraestructura de produccion ,almacenameinto y distribucion en condiciones inadecuadas, y la reparación inoportuna de fugas y daños en las redes de acueducto. | E11: =+CONCATENATE(B11," ",C11," ",D11) -> Posibilidad de pérdida Económica y Reputacional por el aumento en el índice de agua no contabilizada por pérdidas técnicas debido a la infraestructura de produccion ,almacenameinto y distribucion en condiciones inadecuadas, y la reparación inoportuna de fugas y daños en las redes de acueducto. | F11: G_Daños_Activos_Físicos | G11: Infraestructura | H11: =+IF(F11='11 FORMULAS'!$B$4,'11 FORMULAS'!$C$4,IF(F11='11 FORMULAS'!$B$6,'11 FORMULAS'!$C$6,IF(F11='11 FORMULAS'!$B$8,'11 FORMULAS'!$C$8,IF(F11='11 FORMULAS'!$B$10,'11 FORMULAS'!$C$10,"")))) | I11: =+G11&H11 -> Infraestructura
A12: R7 | B12: Posibilidad de pérdida Económica y Reputacional | C12: por la atención inoportuna de las solicitudes de reparación de acueducto | D12: debido a la falta de seguimiento a las ordenes de trabajo generadas, falta de personal operativo para los grupos de trabajo y falta de asignación de recursos o de disponibilidad de materiales. | E12: =+CONCATENATE(B12," ",C12," ",D12) -> Posibilidad de pérdida Económica y Reputacional por la atención inoportuna de las solicitudes de reparación de acueducto debido a la falta de seguimiento a las ordenes de trabajo generadas, falta de personal operativo para los grupos de trabajo y falta de asignación de recursos o de disponibilidad de materiales. | F12: F_Usuarios_Productos_y_Prácticas_Organizacionales | G12: Procesos | H12: =+IF(F12='11 FORMULAS'!$B$4,'11 FORMULAS'!$C$4,IF(F12='11 FORMULAS'!$B$6,'11 FORMULAS'!$C$6,IF(F12='11 FORMULAS'!$B$8,'11 FORMULAS'!$C$8,IF(F12='11 FORMULAS'!$B$10,'11 FORMULAS'!$C$10,"")))) | I12: =+G12&H12 -> Procesos
A13: R10 | E13: =+CONCATENATE(B13," ",C13," ",D13) | H13: =+IF(F13='11 FORMULAS'!$B$4,'11 FORMULAS'!$C$4,IF(F13='11 FORMULAS'!$B$6,'11 FORMULAS'!$C$6,IF(F13='11 FORMULAS'!$B$8,'11 FORMULAS'!$C$8,IF(F13='11 FORMULAS'!$B$10,'11 FORMULAS'!$C$10,"")))) | I13: =+G13&H13
A14: R11 | E14: =+CONCATENATE(B14," ",C14," ",D14) | H14: =+IF(F14='11 FORMULAS'!$B$4,'11 FORMULAS'!$C$4,IF(F14='11 FORMULAS'!$B$6,'11 FORMULAS'!$C$6,IF(F14='11 FORMULAS'!$B$8,'11 FORMULAS'!$C$8,IF(F14='11 FORMULAS'!$B$10,'11 FORMULAS'!$C$10,"")))) | I14: =+G14&H14
A15: R12 | E15: =+CONCATENATE(B15," ",C15," ",D15) | H15: =+IF(F15='11 FORMULAS'!$B$4,'11 FORMULAS'!$C$4,IF(F15='11 FORMULAS'!$B$6,'11 FORMULAS'!$C$6,IF(F15='11 FORMULAS'!$B$8,'11 FORMULAS'!$C$8,IF(F15='11 FORMULAS'!$B$10,'11 FORMULAS'!$C$10,"")))) | I15: =+G15&H15
A16: R13 | E16: =+CONCATENATE(B16," ",C16," ",D16) | H16: =+IF(F16='11 FORMULAS'!$B$4,'11 FORMULAS'!$C$4,IF(F16='11 FORMULAS'!$B$6,'11 FORMULAS'!$C$6,IF(F16='11 FORMULAS'!$B$8,'11 FORMULAS'!$C$8,IF(F16='11 FORMULAS'!$B$10,'11 FORMULAS'!$C$10,"")))) | I16: =+G16&H16
A17: R14 | E17: =+CONCATENATE(B17," ",C17," ",D17) | H17: =+IF(F17='11 FORMULAS'!$B$4,'11 FORMULAS'!$C$4,IF(F17='11 FORMULAS'!$B$6,'11 FORMULAS'!$C$6,IF(F17='11 FORMULAS'!$B$8,'11 FORMULAS'!$C$8,IF(F17='11 FORMULAS'!$B$10,'11 FORMULAS'!$C$10,"")))) | I17: =+G17&H17
A18: R15 | E18: =+CONCATENATE(B18," ",C18," ",D18) | H18: =+IF(F18='11 FORMULAS'!$B$4,'11 FORMULAS'!$C$4,IF(F18='11 FORMULAS'!$B$6,'11 FORMULAS'!$C$6,IF(F18='11 FORMULAS'!$B$8,'11 FORMULAS'!$C$8,IF(F18='11 FORMULAS'!$B$10,'11 FORMULAS'!$C$10,"")))) | I18: =+G18&H18
A19: R16 | E19: =+CONCATENATE(B19," ",C19," ",D19) | H19: =+IF(F19='11 FORMULAS'!$B$4,'11 FORMULAS'!$C$4,IF(F19='11 FORMULAS'!$B$6,'11 FORMULAS'!$C$6,IF(F19='11 FORMULAS'!$B$8,'11 FORMULAS'!$C$8,IF(F19='11 FORMULAS'!$B$10,'11 FORMULAS'!$C$10,"")))) | I19: =+G19&H19
A20: R17 | E20: =+CONCATENATE(B20," ",C20," ",D20) | H20: =+IF(F20='11 FORMULAS'!$B$4,'11 FORMULAS'!$C$4,IF(F20='11 FORMULAS'!$B$6,'11 FORMULAS'!$C$6,IF(F20='11 FORMULAS'!$B$8,'11 FORMULAS'!$C$8,IF(F20='11 FORMULAS'!$B$10,'11 FORMULAS'!$C$10,"")))) | I20: =+G20&H20
A21: R18 | E21: =+CONCATENATE(B21," ",C21," ",D21) | H21: =+IF(F21='11 FORMULAS'!$B$4,'11 FORMULAS'!$C$4,IF(F21='11 FORMULAS'!$B$6,'11 FORMULAS'!$C$6,IF(F21='11 FORMULAS'!$B$8,'11 FORMULAS'!$C$8,IF(F21='11 FORMULAS'!$B$10,'11 FORMULAS'!$C$10,"")))) | I21: =+G21&H21
A22: R19 | E22: =+CONCATENATE(B22," ",C22," ",D22) | H22: =+IF(F22='11 FORMULAS'!$B$4,'11 FORMULAS'!$C$4,IF(F22='11 FORMULAS'!$B$6,'11 FORMULAS'!$C$6,IF(F22='11 FORMULAS'!$B$8,'11 FORMULAS'!$C$8,IF(F22='11 FORMULAS'!$B$10,'11 FORMULAS'!$C$10,"")))) | I22: =+G22&H22
A23: R20 | E23: =+CONCATENATE(B23," ",C23," ",D23) | H23: =+IF(F23='11 FORMULAS'!$B$4,'11 FORMULAS'!$C$4,IF(F23='11 FORMULAS'!$B$6,'11 FORMULAS'!$C$6,IF(F23='11 FORMULAS'!$B$8,'11 FORMULAS'!$C$8,IF(F23='11 FORMULAS'!$B$10,'11 FORMULAS'!$C$10,"")))) | I23: =+G23&H23

Sheet 3 PROBABIL E IMPACTO INHERENTE
A2: PROCESO: | B2: =+IF('2 CONTEXTO E IDENTIFICACIÓN'!$B$2="","",'2 CONTEXTO E IDENTIFICACIÓN'!$B$2) -> GESTIÓN DE SERVICIOS PUBLICOS | G2: =+'2 CONTEXTO E IDENTIFICACIÓN'!#REF! -> #REF! | H2: =+IF('2 CONTEXTO E IDENTIFICACIÓN'!#REF!="","",'2 CONTEXTO E IDENTIFICACIÓN'!#REF!) -> #REF! | I2: Al | J2: =+IF('2 CONTEXTO E IDENTIFICACIÓN'!#REF!="","",'2 CONTEXTO E IDENTIFICACIÓN'!#REF!) -> #REF!
B3: =+IF('2 CONTEXTO E IDENTIFICACIÓN'!$D$2="","",'2 CONTEXTO E IDENTIFICACIÓN'!$D$2)
G4: IMPACTO INHERENTE
C5: PROBABILIDAD INHERENTE | G5: Afectación Económica | J5: Reputacional | M5: Resultado | P5: PROBABILIDAD | V5: IMPACTO
A6: No. Riesgo | B6: Riesgo | C6: No. veces que realiza la actividad al año | D6: Frecuencia de la Actividad | E6: % Probabilidad | F6: Nivel Probabilidad | G6: Afectación Económica | H6: % | I6: Nivel | J6: Reputacional | K6: % | L6: Nivel | M6: Porcentaje de Impacto | N6: Nivel de Impacto | P6: Nivel | Q6: Frecuencia de la Actividad | R6: Mínimo | S6: Máximo | T6: Probabilidad | V6: Nivel | W6: % Impacto | X6: Afectación_Económica | Y6: Reputacional
A7: ='2 CONTEXTO E IDENTIFICACIÓN'!A6 -> R1 | B7: =+'2 CONTEXTO E IDENTIFICACIÓN'!E6 -> Posibilidad de pérdida Económica y Reputacional por contaminación ambiental a causa de las descargas de aguas residuales debido a la falta de seguimiento y control a los vertimientos realizados por usuarios diferentes al residencial que hacen uso del alcantarillado público y a la infraestructura de las redes de alcantarillado en condiciones inadecuadas. | C7: 20 | D7: =+IF(C7="","",IF(C7<=$S$7,$Q$7,IF(C7<=$S$8,$Q$8,IF(C7<=$S$9,$Q$9,IF(C7<=$S$10,$Q$10,IF(C7>=$R$11,$Q$11,"")))))) -> La actividad que conlleva el riesgo se ejecuta de 3 a 24 veces por año | E7: =+IF(D7="","",IF(D7=$Q$7,$T$7,IF(D7=$Q$8,$T$8,IF(D7=$Q$9,$T$9,IF(D7=$Q$10,$T$10,IF(D7=$Q$11,$T$11)))))) -> 0.4 | F7: =+IF(D7="","",IF(D7=$Q$7,$P$7,IF(D7=$Q$8,$P$8,IF(D7=$Q$9,$P$9,IF(D7=$Q$10,$P$10,IF(D7=$Q$11,$P$11)))))) -> Baja | G7: Menor a 10 SMLMV | H7: =+IF(G7="","",IF(G7="N/A","",IF(OR(G7=$X$7,G7=$Y$7),$W$7,IF(OR(G7=$X$8,G7=$Y$8),$W$8,IF(OR(G7=$X$9,G7=$Y$9),$W$9,IF(OR(G7=$X$10,G7=$Y$10),$W$10,IF(OR(G7=$X$11,G7=$Y$11),$W$11))))))) -> 0.2 | I7: =+IF(G7="","",IF(G7="N/A","",IF(OR(G7=$X$7,G7=$Y$7),$V$7,IF(OR(G7=$X$8,G7=$Y$8),$V$8,IF(OR(G7=$X$9,G7=$Y$9),$V$9,IF(OR(G7=$X$10,G7=$Y$10),$V$10,IF(OR(G7=$X$11,G7=$Y$11),$V$11))))))) -> Leve | J7: El riesgo afecta la imagen de la entidad con efecto publicitario sostenido a nivel de sector administrativo, nivel departamental o municipal. | K7: =+IF(J7="","",IF(J7="N/A","",IF(OR(J7=$X$7,J7=$Y$7),$W$7,IF(OR(J7=$X$8,J7=$Y$8),$W$8,IF(OR(J7=$X$9,J7=$Y$9),$W$9,IF(OR(J7=$X$10,J7=$Y$10),$W$10,IF(OR(J7=$X$11,J7=$Y$11),$W$11))))))) -> 0.8 | L7: =+IF(J7="","",IF(J7="N/A","",IF(OR(J7=$X$7,J7=$Y$7),$V$7,IF(OR(J7=$X$8,J7=$Y$8),$V$8,IF(OR(J7=$X$9,J7=$Y$9),$V$9,IF(OR(J7=$X$10,J7=$Y$10),$V$10,IF(OR(J7=$X$11,J7=$Y$11),$V$11))))))) -> Mayor | M7: =+IF(H7="",K7,IF(K7="",H7,IF(H7>K7,H7,K7))) -> 0.8 | N7: =+IF(M7="","",IF(M7=$W$7,$V$7,IF(M7=$W$8,$V$8,IF(M7=$W$9,$V$9,IF(M7=$W$10,$V$10,IF(M7=$W$11,$V$11)))))) -> Mayor | P7: Muy Baja | Q7: La actividad que conlleva el riesgo se ejecuta como máximos 2 veces por año | R7: 0 | S7: 2 | T7: 0.2 | V7: Leve | W7: 0.2 | X7: Menor a 10 SMLMV | Y7: El riesgo afecta la imagen de algún área de la organización.
F8: =+IF(D8="","",IF(D8=$Q$7,$P$7,IF(D8=$Q$8,$P$8,IF(D8=$Q$9,$P$9,IF(D8=$Q$10,$P$10,IF(D8=$Q$11,$P$11)))))) | H8: =+IF(G8="","",IF(G8="N/A","",IF(OR(G8=$X$7,G8=$Y$7),$W$7,IF(OR(G8=$X$8,G8=$Y$8),$W$8,IF(OR(G8=$X$9,G8=$Y$9),$W$9,IF(OR(G8=$X$10,G8=$Y$10),$W$10,IF(OR(G8=$X$11,G8=$Y$11),$W$11))))))) | I8: =+IF(G8="","",IF(G8="N/A","",IF(OR(G8=$X$7,G8=$Y$7),$V$7,IF(OR(G8=$X$8,G8=$Y$8),$V$8,IF(OR(G8=$X$9,G8=$Y$9),$V$9,IF(OR(G8=$X$10,G8=$Y$10),$V$10,IF(OR(G8=$X$11,G8=$Y$11),$V$11))))))) | K8: =+IF(J8="","",IF(J8="N/A","",IF(OR(J8=$X$7,J8=$Y$7),$W$7,IF(OR(J8=$X$8,J8=$Y$8),$W$8,IF(OR(J8=$X$9,J8=$Y$9),$W$9,IF(OR(J8=$X$10,J8=$Y$10),$W$10,IF(OR(J8=$X$11,J8=$Y$11),$W$11))))))) | L8: =+IF(J8="","",IF(J8="N/A","",IF(OR(J8=$X$7,J8=$Y$7),$V$7,IF(OR(J8=$X$8,J8=$Y$8),$V$8,IF(OR(J8=$X$9,J8=$Y$9),$V$9,IF(OR(J8=$X$10,J8=$Y$10),$V$10,IF(OR(J8=$X$11,J8=$Y$11),$V$11))))))) | M8: =+IF(H8="",K8,IF(K8="",H8,IF(H8>K8,H8,K8))) | N8: =+IF(M8="","",IF(M8=$W$7,$V$7,IF(M8=$W$8,$V$8,IF(M8=$W$9,$V$9,IF(M8=$W$10,$V$10,IF(M8=$W$11,$V$11)))))) | P8: Baja | Q8: La actividad que conlleva el riesgo se ejecuta de 3 a 24 veces por año | R8: 3 | S8: 24 | T8: 0.4 | V8: Menor | W8: 0.4 | X8: Entre 10 y 50 SMLMV | Y8: El riesgo afecta la imagen de la entidad internamente, de conocimiento general nivel interno, de junta directiva y accionistas y/o de proveedores.
A9: ='2 CONTEXTO E IDENTIFICACIÓN'!A7 -> R2 | B9: =+'2 CONTEXTO E IDENTIFICACIÓN'!E7 -> Posibilidad de pérdida Económica y Reputacional por la atención inoportuna de las solicitudes de reparación de alcantarillado debido a la falta de seguimiento a las ordenes de trabajo generadas, falta de personal operativo para los grupos de trabajo y falta de asignación de recursos o de disponibilidad de materiales. | C9: 365 | D9: =+IF(C9="","",IF(C9<=$S$7,$Q$7,IF(C9<=$S$8,$Q$8,IF(C9<=$S$9,$Q$9,IF(C9<=$S$10,$Q$10,IF(C9>=$R$11,$Q$11,"")))))) -> La actividad que conlleva el riesgo se ejecuta de 24 a 500 veces por año | E9: =+IF(D9="","",IF(D9=$Q$7,$T$7,IF(D9=$Q$8,$T$8,IF(D9=$Q$9,$T$9,IF(D9=$Q$10,$T$10,IF(D9=$Q$11,$T$11)))))) -> 0.6 | F9: =+IF(D9="","",IF(D9=$Q$7,$P$7,IF(D9=$Q$8,$P$8,IF(D9=$Q$9,$P$9,IF(D9=$Q$10,$P$10,IF(D9=$Q$11,$P$11)))))) -> Media | G9: Entre 100 y 500 SMLMV | H9: =+IF(G9="","",IF(G9="N/A","",IF(OR(G9=$X$7,G9=$Y$7),$W$7,IF(OR(G9=$X$8,G9=$Y$8),$W$8,IF(OR(G9=$X$9,G9=$Y$9),$W$9,IF(OR(G9=$X$10,G9=$Y$10),$W$10,IF(OR(G9=$X$11,G9=$Y$11),$W$11))))))) -> 0.8 | I9: =+IF(G9="","",IF(G9="N/A","",IF(OR(G9=$X$7,G9=$Y$7),$V$7,IF(OR(G9=$X$8,G9=$Y$8),$V$8,IF(OR(G9=$X$9,G9=$Y$9),$V$9,IF(OR(G9=$X$10,G9=$Y$10),$V$10,IF(OR(G9=$X$11,G9=$Y$11),$V$11))))))) -> Mayor | J9: El riesgo afecta la imagen de la entidad con efecto publicitario sostenido a nivel de sector administrativo, nivel departamental o municipal. | K9: =+IF(J9="","",IF(J9="N/A","",IF(OR(J9=$X$7,J9=$Y$7),$W$7,IF(OR(J9=$X$8,J9=$Y$8),$W$8,IF(OR(J9=$X$9,J9=$Y$9),$W$9,IF(OR(J9=$X$10,J9=$Y$10),$W$10,IF(OR(J9=$X$11,J9=$Y$11),$W$11))))))) -> 0.8 | L9: =+IF(J9="","",IF(J9="N/A","",IF(OR(J9=$X$7,J9=$Y$7),$V$7,IF(OR(J9=$X$8,J9=$Y$8),$V$8,IF(OR(J9=$X$9,J9=$Y$9),$V$9,IF(OR(J9=$X$10,J9=$Y$10),$V$10,IF(OR(J9=$X$11,J9=$Y$11),$V$11))))))) -> Mayor | M9: =+IF(H9="",K9,IF(K9="",H9,IF(H9>K9,H9,K9))) -> 0.8 | N9: =+IF(M9="","",IF(M9=$W$7,$V$7,IF(M9=$W$8,$V$8,IF(M9=$W$9,$V$9,IF(M9=$W$10,$V$10,IF(M9=$W$11,$V$11)))))) -> Mayor | P9: Media | Q9: La actividad que conlleva el riesgo se ejecuta de 24 a 500 veces por año | R9: 25 | S9: 500 | T9: 0.6 | V9: Moderado | W9: 0.6 | X9: Entre 50 y 100 SMLMV | Y9: El riesgo afecta la imagen de la entidad con algunos usuarios de relevancia frente al logro de los objetivos.
A10: ='2 CONTEXTO E IDENTIFICACIÓN'!A8 -> R3 | B10: =+'2 CONTEXTO E IDENTIFICACIÓN'!E8 -> Posibilidad de pérdida Económica y Reputacional por la falta de atención a las afectaciones generadas por actividades de alcantarillado debido a que la parametrización del software permite el cierre de ordenes de trabajo con actividades pendientes. | C10: 12 | D10: =+IF(C10="","",IF(C10<=$S$7,$Q$7,IF(C10<=$S$8,$Q$8,IF(C10<=$S$9,$Q$9,IF(C10<=$S$10,$Q$10,IF(C10>=$R$11,$Q$11,"")))))) -> La actividad que conlleva el riesgo se ejecuta de 3 a 24 veces por año | E10: =+IF(D10="","",IF(D10=$Q$7,$T$7,IF(D10=$Q$8,$T$8,IF(D10=$Q$9,$T$9,IF(D10=$Q$10,$T$10,IF(D10=$Q$11,$T$11)))))) -> 0.4 | F10: =+IF(D10="","",IF(D10=$Q$7,$P$7,IF(D10=$Q$8,$P$8,IF(D10=$Q$9,$P$9,IF(D10=$Q$10,$P$10,IF(D10=$Q$11,$P$11)))))) -> Baja | G10: Entre 100 y 500 SMLMV | H10: =+IF(G10="","",IF(G10="N/A","",IF(OR(G10=$X$7,G10=$Y$7),$W$7,IF(OR(G10=$X$8,G10=$Y$8),$W$8,IF(OR(G10=$X$9,G10=$Y$9),$W$9,IF(OR(G10=$X$10,G10=$Y$10),$W$10,IF(OR(G10=$X$11,G10=$Y$11),$W$11))))))) -> 0.8 | I10: =+IF(G10="","",IF(G10="N/A","",IF(OR(G10=$X$7,G10=$Y$7),$V$7,IF(OR(G10=$X$8,G10=$Y$8),$V$8,IF(OR(G10=$X$9,G10=$Y$9),$V$9,IF(OR(G10=$X$10,G10=$Y$10),$V$10,IF(OR(G10=$X$11,G10=$Y$11),$V$11))))))) -> Mayor | J10: El riesgo afecta la imagen de la entidad con algunos usuarios de relevancia frente al logro de los objetivos. | K10: =+IF(J10="","",IF(J10="N/A","",IF(OR(J10=$X$7,J10=$Y$7),$W$7,IF(OR(J10=$X$8,J10=$Y$8),$W$8,IF(OR(J10=$X$9,J10=$Y$9),$W$9,IF(OR(J10=$X$10,J10=$Y$10),$W$10,IF(OR(J10=$X$11,J10=$Y$11),$W$11))))))) -> 0.6 | L10: =+IF(J10="","",IF(J10="N/A","",IF(OR(J10=$X$7,J10=$Y$7),$V$7,IF(OR(J10=$X$8,J10=$Y$8),$V$8,IF(OR(J10=$X$9,J10=$Y$9),$V$9,IF(OR(J10=$X$10,J10=$Y$10),$V$10,IF(OR(J10=$X$11,J10=$Y$11),$V$11))))))) -> Moderado | M10: =+IF(H10="",K10,IF(K10="",H10,IF(H10>K10,H10,K10))) -> 0.8 | N10: =+IF(M10="","",IF(M10=$W$7,$V$7,IF(M10=$W$8,$V$8,IF(M10=$W$9,$V$9,IF(M10=$W$10,$V$10,IF(M10=$W$11,$V$11)))))) -> Mayor | P10: Alta | Q10: La actividad que conlleva el riesgo se ejecuta mínimo 500 veces al año y máximo 5.000 veces por año | R10: 5001 | S10: 5000 | T10: 0.8 | V10: Mayor | W10: 0.8 | X10: Entre 100 y 500 SMLMV | Y10: El riesgo afecta la imagen de la entidad con efecto publicitario sostenido a nivel de sector administrativo, nivel departamental o municipal.
A11: ='2 CONTEXTO E IDENTIFICACIÓN'!A9 -> R4 | B11: =+'2 CONTEXTO E IDENTIFICACIÓN'!E9 -> Posibilidad de pérdida Económica y Reputacional Por la captacion del caudal de las plantas de tratamiento de los municipios por encima del lt/s consecionados Debido a la falta de medicion en el sistema de las bocatomas | C11: 365 | D11: =+IF(C11="","",IF(C11<=$S$7,$Q$7,IF(C11<=$S$8,$Q$8,IF(C11<=$S$9,$Q$9,IF(C11<=$S$10,$Q$10,IF(C11>=$R$11,$Q$11,"")))))) -> La actividad que conlleva el riesgo se ejecuta de 24 a 500 veces por año | E11: =+IF(D11="","",IF(D11=$Q$7,$T$7,IF(D11=$Q$8,$T$8,IF(D11=$Q$9,$T$9,IF(D11=$Q$10,$T$10,IF(D11=$Q$11,$T$11)))))) -> 0.6 | F11: =+IF(D11="","",IF(D11=$Q$7,$P$7,IF(D11=$Q$8,$P$8,IF(D11=$Q$9,$P$9,IF(D11=$Q$10,$P$10,IF(D11=$Q$11,$P$11)))))) -> Media | G11: Entre 100 y 500 SMLMV | H11: =+IF(G11="","",IF(G11="N/A","",IF(OR(G11=$X$7,G11=$Y$7),$W$7,IF(OR(G11=$X$8,G11=$Y$8),$W$8,IF(OR(G11=$X$9,G11=$Y$9),$W$9,IF(OR(G11=$X$10,G11=$Y$10),$W$10,IF(OR(G11=$X$11,G11=$Y$11),$W$11))))))) -> 0.8 | I11: =+IF(G11="","",IF(G11="N/A","",IF(OR(G11=$X$7,G11=$Y$7),$V$7,IF(OR(G11=$X$8,G11=$Y$8),$V$8,IF(OR(G11=$X$9,G11=$Y$9),$V$9,IF(OR(G11=$X$10,G11=$Y$10),$V$10,IF(OR(G11=$X$11,G11=$Y$11),$V$11))))))) -> Mayor | J11: El riesgo afecta la imagen de la entidad con efecto publicitario sostenido a nivel de sector administrativo, nivel departamental o municipal. | K11: =+IF(J11="","",IF(J11="N/A","",IF(OR(J11=$X$7,J11=$Y$7),$W$7,IF(OR(J11=$X$8,J11=$Y$8),$W$8,IF(OR(J11=$X$9,J11=$Y$9),$W$9,IF(OR(J11=$X$10,J11=$Y$10),$W$10,IF(OR(J11=$X$11,J11=$Y$11),$W$11))))))) -> 0.8 | L11: =+IF(J11="","",IF(J11="N/A","",IF(OR(J11=$X$7,J11=$Y$7),$V$7,IF(OR(J11=$X$8,J11=$Y$8),$V$8,IF(OR(J11=$X$9,J11=$Y$9),$V$9,IF(OR(J11=$X$10,J11=$Y$10),$V$10,IF(OR(J11=$X$11,J11=$Y$11),$V$11))))))) -> Mayor | M11: =+IF(H11="",K11,IF(K11="",H11,IF(H11>K11,H11,K11))) -> 0.8 | N11: =+IF(M11="","",IF(M11=$W$7,$V$7,IF(M11=$W$8,$V$8,IF(M11=$W$9,$V$9,IF(M11=$W$10,$V$10,IF(M11=$W$11,$V$11)))))) -> Mayor | P11: Muy Alta | Q11: La actividad que conlleva el riesgo se ejecuta más de 5.000 veces por año | R11: 5001 | T11: 1 | V11: Catastrófico | W11: 1 | X11: Mayor a 500 SMLMV | Y11: El riesgo afecta la imagen de la entidad a nivel nacional, con efecto publicitario sostenido a nivel país
A12: ='2 CONTEXTO E IDENTIFICACIÓN'!A10 -> R5 | B12: =+'2 CONTEXTO E IDENTIFICACIÓN'!E10 -> Posibilidad de pérdida Económica y Reputacional por condiciones de calidad de agua cruda que no permite tratabilidad y afectaciones de tipo climático debido a crecientes que generan arrastre de solidos y elevacion en los niveles de turbierdad en agua cruda | C12: 150 | D12: =+IF(C12="","",IF(C12<=$S$7,$Q$7,IF(C12<=$S$8,$Q$8,IF(C12<=$S$9,$Q$9,IF(C12<=$S$10,$Q$10,IF(C12>=$R$11,$Q$11,"")))))) -> La actividad que conlleva el riesgo se ejecuta de 24 a 500 veces por año | E12: =+IF(D12="","",IF(D12=$Q$7,$T$7,IF(D12=$Q$8,$T$8,IF(D12=$Q$9,$T$9,IF(D12=$Q$10,$T$10,IF(D12=$Q$11,$T$11)))))) -> 0.6 | F12: =+IF(D12="","",IF(D12=$Q$7,$P$7,IF(D12=$Q$8,$P$8,IF(D12=$Q$9,$P$9,IF(D12=$Q$10,$P$10,IF(D12=$Q$11,$P$11)))))) -> Media | G12: Entre 10 y 50 SMLMV | H12: =+IF(G12="","",IF(G12="N/A","",IF(OR(G12=$X$7,G12=$Y$7),$W$7,IF(OR(G12=$X$8,G12=$Y$8),$W$8,IF(OR(G12=$X$9,G12=$Y$9),$W$9,IF(OR(G12=$X$10,G12=$Y$10),$W$10,IF(OR(G12=$X$11,G12=$Y$11),$W$11))))))) -> 0.4 | I12: =+IF(G12="","",IF(G12="N/A","",IF(OR(G12=$X$7,G12=$Y$7),$V$7,IF(OR(G12=$X$8,G12=$Y$8),$V$8,IF(OR(G12=$X$9,G12=$Y$9),$V$9,IF(OR(G12=$X$10,G12=$Y$10),$V$10,IF(OR(G12=$X$11,G12=$Y$11),$V$11))))))) -> Menor | J12: El riesgo afecta la imagen de la entidad con efecto publicitario sostenido a nivel de sector administrativo, nivel departamental o municipal. | K12: =+IF(J12="","",IF(J12="N/A","",IF(OR(J12=$X$7,J12=$Y$7),$W$7,IF(OR(J12=$X$8,J12=$Y$8),$W$8,IF(OR(J12=$X$9,J12=$Y$9),$W$9,IF(OR(J12=$X$10,J12=$Y$10),$W$10,IF(OR(J12=$X$11,J12=$Y$11),$W$11))))))) -> 0.8 | L12: =+IF(J12="","",IF(J12="N/A","",IF(OR(J12=$X$7,J12=$Y$7),$V$7,IF(OR(J12=$X$8,J12=$Y$8),$V$8,IF(OR(J12=$X$9,J12=$Y$9),$V$9,IF(OR(J12=$X$10,J12=$Y$10),$V$10,IF(OR(J12=$X$11,J12=$Y$11),$V$11))))))) -> Mayor | M12: =+IF(H12="",K12,IF(K12="",H12,IF(H12>K12,H12,K12))) -> 0.8 | N12: =+IF(M12="","",IF(M12=$W$7,$V$7,IF(M12=$W$8,$V$8,IF(M12=$W$9,$V$9,IF(M12=$W$10,$V$10,IF(M12=$W$11,$V$11)))))) -> Mayor | X12: N/A | Y12: N/A
A13: ='2 CONTEXTO E IDENTIFICACIÓN'!A11 -> R6 | B13: =+'2 CONTEXTO E IDENTIFICACIÓN'!E11 -> Posibilidad de pérdida Económica y Reputacional por el aumento en el índice de agua no contabilizada por pérdidas técnicas debido a la infraestructura de produccion ,almacenameinto y distribucion en condiciones inadecuadas, y la reparación inoportuna de fugas y daños en las redes de acueducto. | C13: 365 | D13: =+IF(C13="","",IF(C13<=$S$7,$Q$7,IF(C13<=$S$8,$Q$8,IF(C13<=$S$9,$Q$9,IF(C13<=$S$10,$Q$10,IF(C13>=$R$11,$Q$11,"")))))) -> La actividad que conlleva el riesgo se ejecuta de 24 a 500 veces por año | E13: =+IF(D13="","",IF(D13=$Q$7,$T$7,IF(D13=$Q$8,$T$8,IF(D13=$Q$9,$T$9,IF(D13=$Q$10,$T$10,IF(D13=$Q$11,$T$11)))))) -> 0.6 | F13: =+IF(D13="","",IF(D13=$Q$7,$P$7,IF(D13=$Q$8,$P$8,IF(D13=$Q$9,$P$9,IF(D13=$Q$10,$P$10,IF(D13=$Q$11,$P$11)))))) -> Media | G13: Entre 50 y 100 SMLMV | H13: =+IF(G13="","",IF(G13="N/A","",IF(OR(G13=$X$7,G13=$Y$7),$W$7,IF(OR(G13=$X$8,G13=$Y$8),$W$8,IF(OR(G13=$X$9,G13=$Y$9),$W$9,IF(OR(G13=$X$10,G13=$Y$10),$W$10,IF(OR(G13=$X$11,G13=$Y$11),$W$11))))))) -> 0.6 | I13: =+IF(G13="","",IF(G13="N/A","",IF(OR(G13=$X$7,G13=$Y$7),$V$7,IF(OR(G13=$X$8,G13=$Y$8),$V$8,IF(OR(G13=$X$9,G13=$Y$9),$V$9,IF(OR(G13=$X$10,G13=$Y$10),$V$10,IF(OR(G13=$X$11,G13=$Y$11),$V$11))))))) -> Moderado | J13: El riesgo afecta la imagen de la entidad con efecto publicitario sostenido a nivel de sector administrativo, nivel departamental o municipal. | K13: =+IF(J13="","",IF(J13="N/A","",IF(OR(J13=$X$7,J13=$Y$7),$W$7,IF(OR(J13=$X$8,J13=$Y$8),$W$8,IF(OR(J13=$X$9,J13=$Y$9),$W$9,IF(OR(J13=$X$10,J13=$Y$10),$W$10,IF(OR(J13=$X$11,J13=$Y$11),$W$11))))))) -> 0.8 | L13: =+IF(J13="","",IF(J13="N/A","",IF(OR(J13=$X$7,J13=$Y$7),$V$7,IF(OR(J13=$X$8,J13=$Y$8),$V$8,IF(OR(J13=$X$9,J13=$Y$9),$V$9,IF(OR(J13=$X$10,J13=$Y$10),$V$10,IF(OR(J13=$X$11,J13=$Y$11),$V$11))))))) -> Mayor | M13: =+IF(H13="",K13,IF(K13="",H13,IF(H13>K13,H13,K13))) -> 0.8 | N13: =+IF(M13="","",IF(M13=$W$7,$V$7,IF(M13=$W$8,$V$8,IF(M13=$W$9,$V$9,IF(M13=$W$10,$V$10,IF(M13=$W$11,$V$11)))))) -> Mayor
A14: ='2 CONTEXTO E IDENTIFICACIÓN'!A12 -> R7 | B14: =+'2 CONTEXTO E IDENTIFICACIÓN'!E12 -> Posibilidad de pérdida Económica y Reputacional por la atención inoportuna de las solicitudes de reparación de acueducto debido a la falta de seguimiento a las ordenes de trabajo generadas, falta de personal operativo para los grupos de trabajo y falta de asignación de recursos o de disponibilidad de materiales. | C14: 365 | D14: =+IF(C14="","",IF(C14<=$S$7,$Q$7,IF(C14<=$S$8,$Q$8,IF(C14<=$S$9,$Q$9,IF(C14<=$S$10,$Q$10,IF(C14>=$R$11,$Q$11,"")))))) -> La actividad que conlleva el riesgo se ejecuta de 24 a 500 veces por año | E14: =+IF(D14="","",IF(D14=$Q$7,$T$7,IF(D14=$Q$8,$T$8,IF(D14=$Q$9,$T$9,IF(D14=$Q$10,$T$10,IF(D14=$Q$11,$T$11)))))) -> 0.6 | F14: =+IF(D14="","",IF(D14=$Q$7,$P$7,IF(D14=$Q$8,$P$8,IF(D14=$Q$9,$P$9,IF(D14=$Q$10,$P$10,IF(D14=$Q$11,$P$11)))))) -> Media | G14: Entre 10 y 50 SMLMV | H14: =+IF(G14="","",IF(G14="N/A","",IF(OR(G14=$X$7,G14=$Y$7),$W$7,IF(OR(G14=$X$8,G14=$Y$8),$W$8,IF(OR(G14=$X$9,G14=$Y$9),$W$9,IF(OR(G14=$X$10,G14=$Y$10),$W$10,IF(OR(G14=$X$11,G14=$Y$11),$W$11))))))) -> 0.4 | I14: =+IF(G14="","",IF(G14="N/A","",IF(OR(G14=$X$7,G14=$Y$7),$V$7,IF(OR(G14=$X$8,G14=$Y$8),$V$8,IF(OR(G14=$X$9,G14=$Y$9),$V$9,IF(OR(G14=$X$10,G14=$Y$10),$V$10,IF(OR(G14=$X$11,G14=$Y$11),$V$11))))))) -> Menor | J14: El riesgo afecta la imagen de la entidad con algunos usuarios de relevancia frente al logro de los objetivos. | K14: =+IF(J14="","",IF(J14="N/A","",IF(OR(J14=$X$7,J14=$Y$7),$W$7,IF(OR(J14=$X$8,J14=$Y$8),$W$8,IF(OR(J14=$X$9,J14=$Y$9),$W$9,IF(OR(J14=$X$10,J14=$Y$10),$W$10,IF(OR(J14=$X$11,J14=$Y$11),$W$11))))))) -> 0.6 | L14: =+IF(J14="","",IF(J14="N/A","",IF(OR(J14=$X$7,J14=$Y$7),$V$7,IF(OR(J14=$X$8,J14=$Y$8),$V$8,IF(OR(J14=$X$9,J14=$Y$9),$V$9,IF(OR(J14=$X$10,J14=$Y$10),$V$10,IF(OR(J14=$X$11,J14=$Y$11),$V$11))))))) -> Moderado | M14: =+IF(H14="",K14,IF(K14="",H14,IF(H14>K14,H14,K14))) -> 0.6 | N14: =+IF(M14="","",IF(M14=$W$7,$V$7,IF(M14=$W$8,$V$8,IF(M14=$W$9,$V$9,IF(M14=$W$10,$V$10,IF(M14=$W$11,$V$11)))))) -> Moderado
A15: ='2 CONTEXTO E IDENTIFICACIÓN'!A13 -> R10 | B15: =+'2 CONTEXTO E IDENTIFICACIÓN'!E13 | D15: =+IF(C15="","",IF(C15<=$S$7,$Q$7,IF(C15<=$S$8,$Q$8,IF(C15<=$S$9,$Q$9,IF(C15<=$S$10,$Q$10,IF(C15>=$R$11,$Q$11,"")))))) | E15: =+IF(D15="","",IF(D15=$Q$7,$T$7,IF(D15=$Q$8,$T$8,IF(D15=$Q$9,$T$9,IF(D15=$Q$10,$T$10,IF(D15=$Q$11,$T$11)))))) | F15: =+IF(D15="","",IF(D15=$Q$7,$P$7,IF(D15=$Q$8,$P$8,IF(D15=$Q$9,$P$9,IF(D15=$Q$10,$P$10,IF(D15=$Q$11,$P$11)))))) | H15: =+IF(G15="","",IF(G15="N/A","",IF(OR(G15=$X$7,G15=$Y$7),$W$7,IF(OR(G15=$X$8,G15=$Y$8),$W$8,IF(OR(G15=$X$9,G15=$Y$9),$W$9,IF(OR(G15=$X$10,G15=$Y$10),$W$10,IF(OR(G15=$X$11,G15=$Y$11),$W$11))))))) | I15: =+IF(G15="","",IF(G15="N/A","",IF(OR(G15=$X$7,G15=$Y$7),$V$7,IF(OR(G15=$X$8,G15=$Y$8),$V$8,IF(OR(G15=$X$9,G15=$Y$9),$V$9,IF(OR(G15=$X$10,G15=$Y$10),$V$10,IF(OR(G15=$X$11,G15=$Y$11),$V$11))))))) | K15: =+IF(J15="","",IF(J15="N/A","",IF(OR(J15=$X$7,J15=$Y$7),$W$7,IF(OR(J15=$X$8,J15=$Y$8),$W$8,IF(OR(J15=$X$9,J15=$Y$9),$W$9,IF(OR(J15=$X$10,J15=$Y$10),$W$10,IF(OR(J15=$X$11,J15=$Y$11),$W$11))))))) | L15: =+IF(J15="","",IF(J15="N/A","",IF(OR(J15=$X$7,J15=$Y$7),$V$7,IF(OR(J15=$X$8,J15=$Y$8),$V$8,IF(OR(J15=$X$9,J15=$Y$9),$V$9,IF(OR(J15=$X$10,J15=$Y$10),$V$10,IF(OR(J15=$X$11,J15=$Y$11),$V$11))))))) | M15: =+IF(H15="",K15,IF(K15="",H15,IF(H15>K15,H15,K15))) | N15: =+IF(M15="","",IF(M15=$W$7,$V$7,IF(M15=$W$8,$V$8,IF(M15=$W$9,$V$9,IF(M15=$W$10,$V$10,IF(M15=$W$11,$V$11))))))
A16: ='2 CONTEXTO E IDENTIFICACIÓN'!A14 -> R11 | B16: =+'2 CONTEXTO E IDENTIFICACIÓN'!E14 | D16: =+IF(C16="","",IF(C16<=$S$7,$Q$7,IF(C16<=$S$8,$Q$8,IF(C16<=$S$9,$Q$9,IF(C16<=$S$10,$Q$10,IF(C16>=$R$11,$Q$11,"")))))) | E16: =+IF(D16="","",IF(D16=$Q$7,$T$7,IF(D16=$Q$8,$T$8,IF(D16=$Q$9,$T$9,IF(D16=$Q$10,$T$10,IF(D16=$Q$11,$T$11)))))) | F16: =+IF(D16="","",IF(D16=$Q$7,$P$7,IF(D16=$Q$8,$P$8,IF(D16=$Q$9,$P$9,IF(D16=$Q$10,$P$10,IF(D16=$Q$11,$P$11)))))) | H16: =+IF(G16="","",IF(G16="N/A","",IF(OR(G16=$X$7,G16=$Y$7),$W$7,IF(OR(G16=$X$8,G16=$Y$8),$W$8,IF(OR(G16=$X$9,G16=$Y$9),$W$9,IF(OR(G16=$X$10,G16=$Y$10),$W$10,IF(OR(G16=$X$11,G16=$Y$11),$W$11))))))) | I16: =+IF(G16="","",IF(G16="N/A","",IF(OR(G16=$X$7,G16=$Y$7),$V$7,IF(OR(G16=$X$8,G16=$Y$8),$V$8,IF(OR(G16=$X$9,G16=$Y$9),$V$9,IF(OR(G16=$X$10,G16=$Y$10),$V$10,IF(OR(G16=$X$11,G16=$Y$11),$V$11))))))) | K16: =+IF(J16="","",IF(J16="N/A","",IF(OR(J16=$X$7,J16=$Y$7),$W$7,IF(OR(J16=$X$8,J16=$Y$8),$W$8,IF(OR(J16=$X$9,J16=$Y$9),$W$9,IF(OR(J16=$X$10,J16=$Y$10),$W$10,IF(OR(J16=$X$11,J16=$Y$11),$W$11))))))) | L16: =+IF(J16="","",IF(J16="N/A","",IF(OR(J16=$X$7,J16=$Y$7),$V$7,IF(OR(J16=$X$8,J16=$Y$8),$V$8,IF(OR(J16=$X$9,J16=$Y$9),$V$9,IF(OR(J16=$X$10,J16=$Y$10),$V$10,IF(OR(J16=$X$11,J16=$Y$11),$V$11))))))) | M16: =+IF(H16="",K16,IF(K16="",H16,IF(H16>K16,H16,K16))) | N16: =+IF(M16="","",IF(M16=$W$7,$V$7,IF(M16=$W$8,$V$8,IF(M16=$W$9,$V$9,IF(M16=$W$10,$V$10,IF(M16=$W$11,$V$11))))))
A17: ='2 CONTEXTO E IDENTIFICACIÓN'!A15 -> R12 | B17: =+'2 CONTEXTO E IDENTIFICACIÓN'!E15 | D17: =+IF(C17="","",IF(C17<=$S$7,$Q$7,IF(C17<=$S$8,$Q$8,IF(C17<=$S$9,$Q$9,IF(C17<=$S$10,$Q$10,IF(C17>=$R$11,$Q$11,"")))))) | E17: =+IF(D17="","",IF(D17=$Q$7,$T$7,IF(D17=$Q$8,$T$8,IF(D17=$Q$9,$T$9,IF(D17=$Q$10,$T$10,IF(D17=$Q$11,$T$11)))))) | F17: =+IF(D17="","",IF(D17=$Q$7,$P$7,IF(D17=$Q$8,$P$8,IF(D17=$Q$9,$P$9,IF(D17=$Q$10,$P$10,IF(D17=$Q$11,$P$11)))))) | H17: =+IF(G17="","",IF(G17="N/A","",IF(OR(G17=$X$7,G17=$Y$7),$W$7,IF(OR(G17=$X$8,G17=$Y$8),$W$8,IF(OR(G17=$X$9,G17=$Y$9),$W$9,IF(OR(G17=$X$10,G17=$Y$10),$W$10,IF(OR(G17=$X$11,G17=$Y$11),$W$11))))))) | I17: =+IF(G17="","",IF(G17="N/A","",IF(OR(G17=$X$7,G17=$Y$7),$V$7,IF(OR(G17=$X$8,G17=$Y$8),$V$8,IF(OR(G17=$X$9,G17=$Y$9),$V$9,IF(OR(G17=$X$10,G17=$Y$10),$V$10,IF(OR(G17=$X$11,G17=$Y$11),$V$11))))))) | K17: =+IF(J17="","",IF(J17="N/A","",IF(OR(J17=$X$7,J17=$Y$7),$W$7,IF(OR(J17=$X$8,J17=$Y$8),$W$8,IF(OR(J17=$X$9,J17=$Y$9),$W$9,IF(OR(J17=$X$10,J17=$Y$10),$W$10,IF(OR(J17=$X$11,J17=$Y$11),$W$11))))))) | L17: =+IF(J17="","",IF(J17="N/A","",IF(OR(J17=$X$7,J17=$Y$7),$V$7,IF(OR(J17=$X$8,J17=$Y$8),$V$8,IF(OR(J17=$X$9,J17=$Y$9),$V$9,IF(OR(J17=$X$10,J17=$Y$10),$V$10,IF(OR(J17=$X$11,J17=$Y$11),$V$11))))))) | M17: =+IF(H17="",K17,IF(K17="",H17,IF(H17>K17,H17,K17))) | N17: =+IF(M17="","",IF(M17=$W$7,$V$7,IF(M17=$W$8,$V$8,IF(M17=$W$9,$V$9,IF(M17=$W$10,$V$10,IF(M17=$W$11,$V$11))))))
A18: ='2 CONTEXTO E IDENTIFICACIÓN'!A16 -> R13 | B18: =+'2 CONTEXTO E IDENTIFICACIÓN'!E16 | D18: =+IF(C18="","",IF(C18<=$S$7,$Q$7,IF(C18<=$S$8,$Q$8,IF(C18<=$S$9,$Q$9,IF(C18<=$S$10,$Q$10,IF(C18>=$R$11,$Q$11,"")))))) | E18: =+IF(D18="","",IF(D18=$Q$7,$T$7,IF(D18=$Q$8,$T$8,IF(D18=$Q$9,$T$9,IF(D18=$Q$10,$T$10,IF(D18=$Q$11,$T$11)))))) | F18: =+IF(D18="","",IF(D18=$Q$7,$P$7,IF(D18=$Q$8,$P$8,IF(D18=$Q$9,$P$9,IF(D18=$Q$10,$P$10,IF(D18=$Q$11,$P$11)))))) | H18: =+IF(G18="","",IF(G18="N/A","",IF(OR(G18=$X$7,G18=$Y$7),$W$7,IF(OR(G18=$X$8,G18=$Y$8),$W$8,IF(OR(G18=$X$9,G18=$Y$9),$W$9,IF(OR(G18=$X$10,G18=$Y$10),$W$10,IF(OR(G18=$X$11,G18=$Y$11),$W$11))))))) | I18: =+IF(G18="","",IF(G18="N/A","",IF(OR(G18=$X$7,G18=$Y$7),$V$7,IF(OR(G18=$X$8,G18=$Y$8),$V$8,IF(OR(G18=$X$9,G18=$Y$9),$V$9,IF(OR(G18=$X$10,G18=$Y$10),$V$10,IF(OR(G18=$X$11,G18=$Y$11),$V$11))))))) | K18: =+IF(J18="","",IF(J18="N/A","",IF(OR(J18=$X$7,J18=$Y$7),$W$7,IF(OR(J18=$X$8,J18=$Y$8),$W$8,IF(OR(J18=$X$9,J18=$Y$9),$W$9,IF(OR(J18=$X$10,J18=$Y$10),$W$10,IF(OR(J18=$X$11,J18=$Y$11),$W$11))))))) | L18: =+IF(J18="","",IF(J18="N/A","",IF(OR(J18=$X$7,J18=$Y$7),$V$7,IF(OR(J18=$X$8,J18=$Y$8),$V$8,IF(OR(J18=$X$9,J18=$Y$9),$V$9,IF(OR(J18=$X$10,J18=$Y$10),$V$10,IF(OR(J18=$X$11,J18=$Y$11),$V$11))))))) | M18: =+IF(H18="",K18,IF(K18="",H18,IF(H18>K18,H18,K18))) | N18: =+IF(M18="","",IF(M18=$W$7,$V$7,IF(M18=$W$8,$V$8,IF(M18=$W$9,$V$9,IF(M18=$W$10,$V$10,IF(M18=$W$11,$V$11))))))
A19: ='2 CONTEXTO E IDENTIFICACIÓN'!A17 -> R14 | B19: =+'2 CONTEXTO E IDENTIFICACIÓN'!E17 | D19: =+IF(C19="","",IF(C19<=$S$7,$Q$7,IF(C19<=$S$8,$Q$8,IF(C19<=$S$9,$Q$9,IF(C19<=$S$10,$Q$10,IF(C19>=$R$11,$Q$11,"")))))) | E19: =+IF(D19="","",IF(D19=$Q$7,$T$7,IF(D19=$Q$8,$T$8,IF(D19=$Q$9,$T$9,IF(D19=$Q$10,$T$10,IF(D19=$Q$11,$T$11)))))) | F19: =+IF(D19="","",IF(D19=$Q$7,$P$7,IF(D19=$Q$8,$P$8,IF(D19=$Q$9,$P$9,IF(D19=$Q$10,$P$10,IF(D19=$Q$11,$P$11)))))) | H19: =+IF(G19="","",IF(G19="N/A","",IF(OR(G19=$X$7,G19=$Y$7),$W$7,IF(OR(G19=$X$8,G19=$Y$8),$W$8,IF(OR(G19=$X$9,G19=$Y$9),$W$9,IF(OR(G19=$X$10,G19=$Y$10),$W$10,IF(OR(G19=$X$11,G19=$Y$11),$W$11))))))) | I19: =+IF(G19="","",IF(G19="N/A","",IF(OR(G19=$X$7,G19=$Y$7),$V$7,IF(OR(G19=$X$8,G19=$Y$8),$V$8,IF(OR(G19=$X$9,G19=$Y$9),$V$9,IF(OR(G19=$X$10,G19=$Y$10),$V$10,IF(OR(G19=$X$11,G19=$Y$11),$V$11))))))) | K19: =+IF(J19="","",IF(J19="N/A","",IF(OR(J19=$X$7,J19=$Y$7),$W$7,IF(OR(J19=$X$8,J19=$Y$8),$W$8,IF(OR(J19=$X$9,J19=$Y$9),$W$9,IF(OR(J19=$X$10,J19=$Y$10),$W$10,IF(OR(J19=$X$11,J19=$Y$11),$W$11))))))) | L19: =+IF(J19="","",IF(J19="N/A","",IF(OR(J19=$X$7,J19=$Y$7),$V$7,IF(OR(J19=$X$8,J19=$Y$8),$V$8,IF(OR(J19=$X$9,J19=$Y$9),$V$9,IF(OR(J19=$X$10,J19=$Y$10),$V$10,IF(OR(J19=$X$11,J19=$Y$11),$V$11))))))) | M19: =+IF(H19="",K19,IF(K19="",H19,IF(H19>K19,H19,K19))) | N19: =+IF(M19="","",IF(M19=$W$7,$V$7,IF(M19=$W$8,$V$8,IF(M19=$W$9,$V$9,IF(M19=$W$10,$V$10,IF(M19=$W$11,$V$11))))))
A20: ='2 CONTEXTO E IDENTIFICACIÓN'!A18 -> R15 | B20: =+'2 CONTEXTO E IDENTIFICACIÓN'!E18 | D20: =+IF(C20="","",IF(C20<=$S$7,$Q$7,IF(C20<=$S$8,$Q$8,IF(C20<=$S$9,$Q$9,IF(C20<=$S$10,$Q$10,IF(C20>=$R$11,$Q$11,"")))))) | E20: =+IF(D20="","",IF(D20=$Q$7,$T$7,IF(D20=$Q$8,$T$8,IF(D20=$Q$9,$T$9,IF(D20=$Q$10,$T$10,IF(D20=$Q$11,$T$11)))))) | F20: =+IF(D20="","",IF(D20=$Q$7,$P$7,IF(D20=$Q$8,$P$8,IF(D20=$Q$9,$P$9,IF(D20=$Q$10,$P$10,IF(D20=$Q$11,$P$11)))))) | H20: =+IF(G20="","",IF(G20="N/A","",IF(OR(G20=$X$7,G20=$Y$7),$W$7,IF(OR(G20=$X$8,G20=$Y$8),$W$8,IF(OR(G20=$X$9,G20=$Y$9),$W$9,IF(OR(G20=$X$10,G20=$Y$10),$W$10,IF(OR(G20=$X$11,G20=$Y$11),$W$11))))))) | I20: =+IF(G20="","",IF(G20="N/A","",IF(OR(G20=$X$7,G20=$Y$7),$V$7,IF(OR(G20=$X$8,G20=$Y$8),$V$8,IF(OR(G20=$X$9,G20=$Y$9),$V$9,IF(OR(G20=$X$10,G20=$Y$10),$V$10,IF(OR(G20=$X$11,G20=$Y$11),$V$11))))))) | K20: =+IF(J20="","",IF(J20="N/A","",IF(OR(J20=$X$7,J20=$Y$7),$W$7,IF(OR(J20=$X$8,J20=$Y$8),$W$8,IF(OR(J20=$X$9,J20=$Y$9),$W$9,IF(OR(J20=$X$10,J20=$Y$10),$W$10,IF(OR(J20=$X$11,J20=$Y$11),$W$11))))))) | L20: =+IF(J20="","",IF(J20="N/A","",IF(OR(J20=$X$7,J20=$Y$7),$V$7,IF(OR(J20=$X$8,J20=$Y$8),$V$8,IF(OR(J20=$X$9,J20=$Y$9),$V$9,IF(OR(J20=$X$10,J20=$Y$10),$V$10,IF(OR(J20=$X$11,J20=$Y$11),$V$11))))))) | M20: =+IF(H20="",K20,IF(K20="",H20,IF(H20>K20,H20,K20))) | N20: =+IF(M20="","",IF(M20=$W$7,$V$7,IF(M20=$W$8,$V$8,IF(M20=$W$9,$V$9,IF(M20=$W$10,$V$10,IF(M20=$W$11,$V$11))))))
A21: ='2 CONTEXTO E IDENTIFICACIÓN'!A19 -> R16 | B21: =+'2 CONTEXTO E IDENTIFICACIÓN'!E19 | D21: =+IF(C21="","",IF(C21<=$S$7,$Q$7,IF(C21<=$S$8,$Q$8,IF(C21<=$S$9,$Q$9,IF(C21<=$S$10,$Q$10,IF(C21>=$R$11,$Q$11,"")))))) | E21: =+IF(D21="","",IF(D21=$Q$7,$T$7,IF(D21=$Q$8,$T$8,IF(D21=$Q$9,$T$9,IF(D21=$Q$10,$T$10,IF(D21=$Q$11,$T$11)))))) | F21: =+IF(D21="","",IF(D21=$Q$7,$P$7,IF(D21=$Q$8,$P$8,IF(D21=$Q$9,$P$9,IF(D21=$Q$10,$P$10,IF(D21=$Q$11,$P$11)))))) | H21: =+IF(G21="","",IF(G21="N/A","",IF(OR(G21=$X$7,G21=$Y$7),$W$7,IF(OR(G21=$X$8,G21=$Y$8),$W$8,IF(OR(G21=$X$9,G21=$Y$9),$W$9,IF(OR(G21=$X$10,G21=$Y$10),$W$10,IF(OR(G21=$X$11,G21=$Y$11),$W$11))))))) | I21: =+IF(G21="","",IF(G21="N/A","",IF(OR(G21=$X$7,G21=$Y$7),$V$7,IF(OR(G21=$X$8,G21=$Y$8),$V$8,IF(OR(G21=$X$9,G21=$Y$9),$V$9,IF(OR(G21=$X$10,G21=$Y$10),$V$10,IF(OR(G21=$X$11,G21=$Y$11),$V$11))))))) | K21: =+IF(J21="","",IF(J21="N/A","",IF(OR(J21=$X$7,J21=$Y$7),$W$7,IF(OR(J21=$X$8,J21=$Y$8),$W$8,IF(OR(J21=$X$9,J21=$Y$9),$W$9,IF(OR(J21=$X$10,J21=$Y$10),$W$10,IF(OR(J21=$X$11,J21=$Y$11),$W$11))))))) | L21: =+IF(J21="","",IF(J21="N/A","",IF(OR(J21=$X$7,J21=$Y$7),$V$7,IF(OR(J21=$X$8,J21=$Y$8),$V$8,IF(OR(J21=$X$9,J21=$Y$9),$V$9,IF(OR(J21=$X$10,J21=$Y$10),$V$10,IF(OR(J21=$X$11,J21=$Y$11),$V$11))))))) | M21: =+IF(H21="",K21,IF(K21="",H21,IF(H21>K21,H21,K21))) | N21: =+IF(M21="","",IF(M21=$W$7,$V$7,IF(M21=$W$8,$V$8,IF(M21=$W$9,$V$9,IF(M21=$W$10,$V$10,IF(M21=$W$11,$V$11))))))
A22: ='2 CONTEXTO E IDENTIFICACIÓN'!A20 -> R17 | B22: =+'2 CONTEXTO E IDENTIFICACIÓN'!E20 | D22: =+IF(C22="","",IF(C22<=$S$7,$Q$7,IF(C22<=$S$8,$Q$8,IF(C22<=$S$9,$Q$9,IF(C22<=$S$10,$Q$10,IF(C22>=$R$11,$Q$11,"")))))) | E22: =+IF(D22="","",IF(D22=$Q$7,$T$7,IF(D22=$Q$8,$T$8,IF(D22=$Q$9,$T$9,IF(D22=$Q$10,$T$10,IF(D22=$Q$11,$T$11)))))) | F22: =+IF(D22="","",IF(D22=$Q$7,$P$7,IF(D22=$Q$8,$P$8,IF(D22=$Q$9,$P$9,IF(D22=$Q$10,$P$10,IF(D22=$Q$11,$P$11)))))) | H22: =+IF(G22="","",IF(G22="N/A","",IF(OR(G22=$X$7,G22=$Y$7),$W$7,IF(OR(G22=$X$8,G22=$Y$8),$W$8,IF(OR(G22=$X$9,G22=$Y$9),$W$9,IF(OR(G22=$X$10,G22=$Y$10),$W$10,IF(OR(G22=$X$11,G22=$Y$11),$W$11))))))) | I22: =+IF(G22="","",IF(G22="N/A","",IF(OR(G22=$X$7,G22=$Y$7),$V$7,IF(OR(G22=$X$8,G22=$Y$8),$V$8,IF(OR(G22=$X$9,G22=$Y$9),$V$9,IF(OR(G22=$X$10,G22=$Y$10),$V$10,IF(OR(G22=$X$11,G22=$Y$11),$V$11))))))) | K22: =+IF(J22="","",IF(J22="N/A","",IF(OR(J22=$X$7,J22=$Y$7),$W$7,IF(OR(J22=$X$8,J22=$Y$8),$W$8,IF(OR(J22=$X$9,J22=$Y$9),$W$9,IF(OR(J22=$X$10,J22=$Y$10),$W$10,IF(OR(J22=$X$11,J22=$Y$11),$W$11))))))) | L22: =+IF(J22="","",IF(J22="N/A","",IF(OR(J22=$X$7,J22=$Y$7),$V$7,IF(OR(J22=$X$8,J22=$Y$8),$V$8,IF(OR(J22=$X$9,J22=$Y$9),$V$9,IF(OR(J22=$X$10,J22=$Y$10),$V$10,IF(OR(J22=$X$11,J22=$Y$11),$V$11))))))) | M22: =+IF(H22="",K22,IF(K22="",H22,IF(H22>K22,H22,K22))) | N22: =+IF(M22="","",IF(M22=$W$7,$V$7,IF(M22=$W$8,$V$8,IF(M22=$W$9,$V$9,IF(M22=$W$10,$V$10,IF(M22=$W$11,$V$11))))))
A23: ='2 CONTEXTO E IDENTIFICACIÓN'!A21 -> R18 | B23: =+'2 CONTEXTO E IDENTIFICACIÓN'!E21 | D23: =+IF(C23="","",IF(C23<=$S$7,$Q$7,IF(C23<=$S$8,$Q$8,IF(C23<=$S$9,$Q$9,IF(C23<=$S$10,$Q$10,IF(C23>=$R$11,$Q$11,"")))))) | E23: =+IF(D23="","",IF(D23=$Q$7,$T$7,IF(D23=$Q$8,$T$8,IF(D23=$Q$9,$T$9,IF(D23=$Q$10,$T$10,IF(D23=$Q$11,$T$11)))))) | F23: =+IF(D23="","",IF(D23=$Q$7,$P$7,IF(D23=$Q$8,$P$8,IF(D23=$Q$9,$P$9,IF(D23=$Q$10,$P$10,IF(D23=$Q$11,$P$11)))))) | H23: =+IF(G23="","",IF(G23="N/A","",IF(OR(G23=$X$7,G23=$Y$7),$W$7,IF(OR(G23=$X$8,G23=$Y$8),$W$8,IF(OR(G23=$X$9,G23=$Y$9),$W$9,IF(OR(G23=$X$10,G23=$Y$10),$W$10,IF(OR(G23=$X$11,G23=$Y$11),$W$11))))))) | I23: =+IF(G23="","",IF(G23="N/A","",IF(OR(G23=$X$7,G23=$Y$7),$V$7,IF(OR(G23=$X$8,G23=$Y$8),$V$8,IF(OR(G23=$X$9,G23=$Y$9),$V$9,IF(OR(G23=$X$10,G23=$Y$10),$V$10,IF(OR(G23=$X$11,G23=$Y$11),$V$11))))))) | K23: =+IF(J23="","",IF(J23="N/A","",IF(OR(J23=$X$7,J23=$Y$7),$W$7,IF(OR(J23=$X$8,J23=$Y$8),$W$8,IF(OR(J23=$X$9,J23=$Y$9),$W$9,IF(OR(J23=$X$10,J23=$Y$10),$W$10,IF(OR(J23=$X$11,J23=$Y$11),$W$11))))))) | L23: =+IF(J23="","",IF(J23="N/A","",IF(OR(J23=$X$7,J23=$Y$7),$V$7,IF(OR(J23=$X$8,J23=$Y$8),$V$8,IF(OR(J23=$X$9,J23=$Y$9),$V$9,IF(OR(J23=$X$10,J23=$Y$10),$V$10,IF(OR(J23=$X$11,J23=$Y$11),$V$11))))))) | M23: =+IF(H23="",K23,IF(K23="",H23,IF(H23>K23,H23,K23))) | N23: =+IF(M23="","",IF(M23=$W$7,$V$7,IF(M23=$W$8,$V$8,IF(M23=$W$9,$V$9,IF(M23=$W$10,$V$10,IF(M23=$W$11,$V$11))))))
A24: ='2 CONTEXTO E IDENTIFICACIÓN'!A22 -> R19 | B24: =+'2 CONTEXTO E IDENTIFICACIÓN'!E22 | D24: =+IF(C24="","",IF(C24<=$S$7,$Q$7,IF(C24<=$S$8,$Q$8,IF(C24<=$S$9,$Q$9,IF(C24<=$S$10,$Q$10,IF(C24>=$R$11,$Q$11,"")))))) | E24: =+IF(D24="","",IF(D24=$Q$7,$T$7,IF(D24=$Q$8,$T$8,IF(D24=$Q$9,$T$9,IF(D24=$Q$10,$T$10,IF(D24=$Q$11,$T$11)))))) | F24: =+IF(D24="","",IF(D24=$Q$7,$P$7,IF(D24=$Q$8,$P$8,IF(D24=$Q$9,$P$9,IF(D24=$Q$10,$P$10,IF(D24=$Q$11,$P$11)))))) | H24: =+IF(G24="","",IF(G24="N/A","",IF(OR(G24=$X$7,G24=$Y$7),$W$7,IF(OR(G24=$X$8,G24=$Y$8),$W$8,IF(OR(G24=$X$9,G24=$Y$9),$W$9,IF(OR(G24=$X$10,G24=$Y$10),$W$10,IF(OR(G24=$X$11,G24=$Y$11),$W$11))))))) | I24: =+IF(G24="","",IF(G24="N/A","",IF(OR(G24=$X$7,G24=$Y$7),$V$7,IF(OR(G24=$X$8,G24=$Y$8),$V$8,IF(OR(G24=$X$9,G24=$Y$9),$V$9,IF(OR(G24=$X$10,G24=$Y$10),$V$10,IF(OR(G24=$X$11,G24=$Y$11),$V$11))))))) | K24: =+IF(J24="","",IF(J24="N/A","",IF(OR(J24=$X$7,J24=$Y$7),$W$7,IF(OR(J24=$X$8,J24=$Y$8),$W$8,IF(OR(J24=$X$9,J24=$Y$9),$W$9,IF(OR(J24=$X$10,J24=$Y$10),$W$10,IF(OR(J24=$X$11,J24=$Y$11),$W$11))))))) | L24: =+IF(J24="","",IF(J24="N/A","",IF(OR(J24=$X$7,J24=$Y$7),$V$7,IF(OR(J24=$X$8,J24=$Y$8),$V$8,IF(OR(J24=$X$9,J24=$Y$9),$V$9,IF(OR(J24=$X$10,J24=$Y$10),$V$10,IF(OR(J24=$X$11,J24=$Y$11),$V$11))))))) | M24: =+IF(H24="",K24,IF(K24="",H24,IF(H24>K24,H24,K24))) | N24: =+IF(M24="","",IF(M24=$W$7,$V$7,IF(M24=$W$8,$V$8,IF(M24=$W$9,$V$9,IF(M24=$W$10,$V$10,IF(M24=$W$11,$V$11))))))
A25: ='2 CONTEXTO E IDENTIFICACIÓN'!A23 -> R20 | B25: =+'2 CONTEXTO E IDENTIFICACIÓN'!E23 | D25: =+IF(C25="","",IF(C25<=$S$7,$Q$7,IF(C25<=$S$8,$Q$8,IF(C25<=$S$9,$Q$9,IF(C25<=$S$10,$Q$10,IF(C25>=$R$11,$Q$11,"")))))) | E25: =+IF(D25="","",IF(D25=$Q$7,$T$7,IF(D25=$Q$8,$T$8,IF(D25=$Q$9,$T$9,IF(D25=$Q$10,$T$10,IF(D25=$Q$11,$T$11)))))) | F25: =+IF(D25="","",IF(D25=$Q$7,$P$7,IF(D25=$Q$8,$P$8,IF(D25=$Q$9,$P$9,IF(D25=$Q$10,$P$10,IF(D25=$Q$11,$P$11)))))) | H25: =+IF(G25="","",IF(G25="N/A","",IF(OR(G25=$X$7,G25=$Y$7),$W$7,IF(OR(G25=$X$8,G25=$Y$8),$W$8,IF(OR(G25=$X$9,G25=$Y$9),$W$9,IF(OR(G25=$X$10,G25=$Y$10),$W$10,IF(OR(G25=$X$11,G25=$Y$11),$W$11))))))) | I25: =+IF(G25="","",IF(G25="N/A","",IF(OR(G25=$X$7,G25=$Y$7),$V$7,IF(OR(G25=$X$8,G25=$Y$8),$V$8,IF(OR(G25=$X$9,G25=$Y$9),$V$9,IF(OR(G25=$X$10,G25=$Y$10),$V$10,IF(OR(G25=$X$11,G25=$Y$11),$V$11))))))) | K25: =+IF(J25="","",IF(J25="N/A","",IF(OR(J25=$X$7,J25=$Y$7),$W$7,IF(OR(J25=$X$8,J25=$Y$8),$W$8,IF(OR(J25=$X$9,J25=$Y$9),$W$9,IF(OR(J25=$X$10,J25=$Y$10),$W$10,IF(OR(J25=$X$11,J25=$Y$11),$W$11))))))) | L25: =+IF(J25="","",IF(J25="N/A","",IF(OR(J25=$X$7,J25=$Y$7),$V$7,IF(OR(J25=$X$8,J25=$Y$8),$V$8,IF(OR(J25=$X$9,J25=$Y$9),$V$9,IF(OR(J25=$X$10,J25=$Y$10),$V$10,IF(OR(J25=$X$11,J25=$Y$11),$V$11))))))) | M25: =+IF(H25="",K25,IF(K25="",H25,IF(H25>K25,H25,K25))) | N25: =+IF(M25="","",IF(M25=$W$7,$V$7,IF(M25=$W$8,$V$8,IF(M25=$W$9,$V$9,IF(M25=$W$10,$V$10,IF(M25=$W$11,$V$11))))))

Sheet 4 MAPA CALOR INHERENTE
I1: =+'2 CONTEXTO E IDENTIFICACIÓN'!#REF! -> #REF! | J1: =+IF('2 CONTEXTO E IDENTIFICACIÓN'!#REF!="","",'2 CONTEXTO E IDENTIFICACIÓN'!#REF!) -> #REF! | K1: Al | L1: =+IF('2 CONTEXTO E IDENTIFICACIÓN'!#REF!="","",'2 CONTEXTO E IDENTIFICACIÓN'!#REF!) -> #REF!
A2: PROCESO: | B2: =+IF('2 CONTEXTO E IDENTIFICACIÓN'!$B$2="","",'2 CONTEXTO E IDENTIFICACIÓN'!$B$2) -> GESTIÓN DE SERVICIOS PUBLICOS
G4: MAPA DE CALOR RIESGO INHERENTE | R4: Impacto
C5: CALIFICACIÓN RIESGO INHERENTE | I5: Impacto | R5: 0.2 | S5: 0.4 | T5: 0.6 | U5: 0.8 | V5: 1
A6: No. DEL RIESGO | B6: RIESGO | C6: PROBABILIDAD | D6: IMPACTO | E6: SEVERIDAD (NIVEL DE RIESGO) | I6: Leve | J6: Menor | K6: Moderado | L6: Mayor | M6: Catastrófico | R6: Leve | S6: Menor | T6: Moderado | U6: Mayor | V6: Catastrófico
A7: ='2 CONTEXTO E IDENTIFICACIÓN'!A6 -> R1 | B7: =+'2 CONTEXTO E IDENTIFICACIÓN'!E6 -> Posibilidad de pérdida Económica y Reputacional por contaminación ambiental a causa de las descargas de aguas residuales debido a la falta de seguimiento y control a los vertimientos realizados por usuarios diferentes al residencial que hacen uso del alcantarillado público y a la infraestructura de las redes de alcantarillado en condiciones inadecuadas. | C7: =+'3 PROBABIL E IMPACTO INHERENTE'!F7 -> Baja | D7: =+'3 PROBABIL E IMPACTO INHERENTE'!N7 -> Mayor | E7: =+IF(C7=$Q$7,IF(D7=$R$6,$R$7,IF(D7=$S$6,$S$7,IF(D7=$T$6,$T$7,IF(D7=$U$6,$U$7,IF(D7=$V$6,$V$7))))),IF(C7=$Q$8,IF(D7=$R$6,$R$8,IF(D7=$S$6,$S$8,IF(D7=$T$6,$T$8,IF(D7=$U$6,$U$8,IF(D7=$V$6,$V$8))))),IF(C7=$Q$9,IF(D7=$R$6,$R$9,IF(D7=$S$6,$S$9,IF(D7=$T$6,$T$9,IF(D7=$U$6,$U$9,IF(D7=$V$6,$V$9))))),IF(C7=$Q$10,IF(D7=$R$6,$R$10,IF(D7=$S$6,$S$10,IF(D7=$T$6,$T$10,IF(D7=$U$6,$U$10,IF(D7=$V$6,$V$10))))),IF(C7=$Q$11,IF(D7=$R$6,$R$11,IF(D7=$S$6,$S$11,IF(D7=$T$6,$T$11,IF(D7=$U$6,$U$11,IF(D7=$V$6,$V$11))))),""))))) -> Alto | G7: Probabilidad | H7: Muy Alta | I7: =+IF(AND(C7=$Q$7,D7=$R$6),A7,"")&" "&IF(AND(C8=$Q$7,D8=$R$6),A8,"")&" "&IF(AND(C9=$Q$7,D9=$R$6),A9,"")&" "&IF(AND(C10=$Q$7,D10=$R$6),A10,"")&" "&IF(AND(C11=$Q$7,D11=$R$6),A11,"")&" "&IF(AND(C12=$Q$7,D12=$R$6),A12,"")&" "&IF(AND(C13=$Q$7,D13=$R$6),A13,"")&" "&IF(AND(C14=$Q$7,D14=$R$6),A14,"")&" "&IF(AND(C15=$Q$7,D15=$R$6),A15,"")&" "&IF(AND(C16=$Q$7,D16=$R$6),A16,"")&" "&IF(AND(C17=$Q$7,D17=$R$6),A17,"")&" "&IF(AND(C18=$Q$7,D18=$R$6),A18,"")&" "&IF(AND(C19=$Q$7,D19=$R$6),A19,"")&" "&IF(AND(C20=$Q$7,D20=$R$6),A20,"")&" "&IF(AND(C21=$Q$7,D21=$R$6),A21,"")&" "&IF(AND(C22=$Q$7,D22=$R$6),A22,"")&" "&IF(AND(C23=$Q$7,D23=$R$6),A23,"")&" "&IF(AND(C24=$Q$7,D24=$R$6),A24,"")&" "&IF(AND(C25=$Q$7,D25=$R$6),A25,"")&" "&IF(AND(C26=$Q$7,D26=$R$6),A26,"") | J7: =+IF(AND(C7=$Q$7,D7=$S$6),A7,"")&" "&IF(AND(C8=$Q$7,D8=$S$6),A8,"")&" "&IF(AND(C9=$Q$7,D9=$S$6),A9,"")&" "&IF(AND(C10=$Q$7,D10=$S$6),A10,"")&" "&IF(AND(C11=$Q$7,D11=$S$6),A11,"")&" "&IF(AND(C12=$Q$7,D12=$S$6),A12,"")&" "&IF(AND(C13=$Q$7,D13=$S$6),A13,"")&" "&IF(AND(C14=$Q$7,D14=$S$6),A14,"")&" "&IF(AND(C15=$Q$7,D15=$S$6),A15,"")&" "&IF(AND(C16=$Q$7,D16=$S$6),A16,"")&" "&IF(AND(C17=$Q$7,D17=$S$6),A17,"")&" "&IF(AND(C18=$Q$7,D18=$S$6),A18,"")&" "&IF(AND(C19=$Q$7,D19=$S$6),A19,"")&" "&IF(AND(C20=$Q$7,D20=$S$6),A20,"")&" "&IF(AND(C21=$Q$7,D21=$S$6),A21,"")&" "&IF(AND(C22=$Q$7,D22=$S$6),A22,"")&" "&IF(AND(C23=$Q$7,D23=$S$6),A23,"")&" "&IF(AND(C24=$Q$7,D24=$S$6),A24,"")&" "&IF(AND(C25=$Q$7,D25=$S$6),A25,"")&" "&IF(AND(C26=$Q$7,D26=$S$6),A26,"") | K7: =+IF(AND(C7=$Q$7,D7=$T$6),A7,"")&" "&IF(AND(C8=$Q$7,D8=$T$6),A8,"")&" "&IF(AND(C9=$Q$7,D9=$T$6),A9,"")&" "&IF(AND(C10=$Q$7,D10=$T$6),A10,"")&" "&IF(AND(C11=$Q$7,D11=$T$6),A11,"")&" "&IF(AND(C12=$Q$7,D12=$T$6),A12,"")&" "&IF(AND(C13=$Q$7,D13=$T$6),A13,"")&" "&IF(AND(C14=$Q$7,D14=$T$6),A14,"")&" "&IF(AND(C15=$Q$7,D15=$T$6),A15,"")&" "&IF(AND(C16=$Q$7,D16=$T$6),A16,"")&" "&IF(AND(C17=$Q$7,D17=$T$6),A17,"")&" "&IF(AND(C18=$Q$7,D18=$T$6),A18,"")&" "&IF(AND(C19=$Q$7,D19=$T$6),A19,"")&" "&IF(AND(C20=$Q$7,D20=$T$6),A20,"")&" "&IF(AND(C21=$Q$7,D21=$T$6),A21,"")&" "&IF(AND(C22=$Q$7,D22=$T$6),A22,"")&" "&IF(AND(C23=$Q$7,D23=$T$6),A23,"")&" "&IF(AND(C24=$Q$7,D24=$T$6),A24,"")&" "&IF(AND(C25=$Q$7,D25=$T$6),A25,"")&" "&IF(AND(C26=$Q$7,D26=$T$6),A26,"") | L7: =+IF(AND(C7=$Q$7,D7=$U$6),A7,"")&" "&IF(AND(C8=$Q$7,D8=$U$6),A8,"")&" "&IF(AND(C9=$Q$7,D9=$U$6),A9,"")&" "&IF(AND(C10=$Q$7,D10=$U$6),A10,"")&" "&IF(AND(C11=$Q$7,D11=$U$6),A11,"")&" "&IF(AND(C12=$Q$7,D12=$U$6),A12,"")&" "&IF(AND(C13=$Q$7,D13=$U$6),A13,"")&" "&IF(AND(C14=$Q$7,D14=$U$6),A14,"")&" "&IF(AND(C15=$Q$7,D15=$U$6),A15,"")&" "&IF(AND(C16=$Q$7,D16=$U$6),A16,"")&" "&IF(AND(C17=$Q$7,D17=$U$6),A17,"")&" "&IF(AND(C18=$Q$7,D18=$U$6),A18,"")&" "&IF(AND(C19=$Q$7,D19=$U$6),A19,"")&" "&IF(AND(C20=$Q$7,D20=$U$6),A20,"")&" "&IF(AND(C21=$Q$7,D21=$U$6),A21,"")&" "&IF(AND(C22=$Q$7,D22=$U$6),A22,"")&" "&IF(AND(C23=$Q$7,D23=$U$6),A23,"")&" "&IF(AND(C24=$Q$7,D24=$U$6),A24,"")&" "&IF(AND(C25=$Q$7,D25=$U$6),A25,"")&" "&IF(AND(C26=$Q$7,D26=$U$6),A26,"") | M7: =+IF(AND(C7=$Q$7,D7=$V$6),A7,"")&" "&IF(AND(C8=$Q$7,D8=$V$6),A8,"")&" "&IF(AND(C9=$Q$7,D9=$V$6),A9,"")&" "&IF(AND(C10=$Q$7,D10=$V$6),A10,"")&" "&IF(AND(C11=$Q$7,D11=$V$6),A11,"")&" "&IF(AND(C12=$Q$7,D12=$V$6),A12,"")&" "&IF(AND(C13=$Q$7,D13=$V$6),A13,"")&" "&IF(AND(C14=$Q$7,D14=$V$6),A14,"")&" "&IF(AND(C15=$Q$7,D15=$V$6),A15,"")&" "&IF(AND(C16=$Q$7,D16=$V$6),A16,"")&" "&IF(AND(C17=$Q$7,D17=$V$6),A17,"")&" "&IF(AND(C18=$Q$7,D18=$V$6),A18,"")&" "&IF(AND(C19=$Q$7,D19=$V$6),A19,"")&" "&IF(AND(C20=$Q$7,D20=$V$6),A20,"")&" "&IF(AND(C21=$Q$7,D21=$V$6),A21,"")&" "&IF(AND(C22=$Q$7,D22=$V$6),A22,"")&" "&IF(AND(C23=$Q$7,D23=$V$6),A23,"")&" "&IF(AND(C24=$Q$7,D24=$V$6),A24,"")&" "&IF(AND(C25=$Q$7,D25=$V$6),A25,"")&" "&IF(AND(C26=$Q$7,D26=$V$6),A26,"") | O7: Probabilidad | P7: 1 | Q7: Muy Alta | R7: Alto | S7: Alto | T7: Alto | U7: Alto | V7: Extremo
H8: Alta | I8: =+IF(AND(C7=$Q$8,D7=$R$6),A7,"")&" "&IF(AND(C8=$Q$8,D8=$R$6),A8,"")&" "&IF(AND(C9=$Q$8,D9=$R$6),A9,"")&" "&IF(AND(C10=$Q$8,D10=$R$6),A10,"")&" "&IF(AND(C11=$Q$8,D11=$R$6),A11,"")&" "&IF(AND(C12=$Q$8,D12=$R$6),A12,"")&" "&IF(AND(C13=$Q$8,D13=$R$6),A13,"")&" "&IF(AND(C14=$Q$8,D14=$R$6),A14,"")&" "&IF(AND(C15=$Q$8,D15=$R$6),A15,"")&" "&IF(AND(C16=$Q$8,D16=$R$6),A16,"")&" "&IF(AND(C17=$Q$8,D17=$R$6),A17,"")&" "&IF(AND(C18=$Q$8,D18=$R$6),A18,"")&" "&IF(AND(C19=$Q$8,D19=$R$6),A19,"")&" "&IF(AND(C20=$Q$8,D20=$R$6),A20,"")&" "&IF(AND(C21=$Q$8,D21=$R$6),A21,"")&" "&IF(AND(C22=$Q$8,D22=$R$6),A22,"")&" "&IF(AND(C23=$Q$8,D23=$R$6),A23,"")&" "&IF(AND(C24=$Q$8,D24=$R$6),A24,"")&" "&IF(AND(C25=$Q$8,D25=$R$6),A25,"")&" "&IF(AND(C26=$Q$8,D26=$R$6),A26,"") | J8: =+IF(AND(C7=$Q$8,D7=$S$6),A7,"")&" "&IF(AND(C8=$Q$8,D8=$S$6),A8,"")&" "&IF(AND(C9=$Q$8,D9=$S$6),A9,"")&" "&IF(AND(C10=$Q$8,D10=$S$6),A10,"")&" "&IF(AND(C11=$Q$8,D11=$S$6),A11,"")&" "&IF(AND(C12=$Q$8,D12=$S$6),A12,"")&" "&IF(AND(C13=$Q$8,D13=$S$6),A13,"")&" "&IF(AND(C14=$Q$8,D14=$S$6),A14,"")&" "&IF(AND(C15=$Q$8,D15=$S$6),A15,"")&" "&IF(AND(C16=$Q$8,D16=$S$6),A16,"")&" "&IF(AND(C17=$Q$8,D17=$S$6),A17,"")&" "&IF(AND(C18=$Q$8,D18=$S$6),A18,"")&" "&IF(AND(C19=$Q$8,D19=$S$6),A19,"")&" "&IF(AND(C20=$Q$8,D20=$S$6),A20,"")&" "&IF(AND(C21=$Q$8,D21=$S$6),A21,"")&" "&IF(AND(C22=$Q$8,D22=$S$6),A22,"")&" "&IF(AND(C23=$Q$8,D23=$S$6),A23,"")&" "&IF(AND(C24=$Q$8,D24=$S$6),A24,"")&" "&IF(AND(C25=$Q$8,D25=$S$6),A25,"")&" "&IF(AND(C26=$Q$8,D26=$S$6),A26,"") | K8: =+IF(AND(C7=$Q$8,D7=$T$6),A7,"")&" "&IF(AND(C8=$Q$8,D8=$T$6),A8,"")&" "&IF(AND(C9=$Q$8,D9=$T$6),A9,"")&" "&IF(AND(C10=$Q$8,D10=$T$6),A10,"")&" "&IF(AND(C11=$Q$8,D11=$T$6),A11,"")&" "&IF(AND(C12=$Q$8,D12=$T$6),A12,"")&" "&IF(AND(C13=$Q$8,D13=$T$6),A13,"")&" "&IF(AND(C14=$Q$8,D14=$T$6),A14,"")&" "&IF(AND(C15=$Q$8,D15=$T$6),A15,"")&" "&IF(AND(C16=$Q$8,D16=$T$6),A16,"")&" "&IF(AND(C17=$Q$8,D17=$T$6),A17,"")&" "&IF(AND(C18=$Q$8,D18=$T$6),A18,"")&" "&IF(AND(C19=$Q$8,D19=$T$6),A19,"")&" "&IF(AND(C20=$Q$8,D20=$T$6),A20,"")&" "&IF(AND(C21=$Q$8,D21=$T$6),A21,"")&" "&IF(AND(C22=$Q$8,D22=$T$6),A22,"")&" "&IF(AND(C23=$Q$8,D23=$T$6),A23,"")&" "&IF(AND(C24=$Q$8,D24=$T$6),A24,"")&" "&IF(AND(C25=$Q$8,D25=$T$6),A25,"")&" "&IF(AND(C26=$Q$8,D26=$T$6),A26,"") | L8: =+IF(AND(C7=$Q$8,D7=$U$6),A7,"")&" "&IF(AND(C8=$Q$8,D8=$U$6),A8,"")&" "&IF(AND(C9=$Q$8,D9=$U$6),A9,"")&" "&IF(AND(C10=$Q$8,D10=$U$6),A10,"")&" "&IF(AND(C11=$Q$8,D11=$U$6),A11,"")&" "&IF(AND(C12=$Q$8,D12=$U$6),A12,"")&" "&IF(AND(C13=$Q$8,D13=$U$6),A13,"")&" "&IF(AND(C14=$Q$8,D14=$U$6),A14,"")&" "&IF(AND(C15=$Q$8,D15=$U$6),A15,"")&" "&IF(AND(C16=$Q$8,D16=$U$6),A16,"")&" "&IF(AND(C17=$Q$8,D17=$U$6),A17,"")&" "&IF(AND(C18=$Q$8,D18=$U$6),A18,"")&" "&IF(AND(C19=$Q$8,D19=$U$6),A19,"")&" "&IF(AND(C20=$Q$8,D20=$U$6),A20,"")&" "&IF(AND(C21=$Q$8,D21=$U$6),A21,"")&" "&IF(AND(C22=$Q$8,D22=$U$6),A22,"")&" "&IF(AND(C23=$Q$8,D23=$U$6),A23,"")&" "&IF(AND(C24=$Q$8,D24=$U$6),A24,"")&" "&IF(AND(C25=$Q$8,D25=$U$6),A25,"")&" "&IF(AND(C26=$Q$8,D26=$U$6),A26,"") | M8: =+IF(AND(C7=$Q$8,D7=$V$6),A7,"")&" "&IF(AND(C8=$Q$8,D8=$V$6),A8,"")&" "&IF(AND(C9=$Q$8,D9=$V$6),A9,"")&" "&IF(AND(C10=$Q$8,D10=$V$6),A10,"")&" "&IF(AND(C11=$Q$8,D11=$V$6),A11,"")&" "&IF(AND(C12=$Q$8,D12=$V$6),A12,"")&" "&IF(AND(C13=$Q$8,D13=$V$6),A13,"")&" "&IF(AND(C14=$Q$8,D14=$V$6),A14,"")&" "&IF(AND(C15=$Q$8,D15=$V$6),A15,"")&" "&IF(AND(C16=$Q$8,D16=$V$6),A16,"")&" "&IF(AND(C17=$Q$8,D17=$V$6),A17,"")&" "&IF(AND(C18=$Q$8,D18=$V$6),A18,"")&" "&IF(AND(C19=$Q$8,D19=$V$6),A19,"")&" "&IF(AND(C20=$Q$8,D20=$V$6),A20,"")&" "&IF(AND(C21=$Q$8,D21=$V$6),A21,"")&" "&IF(AND(C22=$Q$8,D22=$V$6),A22,"")&" "&IF(AND(C23=$Q$8,D23=$V$6),A23,"")&" "&IF(AND(C24=$Q$8,D24=$V$6),A24,"")&" "&IF(AND(C25=$Q$8,D25=$V$6),A25,"")&" "&IF(AND(C26=$Q$8,D26=$V$6),A26,"") | P8: 0.8 | Q8: Alta | R8: Moderado | S8: Moderado | T8: Alto | U8: Alto | V8: Extremo
A9: ='2 CONTEXTO E IDENTIFICACIÓN'!A7 -> R2 | B9: =+'2 CONTEXTO E IDENTIFICACIÓN'!E7 -> Posibilidad de pérdida Económica y Reputacional por la atención inoportuna de las solicitudes de reparación de alcantarillado debido a la falta de seguimiento a las ordenes de trabajo generadas, falta de personal operativo para los grupos de trabajo y falta de asignación de recursos o de disponibilidad de materiales. | C9: =+'3 PROBABIL E IMPACTO INHERENTE'!F9 -> Media | D9: =+'3 PROBABIL E IMPACTO INHERENTE'!N9 -> Mayor | E9: =+IF(C9=$Q$7,IF(D9=$R$6,$R$7,IF(D9=$S$6,$S$7,IF(D9=$T$6,$T$7,IF(D9=$U$6,$U$7,IF(D9=$V$6,$V$7))))),IF(C9=$Q$8,IF(D9=$R$6,$R$8,IF(D9=$S$6,$S$8,IF(D9=$T$6,$T$8,IF(D9=$U$6,$U$8,IF(D9=$V$6,$V$8))))),IF(C9=$Q$9,IF(D9=$R$6,$R$9,IF(D9=$S$6,$S$9,IF(D9=$T$6,$T$9,IF(D9=$U$6,$U$9,IF(D9=$V$6,$V$9))))),IF(C9=$Q$10,IF(D9=$R$6,$R$10,IF(D9=$S$6,$S$10,IF(D9=$T$6,$T$10,IF(D9=$U$6,$U$10,IF(D9=$V$6,$V$10))))),IF(C9=$Q$11,IF(D9=$R$6,$R$11,IF(D9=$S$6,$S$11,IF(D9=$T$6,$T$11,IF(D9=$U$6,$U$11,IF(D9=$V$6,$V$11))))),""))))) -> Alto | H9: Media | I9: =+IF(AND(C7=$Q$9,D7=$R$6),A7,"")&" "&IF(AND(C8=$Q$9,D8=$R$6),A8,"")&" "&IF(AND(C9=$Q$9,D9=$R$6),A9,"")&" "&IF(AND(C10=$Q$9,D10=$R$6),A10,"")&" "&IF(AND(C11=$Q$9,D11=$R$6),A11,"")&" "&IF(AND(C12=$Q$9,D12=$R$6),A12,"")&" "&IF(AND(C13=$Q$9,D13=$R$6),A13,"")&" "&IF(AND(C14=$Q$9,D14=$R$6),A14,"")&" "&IF(AND(C15=$Q$9,D15=$R$6),A15,"")&" "&IF(AND(C16=$Q$9,D16=$R$6),A16,"")&" "&IF(AND(C17=$Q$9,D17=$R$6),A17,"")&" "&IF(AND(C18=$Q$9,D18=$R$6),A18,"")&" "&IF(AND(C19=$Q$9,D19=$R$6),A19,"")&" "&IF(AND(C20=$Q$9,D20=$R$6),A20,"")&" "&IF(AND(C21=$Q$9,D21=$R$6),A21,"")&" "&IF(AND(C22=$Q$9,D22=$R$6),A22,"")&" "&IF(AND(C23=$Q$9,D23=$R$6),A23,"")&" "&IF(AND(C24=$Q$9,D24=$R$6),A24,"")&" "&IF(AND(C25=$Q$9,D25=$R$6),A25,"")&" "&IF(AND(C26=$Q$9,D26=$R$6),A26,"") | J9: =+IF(AND(C7=$Q$9,D7=$S$6),A7,"")&" "&IF(AND(C8=$Q$9,D8=$S$6),A8,"")&" "&IF(AND(C9=$Q$9,D9=$S$6),A9,"")&" "&IF(AND(C10=$Q$9,D10=$S$6),A10,"")&" "&IF(AND(C11=$Q$9,D11=$S$6),A11,"")&" "&IF(AND(C12=$Q$9,D12=$S$6),A12,"")&" "&IF(AND(C13=$Q$9,D13=$S$6),A13,"")&" "&IF(AND(C14=$Q$9,D14=$S$6),A14,"")&" "&IF(AND(C15=$Q$9,D15=$S$6),A15,"")&" "&IF(AND(C16=$Q$9,D16=$S$6),A16,"")&" "&IF(AND(C17=$Q$9,D17=$S$6),A17,"")&" "&IF(AND(C18=$Q$9,D18=$S$6),A18,"")&" "&IF(AND(C19=$Q$9,D19=$S$6),A19,"")&" "&IF(AND(C20=$Q$9,D20=$S$6),A20,"")&" "&IF(AND(C21=$Q$9,D21=$S$6),A21,"")&" "&IF(AND(C22=$Q$9,D22=$S$6),A22,"")&" "&IF(AND(C23=$Q$9,D23=$S$6),A23,"")&" "&IF(AND(C24=$Q$9,D24=$S$6),A24,"")&" "&IF(AND(C25=$Q$9,D25=$S$6),A25,"")&" "&IF(AND(C26=$Q$9,D26=$S$6),A26,"") | K9: =+IF(AND(C7=$Q$9,D7=$T$6),A7,"")&" "&IF(AND(C8=$Q$9,D8=$T$6),A8,"")&" "&IF(AND(C9=$Q$9,D9=$T$6),A9,"")&" "&IF(AND(C10=$Q$9,D10=$T$6),A10,"")&" "&IF(AND(C11=$Q$9,D11=$T$6),A11,"")&" "&IF(AND(C12=$Q$9,D12=$T$6),A12,"")&" "&IF(AND(C13=$Q$9,D13=$T$6),A13,"")&" "&IF(AND(C14=$Q$9,D14=$T$6),A14,"")&" "&IF(AND(C15=$Q$9,D15=$T$6),A15,"")&" "&IF(AND(C16=$Q$9,D16=$T$6),A16,"")&" "&IF(AND(C17=$Q$9,D17=$T$6),A17,"")&" "&IF(AND(C18=$Q$9,D18=$T$6),A18,"")&" "&IF(AND(C19=$Q$9,D19=$T$6),A19,"")&" "&IF(AND(C20=$Q$9,D20=$T$6),A20,"")&" "&IF(AND(C21=$Q$9,D21=$T$6),A21,"")&" "&IF(AND(C22=$Q$9,D22=$T$6),A22,"")&" "&IF(AND(C23=$Q$9,D23=$T$6),A23,"")&" "&IF(AND(C24=$Q$9,D24=$T$6),A24,"")&" "&IF(AND(C25=$Q$9,D25=$T$6),A25,"")&" "&IF(AND(C26=$Q$9,D26=$T$6),A26,"") -> R7 | L9: =+IF(AND(C7=$Q$9,D7=$U$6),A7,"")&" "&IF(AND(C8=$Q$9,D8=$U$6),A8,"")&" "&IF(AND(C9=$Q$9,D9=$U$6),A9,"")&" "&IF(AND(C10=$Q$9,D10=$U$6),A10,"")&" "&IF(AND(C11=$Q$9,D11=$U$6),A11,"")&" "&IF(AND(C12=$Q$9,D12=$U$6),A12,"")&" "&IF(AND(C13=$Q$9,D13=$U$6),A13,"")&" "&IF(AND(C14=$Q$9,D14=$U$6),A14,"")&" "&IF(AND(C15=$Q$9,D15=$U$6),A15,"")&" "&IF(AND(C16=$Q$9,D16=$U$6),A16,"")&" "&IF(AND(C17=$Q$9,D17=$U$6),A17,"")&" "&IF(AND(C18=$Q$9,D18=$U$6),A18,"")&" "&IF(AND(C19=$Q$9,D19=$U$6),A19,"")&" "&IF(AND(C20=$Q$9,D20=$U$6),A20,"")&" "&IF(AND(C21=$Q$9,D21=$U$6),A21,"")&" "&IF(AND(C22=$Q$9,D22=$U$6),A22,"")&" "&IF(AND(C23=$Q$9,D23=$U$6),A23,"")&" "&IF(AND(C24=$Q$9,D24=$U$6),A24,"")&" "&IF(AND(C25=$Q$9,D25=$U$6),A25,"")&" "&IF(AND(C26=$Q$9,D26=$U$6),A26,"") -> R2 R4 R5 R6 | M9: =+IF(AND(C7=$Q$9,D7=$V$6),A7,"")&" "&IF(AND(C8=$Q$9,D8=$V$6),A8,"")&" "&IF(AND(C9=$Q$9,D9=$V$6),A9,"")&" "&IF(AND(C10=$Q$9,D10=$V$6),A10,"")&" "&IF(AND(C11=$Q$9,D11=$V$6),A11,"")&" "&IF(AND(C12=$Q$9,D12=$V$6),A12,"")&" "&IF(AND(C13=$Q$9,D13=$V$6),A13,"")&" "&IF(AND(C14=$Q$9,D14=$V$6),A14,"")&" "&IF(AND(C15=$Q$9,D15=$V$6),A15,"")&" "&IF(AND(C16=$Q$9,D16=$V$6),A16,"")&" "&IF(AND(C17=$Q$9,D17=$V$6),A17,"")&" "&IF(AND(C18=$Q$9,D18=$V$6),A18,"")&" "&IF(AND(C19=$Q$9,D19=$V$6),A19,"")&" "&IF(AND(C20=$Q$9,D20=$V$6),A20,"")&" "&IF(AND(C21=$Q$9,D21=$V$6),A21,"")&" "&IF(AND(C22=$Q$9,D22=$V$6),A22,"")&" "&IF(AND(C23=$Q$9,D23=$V$6),A23,"")&" "&IF(AND(C24=$Q$9,D24=$V$6),A24,"")&" "&IF(AND(C25=$Q$9,D25=$V$6),A25,"")&" "&IF(AND(C26=$Q$9,D26=$V$6),A26,"") | P9: 0.6 | Q9: Media | R9: Moderado | S9: Moderado | T9: Moderado | U9: Alto | V9: Extremo
A10: ='2 CONTEXTO E IDENTIFICACIÓN'!A8 -> R3 | B10: =+'2 CONTEXTO E IDENTIFICACIÓN'!E8 -> Posibilidad de pérdida Económica y Reputacional por la falta de atención a las afectaciones generadas por actividades de alcantarillado debido a que la parametrización del software permite el cierre de ordenes de trabajo con actividades pendientes. | C10: =+'3 PROBABIL E IMPACTO INHERENTE'!F10 -> Baja | D10: =+'3 PROBABIL E IMPACTO INHERENTE'!N10 -> Mayor | E10: =+IF(C10=$Q$7,IF(D10=$R$6,$R$7,IF(D10=$S$6,$S$7,IF(D10=$T$6,$T$7,IF(D10=$U$6,$U$7,IF(D10=$V$6,$V$7))))),IF(C10=$Q$8,IF(D10=$R$6,$R$8,IF(D10=$S$6,$S$8,IF(D10=$T$6,$T$8,IF(D10=$U$6,$U$8,IF(D10=$V$6,$V$8))))),IF(C10=$Q$9,IF(D10=$R$6,$R$9,IF(D10=$S$6,$S$9,IF(D10=$T$6,$T$9,IF(D10=$U$6,$U$9,IF(D10=$V$6,$V$9))))),IF(C10=$Q$10,IF(D10=$R$6,$R$10,IF(D10=$S$6,$S$10,IF(D10=$T$6,$T$10,IF(D10=$U$6,$U$10,IF(D10=$V$6,$V$10))))),IF(C10=$Q$11,IF(D10=$R$6,$R$11,IF(D10=$S$6,$S$11,IF(D10=$T$6,$T$11,IF(D10=$U$6,$U$11,IF(D10=$V$6,$V$11))))),""))))) -> Alto | H10: Baja | I10: =+IF(AND(C7=$Q$10,D7=$R$6),A7,"")&" "&IF(AND(C8=$Q$10,D8=$R$6),A8,"")&" "&IF(AND(C9=$Q$10,D9=$R$6),A9,"")&" "&IF(AND(C10=$Q$10,D10=$R$6),A10,"")&" "&IF(AND(C11=$Q$10,D11=$R$6),A11,"")&" "&IF(AND(C12=$Q$10,D12=$R$6),A12,"")&" "&IF(AND(C13=$Q$10,D13=$R$6),A13,"")&" "&IF(AND(C14=$Q$10,D14=$R$6),A14,"")&" "&IF(AND(C15=$Q$10,D15=$R$6),A15,"")&" "&IF(AND(C16=$Q$10,D16=$R$6),A16,"")&" "&IF(AND(C17=$Q$10,D17=$R$6),A17,"")&" "&IF(AND(C18=$Q$10,D18=$R$6),A18,"")&" "&IF(AND(C19=$Q$10,D19=$R$6),A19,"")&" "&IF(AND(C20=$Q$10,D20=$R$6),A20,"")&" "&IF(AND(C21=$Q$10,D21=$R$6),A21,"")&" "&IF(AND(C22=$Q$10,D22=$R$6),A22,"")&" "&IF(AND(C23=$Q$10,D23=$R$6),A23,"")&" "&IF(AND(C24=$Q$10,D24=$R$6),A24,"")&" "&IF(AND(C25=$Q$10,D25=$R$6),A25,"")&" "&IF(AND(C26=$Q$10,D26=$R$6),A26,"") | J10: =+IF(AND(C7=$Q$10,D7=$S$6),A7,"")&" "&IF(AND(C8=$Q$10,D8=$S$6),A8,"")&" "&IF(AND(C9=$Q$10,D9=$S$6),A9,"")&" "&IF(AND(C10=$Q$10,D10=$S$6),A10,"")&" "&IF(AND(C11=$Q$10,D11=$S$6),A11,"")&" "&IF(AND(C12=$Q$10,D12=$S$6),A12,"")&" "&IF(AND(C13=$Q$10,D13=$S$6),A13,"")&" "&IF(AND(C14=$Q$10,D14=$S$6),A14,"")&" "&IF(AND(C15=$Q$10,D15=$S$6),A15,"")&" "&IF(AND(C16=$Q$10,D16=$S$6),A16,"")&" "&IF(AND(C17=$Q$10,D17=$S$6),A17,"")&" "&IF(AND(C18=$Q$10,D18=$S$6),A18,"")&" "&IF(AND(C19=$Q$10,D19=$S$6),A19,"")&" "&IF(AND(C20=$Q$10,D20=$S$6),A20,"")&" "&IF(AND(C21=$Q$10,D21=$S$6),A21,"")&" "&IF(AND(C22=$Q$10,D22=$S$6),A22,"")&" "&IF(AND(C23=$Q$10,D23=$S$6),A23,"")&" "&IF(AND(C24=$Q$10,D24=$S$6),A24,"")&" "&IF(AND(C25=$Q$10,D25=$S$6),A25,"")&" "&IF(AND(C26=$Q$10,D26=$S$6),A26,"") | K10: =+IF(AND(C7=$Q$10,D7=$T$6),A7,"")&" "&IF(AND(C8=$Q$10,D8=$T$6),A8,"")&" "&IF(AND(C9=$Q$10,D9=$T$6),A9,"")&" "&IF(AND(C10=$Q$10,D10=$T$6),A10,"")&" "&IF(AND(C11=$Q$10,D11=$T$6),A11,"")&" "&IF(AND(C12=$Q$10,D12=$T$6),A12,"")&" "&IF(AND(C13=$Q$10,D13=$T$6),A13,"")&" "&IF(AND(C14=$Q$10,D14=$T$6),A14,"")&" "&IF(AND(C15=$Q$10,D15=$T$6),A15,"")&" "&IF(AND(C16=$Q$10,D16=$T$6),A16,"")&" "&IF(AND(C17=$Q$10,D17=$T$6),A17,"")&" "&IF(AND(C18=$Q$10,D18=$T$6),A18,"")&" "&IF(AND(C19=$Q$10,D19=$T$6),A19,"")&" "&IF(AND(C20=$Q$10,D20=$T$6),A20,"")&" "&IF(AND(C21=$Q$10,D21=$T$6),A21,"")&" "&IF(AND(C22=$Q$10,D22=$T$6),A22,"")&" "&IF(AND(C23=$Q$10,D23=$T$6),A23,"")&" "&IF(AND(C24=$Q$10,D24=$T$6),A24,"")&" "&IF(AND(C25=$Q$10,D25=$T$6),A25,"")&" "&IF(AND(C26=$Q$10,D26=$T$6),A26,"") | L10: =+IF(AND(C7=$Q$10,D7=$U$6),A7,"")&" "&IF(AND(C8=$Q$10,D8=$U$6),A8,"")&" "&IF(AND(C9=$Q$10,D9=$U$6),A9,"")&" "&IF(AND(C10=$Q$10,D10=$U$6),A10,"")&" "&IF(AND(C11=$Q$10,D11=$U$6),A11,"")&" "&IF(AND(C12=$Q$10,D12=$U$6),A12,"")&" "&IF(AND(C13=$Q$10,D13=$U$6),A13,"")&" "&IF(AND(C14=$Q$10,D14=$U$6),A14,"")&" "&IF(AND(C15=$Q$10,D15=$U$6),A15,"")&" "&IF(AND(C16=$Q$10,D16=$U$6),A16,"")&" "&IF(AND(C17=$Q$10,D17=$U$6),A17,"")&" "&IF(AND(C18=$Q$10,D18=$U$6),A18,"")&" "&IF(AND(C19=$Q$10,D19=$U$6),A19,"")&" "&IF(AND(C20=$Q$10,D20=$U$6),A20,"")&" "&IF(AND(C21=$Q$10,D21=$U$6),A21,"")&" "&IF(AND(C22=$Q$10,D22=$U$6),A22,"")&" "&IF(AND(C23=$Q$10,D23=$U$6),A23,"")&" "&IF(AND(C24=$Q$10,D24=$U$6),A24,"")&" "&IF(AND(C25=$Q$10,D25=$U$6),A25,"")&" "&IF(AND(C26=$Q$10,D26=$U$6),A26,"") -> R1 R3 | M10: =+IF(AND(C7=$Q$10,D7=$V$6),A7,"")&" "&IF(AND(C8=$Q$10,D8=$V$6),A8,"")&" "&IF(AND(C9=$Q$10,D9=$V$6),A9,"")&" "&IF(AND(C10=$Q$10,D10=$V$6),A10,"")&" "&IF(AND(C11=$Q$10,D11=$V$6),A11,"")&" "&IF(AND(C12=$Q$10,D12=$V$6),A12,"")&" "&IF(AND(C13=$Q$10,D13=$V$6),A13,"")&" "&IF(AND(C14=$Q$10,D14=$V$6),A14,"")&" "&IF(AND(C15=$Q$10,D15=$V$6),A15,"")&" "&IF(AND(C16=$Q$10,D16=$V$6),A16,"")&" "&IF(AND(C17=$Q$10,D17=$V$6),A17,"")&" "&IF(AND(C18=$Q$10,D18=$V$6),A18,"")&" "&IF(AND(C19=$Q$10,D19=$V$6),A19,"")&" "&IF(AND(C20=$Q$10,D20=$V$6),A20,"")&" "&IF(AND(C21=$Q$10,D21=$V$6),A21,"")&" "&IF(AND(C22=$Q$10,D22=$V$6),A22,"")&" "&IF(AND(C23=$Q$10,D23=$V$6),A23,"")&" "&IF(AND(C24=$Q$10,D24=$V$6),A24,"")&" "&IF(AND(C25=$Q$10,D25=$V$6),A25,"")&" "&IF(AND(C26=$Q$10,D26=$V$6),A26,"") | P10: 0.4 | Q10: Baja | R10: Bajo | S10: Moderado | T10: Moderado | U10: Alto | V10: Extremo
A11: ='2 CONTEXTO E IDENTIFICACIÓN'!A9 -> R4 | B11: =+'2 CONTEXTO E IDENTIFICACIÓN'!E9 -> Posibilidad de pérdida Económica y Reputacional Por la captacion del caudal de las plantas de tratamiento de los municipios por encima del lt/s consecionados Debido a la falta de medicion en el sistema de las bocatomas | C11: =+'3 PROBABIL E IMPACTO INHERENTE'!F11 -> Media | D11: =+'3 PROBABIL E IMPACTO INHERENTE'!N11 -> Mayor | E11: =+IF(C11=$Q$7,IF(D11=$R$6,$R$7,IF(D11=$S$6,$S$7,IF(D11=$T$6,$T$7,IF(D11=$U$6,$U$7,IF(D11=$V$6,$V$7))))),IF(C11=$Q$8,IF(D11=$R$6,$R$8,IF(D11=$S$6,$S$8,IF(D11=$T$6,$T$8,IF(D11=$U$6,$U$8,IF(D11=$V$6,$V$8))))),IF(C11=$Q$9,IF(D11=$R$6,$R$9,IF(D11=$S$6,$S$9,IF(D11=$T$6,$T$9,IF(D11=$U$6,$U$9,IF(D11=$V$6,$V$9))))),IF(C11=$Q$10,IF(D11=$R$6,$R$10,IF(D11=$S$6,$S$10,IF(D11=$T$6,$T$10,IF(D11=$U$6,$U$10,IF(D11=$V$6,$V$10))))),IF(C11=$Q$11,IF(D11=$R$6,$R$11,IF(D11=$S$6,$S$11,IF(D11=$T$6,$T$11,IF(D11=$U$6,$U$11,IF(D11=$V$6,$V$11))))),""))))) -> Alto | H11: Muy Baja | I11: =+IF(AND(C7=$Q$11,D7=$R$6),A7,"")&" "&IF(AND(C8=$Q$11,D8=$R$6),A8,"")&" "&IF(AND(C9=$Q$11,D9=$R$6),A9,"")&" "&IF(AND(C10=$Q$11,D10=$R$6),A10,"")&" "&IF(AND(C11=$Q$11,D11=$R$6),A11,"")&" "&IF(AND(C12=$Q$11,D12=$R$6),A12,"")&" "&IF(AND(C13=$Q$11,D13=$R$6),A13,"")&" "&IF(AND(C14=$Q$11,D14=$R$6),A14,"")&" "&IF(AND(C15=$Q$11,D15=$R$6),A15,"")&" "&IF(AND(C16=$Q$11,D16=$R$6),A16,"")&" "&IF(AND(C17=$Q$11,D17=$R$6),A17,"")&" "&IF(AND(C18=$Q$11,D18=$R$6),A18,"")&" "&IF(AND(C19=$Q$11,D19=$R$6),A19,"")&" "&IF(AND(C20=$Q$11,D20=$R$6),A20,"")&" "&IF(AND(C21=$Q$11,D21=$R$6),A21,"")&" "&IF(AND(C22=$Q$11,D22=$R$6),A22,"")&" "&IF(AND(C23=$Q$11,D23=$R$6),A23,"")&" "&IF(AND(C24=$Q$11,D24=$R$6),A24,"")&" "&IF(AND(C25=$Q$11,D25=$R$6),A25,"")&" "&IF(AND(C26=$Q$11,D26=$R$6),A26,"") | J11: =+IF(AND(C7=$Q$11,D7=$S$6),A7,"")&" "&IF(AND(C8=$Q$11,D8=$S$6),A8,"")&" "&IF(AND(C9=$Q$11,D9=$S$6),A9,"")&" "&IF(AND(C10=$Q$11,D10=$S$6),A10,"")&" "&IF(AND(C11=$Q$11,D11=$S$6),A11,"")&" "&IF(AND(C12=$Q$11,D12=$S$6),A12,"")&" "&IF(AND(C13=$Q$11,D13=$S$6),A13,"")&" "&IF(AND(C14=$Q$11,D14=$S$6),A14,"")&" "&IF(AND(C15=$Q$11,D15=$S$6),A15,"")&" "&IF(AND(C16=$Q$11,D16=$S$6),A16,"")&" "&IF(AND(C17=$Q$11,D17=$S$6),A17,"")&" "&IF(AND(C18=$Q$11,D18=$S$6),A18,"")&" "&IF(AND(C19=$Q$11,D19=$S$6),A19,"")&" "&IF(AND(C20=$Q$11,D20=$S$6),A20,"")&" "&IF(AND(C21=$Q$11,D21=$S$6),A21,"")&" "&IF(AND(C22=$Q$11,D22=$S$6),A22,"")&" "&IF(AND(C23=$Q$11,D23=$S$6),A23,"")&" "&IF(AND(C24=$Q$11,D24=$S$6),A24,"")&" "&IF(AND(C25=$Q$11,D25=$S$6),A25,"")&" "&IF(AND(C26=$Q$11,D26=$S$6),A26,"") | K11: =+IF(AND(C7=$Q$11,D7=$T$6),A7,"")&" "&IF(AND(C8=$Q$11,D8=$T$6),A8,"")&" "&IF(AND(C9=$Q$11,D9=$T$6),A9,"")&" "&IF(AND(C10=$Q$11,D10=$T$6),A10,"")&" "&IF(AND(C11=$Q$11,D11=$T$6),A11,"")&" "&IF(AND(C12=$Q$11,D12=$T$6),A12,"")&" "&IF(AND(C13=$Q$11,D13=$T$6),A13,"")&" "&IF(AND(C14=$Q$11,D14=$T$6),A14,"")&" "&IF(AND(C15=$Q$11,D15=$T$6),A15,"")&" "&IF(AND(C16=$Q$11,D16=$T$6),A16,"")&" "&IF(AND(C17=$Q$11,D17=$T$6),A17,"")&" "&IF(AND(C18=$Q$11,D18=$T$6),A18,"")&" "&IF(AND(C19=$Q$11,D19=$T$6),A19,"")&" "&IF(AND(C20=$Q$11,D20=$T$6),A20,"")&" "&IF(AND(C21=$Q$11,D21=$T$6),A21,"")&" "&IF(AND(C22=$Q$11,D22=$T$6),A22,"")&" "&IF(AND(C23=$Q$11,D23=$T$6),A23,"")&" "&IF(AND(C24=$Q$11,D24=$T$6),A24,"")&" "&IF(AND(C25=$Q$11,D25=$T$6),A25,"")&" "&IF(AND(C26=$Q$11,D26=$T$6),A26,"") | L11: =+IF(AND(C7=$Q$11,D7=$U$6),A7,"")&" "&IF(AND(C8=$Q$11,D8=$U$6),A8,"")&" "&IF(AND(C9=$Q$11,D9=$U$6),A9,"")&" "&IF(AND(C10=$Q$11,D10=$U$6),A10,"")&" "&IF(AND(C11=$Q$11,D11=$U$6),A11,"")&" "&IF(AND(C12=$Q$11,D12=$U$6),A12,"")&" "&IF(AND(C13=$Q$11,D13=$U$6),A13,"")&" "&IF(AND(C14=$Q$11,D14=$U$6),A14,"")&" "&IF(AND(C15=$Q$11,D15=$U$6),A15,"")&" "&IF(AND(C16=$Q$11,D16=$U$6),A16,"")&" "&IF(AND(C17=$Q$11,D17=$U$6),A17,"")&" "&IF(AND(C18=$Q$11,D18=$U$6),A18,"")&" "&IF(AND(C19=$Q$11,D19=$U$6),A19,"")&" "&IF(AND(C20=$Q$11,D20=$U$6),A20,"")&" "&IF(AND(C21=$Q$11,D21=$U$6),A21,"")&" "&IF(AND(C22=$Q$11,D22=$U$6),A22,"")&" "&IF(AND(C23=$Q$11,D23=$U$6),A23,"")&" "&IF(AND(C24=$Q$11,D24=$U$6),A24,"")&" "&IF(AND(C25=$Q$11,D25=$U$6),A25,"")&" "&IF(AND(C26=$Q$11,D26=$U$6),A26,"") | M11: =+IF(AND(C7=$Q$11,D7=$V$6),A7,"")&" "&IF(AND(C8=$Q$11,D8=$V$6),A8,"")&" "&IF(AND(C9=$Q$11,D9=$V$6),A9,"")&" "&IF(AND(C10=$Q$11,D10=$V$6),A10,"")&" "&IF(AND(C11=$Q$11,D11=$V$6),A11,"")&" "&IF(AND(C12=$Q$11,D12=$V$6),A12,"")&" "&IF(AND(C13=$Q$11,D13=$V$6),A13,"")&" "&IF(AND(C14=$Q$11,D14=$V$6),A14,"")&" "&IF(AND(C15=$Q$11,D15=$V$6),A15,"")&" "&IF(AND(C16=$Q$11,D16=$V$6),A16,"")&" "&IF(AND(C17=$Q$11,D17=$V$6),A17,"")&" "&IF(AND(C18=$Q$11,D18=$V$6),A18,"")&" "&IF(AND(C19=$Q$11,D19=$V$6),A19,"")&" "&IF(AND(C20=$Q$11,D20=$V$6),A20,"")&" "&IF(AND(C21=$Q$11,D21=$V$6),A21,"")&" "&IF(AND(C22=$Q$11,D22=$V$6),A22,"")&" "&IF(AND(C23=$Q$11,D23=$V$6),A23,"")&" "&IF(AND(C24=$Q$11,D24=$V$6),A24,"")&" "&IF(AND(C25=$Q$11,D25=$V$6),A25,"")&" "&IF(AND(C26=$Q$11,D26=$V$6),A26,"") | P11: 0.2 | Q11: Muy Baja | R11: Bajo | S11: Bajo | T11: Moderado | U11: Alto | V11: Extremo
A12: ='2 CONTEXTO E IDENTIFICACIÓN'!A10 -> R5 | B12: =+'2 CONTEXTO E IDENTIFICACIÓN'!E10 -> Posibilidad de pérdida Económica y Reputacional por condiciones de calidad de agua cruda que no permite tratabilidad y afectaciones de tipo climático debido a crecientes que generan arrastre de solidos y elevacion en los niveles de turbierdad en agua cruda | C12: =+'3 PROBABIL E IMPACTO INHERENTE'!F12 -> Media | D12: =+'3 PROBABIL E IMPACTO INHERENTE'!N12 -> Mayor | E12: =+IF(C12=$Q$7,IF(D12=$R$6,$R$7,IF(D12=$S$6,$S$7,IF(D12=$T$6,$T$7,IF(D12=$U$6,$U$7,IF(D12=$V$6,$V$7))))),IF(C12=$Q$8,IF(D12=$R$6,$R$8,IF(D12=$S$6,$S$8,IF(D12=$T$6,$T$8,IF(D12=$U$6,$U$8,IF(D12=$V$6,$V$8))))),IF(C12=$Q$9,IF(D12=$R$6,$R$9,IF(D12=$S$6,$S$9,IF(D12=$T$6,$T$9,IF(D12=$U$6,$U$9,IF(D12=$V$6,$V$9))))),IF(C12=$Q$10,IF(D12=$R$6,$R$10,IF(D12=$S$6,$S$10,IF(D12=$T$6,$T$10,IF(D12=$U$6,$U$10,IF(D12=$V$6,$V$10))))),IF(C12=$Q$11,IF(D12=$R$6,$R$11,IF(D12=$S$6,$S$11,IF(D12=$T$6,$T$11,IF(D12=$U$6,$U$11,IF(D12=$V$6,$V$11))))),""))))) -> Alto
A13: ='2 CONTEXTO E IDENTIFICACIÓN'!A11 -> R6 | B13: =+'2 CONTEXTO E IDENTIFICACIÓN'!E11 -> Posibilidad de pérdida Económica y Reputacional por el aumento en el índice de agua no contabilizada por pérdidas técnicas debido a la infraestructura de produccion ,almacenameinto y distribucion en condiciones inadecuadas, y la reparación inoportuna de fugas y daños en las redes de acueducto. | C13: =+'3 PROBABIL E IMPACTO INHERENTE'!F13 -> Media | D13: =+'3 PROBABIL E IMPACTO INHERENTE'!N13 -> Mayor | E13: =+IF(C13=$Q$7,IF(D13=$R$6,$R$7,IF(D13=$S$6,$S$7,IF(D13=$T$6,$T$7,IF(D13=$U$6,$U$7,IF(D13=$V$6,$V$7))))),IF(C13=$Q$8,IF(D13=$R$6,$R$8,IF(D13=$S$6,$S$8,IF(D13=$T$6,$T$8,IF(D13=$U$6,$U$8,IF(D13=$V$6,$V$8))))),IF(C13=$Q$9,IF(D13=$R$6,$R$9,IF(D13=$S$6,$S$9,IF(D13=$T$6,$T$9,IF(D13=$U$6,$U$9,IF(D13=$V$6,$V$9))))),IF(C13=$Q$10,IF(D13=$R$6,$R$10,IF(D13=$S$6,$S$10,IF(D13=$T$6,$T$10,IF(D13=$U$6,$U$10,IF(D13=$V$6,$V$10))))),IF(C13=$Q$11,IF(D13=$R$6,$R$11,IF(D13=$S$6,$S$11,IF(D13=$T$6,$T$11,IF(D13=$U$6,$U$11,IF(D13=$V$6,$V$11))))),""))))) -> Alto | R13: NIVELES DE RIESGO
R14: Extremo
A15: ='2 CONTEXTO E IDENTIFICACIÓN'!A12 -> R7 | B15: =+'2 CONTEXTO E IDENTIFICACIÓN'!E12 -> Posibilidad de pérdida Económica y Reputacional por la atención inoportuna de las solicitudes de reparación de acueducto debido a la falta de seguimiento a las ordenes de trabajo generadas, falta de personal operativo para los grupos de trabajo y falta de asignación de recursos o de disponibilidad de materiales. | C15: =+'3 PROBABIL E IMPACTO INHERENTE'!F14 -> Media | D15: =+'3 PROBABIL E IMPACTO INHERENTE'!N14 -> Moderado | E15: =+IF(C15=$Q$7,IF(D15=$R$6,$R$7,IF(D15=$S$6,$S$7,IF(D15=$T$6,$T$7,IF(D15=$U$6,$U$7,IF(D15=$V$6,$V$7))))),IF(C15=$Q$8,IF(D15=$R$6,$R$8,IF(D15=$S$6,$S$8,IF(D15=$T$6,$T$8,IF(D15=$U$6,$U$8,IF(D15=$V$6,$V$8))))),IF(C15=$Q$9,IF(D15=$R$6,$R$9,IF(D15=$S$6,$S$9,IF(D15=$T$6,$T$9,IF(D15=$U$6,$U$9,IF(D15=$V$6,$V$9))))),IF(C15=$Q$10,IF(D15=$R$6,$R$10,IF(D15=$S$6,$S$10,IF(D15=$T$6,$T$10,IF(D15=$U$6,$U$10,IF(D15=$V$6,$V$10))))),IF(C15=$Q$11,IF(D15=$R$6,$R$11,IF(D15=$S$6,$S$11,IF(D15=$T$6,$T$11,IF(D15=$U$6,$U$11,IF(D15=$V$6,$V$11))))),""))))) -> Moderado | R15: Alto
A16: ='2 CONTEXTO E IDENTIFICACIÓN'!A13 -> R10 | B16: =+'2 CONTEXTO E IDENTIFICACIÓN'!E13 | C16: =+'3 PROBABIL E IMPACTO INHERENTE'!F15 | D16: =+'3 PROBABIL E IMPACTO INHERENTE'!N15 | E16: =+IF(C16=$Q$7,IF(D16=$R$6,$R$7,IF(D16=$S$6,$S$7,IF(D16=$T$6,$T$7,IF(D16=$U$6,$U$7,IF(D16=$V$6,$V$7))))),IF(C16=$Q$8,IF(D16=$R$6,$R$8,IF(D16=$S$6,$S$8,IF(D16=$T$6,$T$8,IF(D16=$U$6,$U$8,IF(D16=$V$6,$V$8))))),IF(C16=$Q$9,IF(D16=$R$6,$R$9,IF(D16=$S$6,$S$9,IF(D16=$T$6,$T$9,IF(D16=$U$6,$U$9,IF(D16=$V$6,$V$9))))),IF(C16=$Q$10,IF(D16=$R$6,$R$10,IF(D16=$S$6,$S$10,IF(D16=$T$6,$T$10,IF(D16=$U$6,$U$10,IF(D16=$V$6,$V$10))))),IF(C16=$Q$11,IF(D16=$R$6,$R$11,IF(D16=$S$6,$S$11,IF(D16=$T$6,$T$11,IF(D16=$U$6,$U$11,IF(D16=$V$6,$V$11))))),""))))) | R16: Moderado
A17: ='2 CONTEXTO E IDENTIFICACIÓN'!A14 -> R11 | B17: =+'2 CONTEXTO E IDENTIFICACIÓN'!E14 | C17: =+'3 PROBABIL E IMPACTO INHERENTE'!F16 | D17: =+'3 PROBABIL E IMPACTO INHERENTE'!N16 | E17: =+IF(C17=$Q$7,IF(D17=$R$6,$R$7,IF(D17=$S$6,$S$7,IF(D17=$T$6,$T$7,IF(D17=$U$6,$U$7,IF(D17=$V$6,$V$7))))),IF(C17=$Q$8,IF(D17=$R$6,$R$8,IF(D17=$S$6,$S$8,IF(D17=$T$6,$T$8,IF(D17=$U$6,$U$8,IF(D17=$V$6,$V$8))))),IF(C17=$Q$9,IF(D17=$R$6,$R$9,IF(D17=$S$6,$S$9,IF(D17=$T$6,$T$9,IF(D17=$U$6,$U$9,IF(D17=$V$6,$V$9))))),IF(C17=$Q$10,IF(D17=$R$6,$R$10,IF(D17=$S$6,$S$10,IF(D17=$T$6,$T$10,IF(D17=$U$6,$U$10,IF(D17=$V$6,$V$10))))),IF(C17=$Q$11,IF(D17=$R$6,$R$11,IF(D17=$S$6,$S$11,IF(D17=$T$6,$T$11,IF(D17=$U$6,$U$11,IF(D17=$V$6,$V$11))))),""))))) | R17: Bajo
A18: ='2 CONTEXTO E IDENTIFICACIÓN'!A15 -> R12 | B18: =+'2 CONTEXTO E IDENTIFICACIÓN'!E15 | C18: =+'3 PROBABIL E IMPACTO INHERENTE'!F17 | D18: =+'3 PROBABIL E IMPACTO INHERENTE'!N17 | E18: =+IF(C18=$Q$7,IF(D18=$R$6,$R$7,IF(D18=$S$6,$S$7,IF(D18=$T$6,$T$7,IF(D18=$U$6,$U$7,IF(D18=$V$6,$V$7))))),IF(C18=$Q$8,IF(D18=$R$6,$R$8,IF(D18=$S$6,$S$8,IF(D18=$T$6,$T$8,IF(D18=$U$6,$U$8,IF(D18=$V$6,$V$8))))),IF(C18=$Q$9,IF(D18=$R$6,$R$9,IF(D18=$S$6,$S$9,IF(D18=$T$6,$T$9,IF(D18=$U$6,$U$9,IF(D18=$V$6,$V$9))))),IF(C18=$Q$10,IF(D18=$R$6,$R$10,IF(D18=$S$6,$S$10,IF(D18=$T$6,$T$10,IF(D18=$U$6,$U$10,IF(D18=$V$6,$V$10))))),IF(C18=$Q$11,IF(D18=$R$6,$R$11,IF(D18=$S$6,$S$11,IF(D18=$T$6,$T$11,IF(D18=$U$6,$U$11,IF(D18=$V$6,$V$11))))),"")))))
A19: ='2 CONTEXTO E IDENTIFICACIÓN'!A16 -> R13 | B19: =+'2 CONTEXTO E IDENTIFICACIÓN'!E16 | C19: =+'3 PROBABIL E IMPACTO INHERENTE'!F18 | D19: =+'3 PROBABIL E IMPACTO INHERENTE'!N18 | E19: =+IF(C19=$Q$7,IF(D19=$R$6,$R$7,IF(D19=$S$6,$S$7,IF(D19=$T$6,$T$7,IF(D19=$U$6,$U$7,IF(D19=$V$6,$V$7))))),IF(C19=$Q$8,IF(D19=$R$6,$R$8,IF(D19=$S$6,$S$8,IF(D19=$T$6,$T$8,IF(D19=$U$6,$U$8,IF(D19=$V$6,$V$8))))),IF(C19=$Q$9,IF(D19=$R$6,$R$9,IF(D19=$S$6,$S$9,IF(D19=$T$6,$T$9,IF(D19=$U$6,$U$9,IF(D19=$V$6,$V$9))))),IF(C19=$Q$10,IF(D19=$R$6,$R$10,IF(D19=$S$6,$S$10,IF(D19=$T$6,$T$10,IF(D19=$U$6,$U$10,IF(D19=$V$6,$V$10))))),IF(C19=$Q$11,IF(D19=$R$6,$R$11,IF(D19=$S$6,$S$11,IF(D19=$T$6,$T$11,IF(D19=$U$6,$U$11,IF(D19=$V$6,$V$11))))),"")))))
A20: ='2 CONTEXTO E IDENTIFICACIÓN'!A17 -> R14 | B20: =+'2 CONTEXTO E IDENTIFICACIÓN'!E17 | C20: =+'3 PROBABIL E IMPACTO INHERENTE'!F19 | D20: =+'3 PROBABIL E IMPACTO INHERENTE'!N19 | E20: =+IF(C20=$Q$7,IF(D20=$R$6,$R$7,IF(D20=$S$6,$S$7,IF(D20=$T$6,$T$7,IF(D20=$U$6,$U$7,IF(D20=$V$6,$V$7))))),IF(C20=$Q$8,IF(D20=$R$6,$R$8,IF(D20=$S$6,$S$8,IF(D20=$T$6,$T$8,IF(D20=$U$6,$U$8,IF(D20=$V$6,$V$8))))),IF(C20=$Q$9,IF(D20=$R$6,$R$9,IF(D20=$S$6,$S$9,IF(D20=$T$6,$T$9,IF(D20=$U$6,$U$9,IF(D20=$V$6,$V$9))))),IF(C20=$Q$10,IF(D20=$R$6,$R$10,IF(D20=$S$6,$S$10,IF(D20=$T$6,$T$10,IF(D20=$U$6,$U$10,IF(D20=$V$6,$V$10))))),IF(C20=$Q$11,IF(D20=$R$6,$R$11,IF(D20=$S$6,$S$11,IF(D20=$T$6,$T$11,IF(D20=$U$6,$U$11,IF(D20=$V$6,$V$11))))),"")))))
A21: ='2 CONTEXTO E IDENTIFICACIÓN'!A18 -> R15 | B21: =+'2 CONTEXTO E IDENTIFICACIÓN'!E18 | C21: =+'3 PROBABIL E IMPACTO INHERENTE'!F20 | D21: =+'3 PROBABIL E IMPACTO INHERENTE'!N20 | E21: =+IF(C21=$Q$7,IF(D21=$R$6,$R$7,IF(D21=$S$6,$S$7,IF(D21=$T$6,$T$7,IF(D21=$U$6,$U$7,IF(D21=$V$6,$V$7))))),IF(C21=$Q$8,IF(D21=$R$6,$R$8,IF(D21=$S$6,$S$8,IF(D21=$T$6,$T$8,IF(D21=$U$6,$U$8,IF(D21=$V$6,$V$8))))),IF(C21=$Q$9,IF(D21=$R$6,$R$9,IF(D21=$S$6,$S$9,IF(D21=$T$6,$T$9,IF(D21=$U$6,$U$9,IF(D21=$V$6,$V$9))))),IF(C21=$Q$10,IF(D21=$R$6,$R$10,IF(D21=$S$6,$S$10,IF(D21=$T$6,$T$10,IF(D21=$U$6,$U$10,IF(D21=$V$6,$V$10))))),IF(C21=$Q$11,IF(D21=$R$6,$R$11,IF(D21=$S$6,$S$11,IF(D21=$T$6,$T$11,IF(D21=$U$6,$U$11,IF(D21=$V$6,$V$11))))),"")))))
A22: ='2 CONTEXTO E IDENTIFICACIÓN'!A19 -> R16 | B22: =+'2 CONTEXTO E IDENTIFICACIÓN'!E19 | C22: =+'3 PROBABIL E IMPACTO INHERENTE'!F21 | D22: =+'3 PROBABIL E IMPACTO INHERENTE'!N21 | E22: =+IF(C22=$Q$7,IF(D22=$R$6,$R$7,IF(D22=$S$6,$S$7,IF(D22=$T$6,$T$7,IF(D22=$U$6,$U$7,IF(D22=$V$6,$V$7))))),IF(C22=$Q$8,IF(D22=$R$6,$R$8,IF(D22=$S$6,$S$8,IF(D22=$T$6,$T$8,IF(D22=$U$6,$U$8,IF(D22=$V$6,$V$8))))),IF(C22=$Q$9,IF(D22=$R$6,$R$9,IF(D22=$S$6,$S$9,IF(D22=$T$6,$T$9,IF(D22=$U$6,$U$9,IF(D22=$V$6,$V$9))))),IF(C22=$Q$10,IF(D22=$R$6,$R$10,IF(D22=$S$6,$S$10,IF(D22=$T$6,$T$10,IF(D22=$U$6,$U$10,IF(D22=$V$6,$V$10))))),IF(C22=$Q$11,IF(D22=$R$6,$R$11,IF(D22=$S$6,$S$11,IF(D22=$T$6,$T$11,IF(D22=$U$6,$U$11,IF(D22=$V$6,$V$11))))),"")))))
A23: ='2 CONTEXTO E IDENTIFICACIÓN'!A20 -> R17 | B23: =+'2 CONTEXTO E IDENTIFICACIÓN'!E20 | C23: =+'3 PROBABIL E IMPACTO INHERENTE'!F22 | D23: =+'3 PROBABIL E IMPACTO INHERENTE'!N22 | E23: =+IF(C23=$Q$7,IF(D23=$R$6,$R$7,IF(D23=$S$6,$S$7,IF(D23=$T$6,$T$7,IF(D23=$U$6,$U$7,IF(D23=$V$6,$V$7))))),IF(C23=$Q$8,IF(D23=$R$6,$R$8,IF(D23=$S$6,$S$8,IF(D23=$T$6,$T$8,IF(D23=$U$6,$U$8,IF(D23=$V$6,$V$8))))),IF(C23=$Q$9,IF(D23=$R$6,$R$9,IF(D23=$S$6,$S$9,IF(D23=$T$6,$T$9,IF(D23=$U$6,$U$9,IF(D23=$V$6,$V$9))))),IF(C23=$Q$10,IF(D23=$R$6,$R$10,IF(D23=$S$6,$S$10,IF(D23=$T$6,$T$10,IF(D23=$U$6,$U$10,IF(D23=$V$6,$V$10))))),IF(C23=$Q$11,IF(D23=$R$6,$R$11,IF(D23=$S$6,$S$11,IF(D23=$T$6,$T$11,IF(D23=$U$6,$U$11,IF(D23=$V$6,$V$11))))),"")))))
A24: ='2 CONTEXTO E IDENTIFICACIÓN'!A21 -> R18 | B24: =+'2 CONTEXTO E IDENTIFICACIÓN'!E21 | C24: =+'3 PROBABIL E IMPACTO INHERENTE'!F23 | D24: =+'3 PROBABIL E IMPACTO INHERENTE'!N23 | E24: =+IF(C24=$Q$7,IF(D24=$R$6,$R$7,IF(D24=$S$6,$S$7,IF(D24=$T$6,$T$7,IF(D24=$U$6,$U$7,IF(D24=$V$6,$V$7))))),IF(C24=$Q$8,IF(D24=$R$6,$R$8,IF(D24=$S$6,$S$8,IF(D24=$T$6,$T$8,IF(D24=$U$6,$U$8,IF(D24=$V$6,$V$8))))),IF(C24=$Q$9,IF(D24=$R$6,$R$9,IF(D24=$S$6,$S$9,IF(D24=$T$6,$T$9,IF(D24=$U$6,$U$9,IF(D24=$V$6,$V$9))))),IF(C24=$Q$10,IF(D24=$R$6,$R$10,IF(D24=$S$6,$S$10,IF(D24=$T$6,$T$10,IF(D24=$U$6,$U$10,IF(D24=$V$6,$V$10))))),IF(C24=$Q$11,IF(D24=$R$6,$R$11,IF(D24=$S$6,$S$11,IF(D24=$T$6,$T$11,IF(D24=$U$6,$U$11,IF(D24=$V$6,$V$11))))),"")))))
A25: ='2 CONTEXTO E IDENTIFICACIÓN'!A22 -> R19 | B25: =+'2 CONTEXTO E IDENTIFICACIÓN'!E22 | C25: =+'3 PROBABIL E IMPACTO INHERENTE'!F24 | D25: =+'3 PROBABIL E IMPACTO INHERENTE'!N24 | E25: =+IF(C25=$Q$7,IF(D25=$R$6,$R$7,IF(D25=$S$6,$S$7,IF(D25=$T$6,$T$7,IF(D25=$U$6,$U$7,IF(D25=$V$6,$V$7))))),IF(C25=$Q$8,IF(D25=$R$6,$R$8,IF(D25=$S$6,$S$8,IF(D25=$T$6,$T$8,IF(D25=$U$6,$U$8,IF(D25=$V$6,$V$8))))),IF(C25=$Q$9,IF(D25=$R$6,$R$9,IF(D25=$S$6,$S$9,IF(D25=$T$6,$T$9,IF(D25=$U$6,$U$9,IF(D25=$V$6,$V$9))))),IF(C25=$Q$10,IF(D25=$R$6,$R$10,IF(D25=$S$6,$S$10,IF(D25=$T$6,$T$10,IF(D25=$U$6,$U$10,IF(D25=$V$6,$V$10))))),IF(C25=$Q$11,IF(D25=$R$6,$R$11,IF(D25=$S$6,$S$11,IF(D25=$T$6,$T$11,IF(D25=$U$6,$U$11,IF(D25=$V$6,$V$11))))),"")))))
A26: ='2 CONTEXTO E IDENTIFICACIÓN'!A23 -> R20 | B26: =+'2 CONTEXTO E IDENTIFICACIÓN'!E23 | C26: =+'3 PROBABIL E IMPACTO INHERENTE'!F25 | D26: =+'3 PROBABIL E IMPACTO INHERENTE'!N25 | E26: =+IF(C26=$Q$7,IF(D26=$R$6,$R$7,IF(D26=$S$6,$S$7,IF(D26=$T$6,$T$7,IF(D26=$U$6,$U$7,IF(D26=$V$6,$V$7))))),IF(C26=$Q$8,IF(D26=$R$6,$R$8,IF(D26=$S$6,$S$8,IF(D26=$T$6,$T$8,IF(D26=$U$6,$U$8,IF(D26=$V$6,$V$8))))),IF(C26=$Q$9,IF(D26=$R$6,$R$9,IF(D26=$S$6,$S$9,IF(D26=$T$6,$T$9,IF(D26=$U$6,$U$9,IF(D26=$V$6,$V$9))))),IF(C26=$Q$10,IF(D26=$R$6,$R$10,IF(D26=$S$6,$S$10,IF(D26=$T$6,$T$10,IF(D26=$U$6,$U$10,IF(D26=$V$6,$V$10))))),IF(C26=$Q$11,IF(D26=$R$6,$R$11,IF(D26=$S$6,$S$11,IF(D26=$T$6,$T$11,IF(D26=$U$6,$U$11,IF(D26=$V$6,$V$11))))),"")))))

Sheet 5 VALORACIÓN DEL CONTROL
A2: PROCESO: | B2: =+IF('2 CONTEXTO E IDENTIFICACIÓN'!$B$2="","",'2 CONTEXTO E IDENTIFICACIÓN'!$B$2) -> GESTIÓN DE SERVICIOS PUBLICOS | F2: VALORACIÓN DEL CONTROL | R2: Peso del Control + Peso de la implementación | S2: % Probabilidad Riesgo Inherente-(% Probabilidad Riesgo Inherente*Valor Total del Control) | T2: % Impacto Riesgo Inherente-(% Impacto Riesgo Inherente*Valor Total del Control) | X2: NIVEL
J3: Atributos del control | X3: Nivel | Y3: % MIN | Z3: % MAX
A4: No. Riesgo | B4: Riesgo | C4: % Probabilidad Riesgo Inherente | D4: % Impacto Riesgo Inherente | E4: No. Control | F4: Descripción del Control | J4: Eficiencia | O4: Informativos | X4: Muy Baja | Y4: 0.01 | Z4: 0.2
F5: Responsable (Cargo y/o Aplicativo) | G5: Acción (Inicia con un verbo) | H5: Complemento (Periodicidad - Observaciones o Desviaciones) | I5: Descripción del control | J5: Tipo de control | K5: Peso del Control | L5: Afectación o Desplazamiento en la Matriz | M5: Implementación | N5: Peso de la implementación | O5: Documentación | P5: Frecuencia | Q5: Evidencia | R5: Valor Total del Control | S5: Probabilidad residual | T5: Impacto Residual | U5: Probabilidad residual Final | V5: Impacto Residual Final | X5: Baja | Y5: 0.21 | Z5: 0.4
A6: ='2 CONTEXTO E IDENTIFICACIÓN'!A6 -> R1 | B6: =+'2 CONTEXTO E IDENTIFICACIÓN'!E6 -> Posibilidad de pérdida Económica y Reputacional por contaminación ambiental a causa de las descargas de aguas residuales debido a la falta de seguimiento y control a los vertimientos realizados por usuarios diferentes al residencial que hacen uso del alcantarillado público y a la infraestructura de las redes de alcantarillado en condiciones inadecuadas. | C6: =+'3 PROBABIL E IMPACTO INHERENTE'!E7 -> 0.4 | D6: =+'3 PROBABIL E IMPACTO INHERENTE'!M7 -> 0.8 | E6: 1 | F6: el Subgerente Técnico que es el encargado de | G6: asignar las prioridades de intervención del taponamiento o fuga identificada | H6: cuando se requiera | I6: =+CONCATENATE(F6," ",G6," ",H6) -> el Subgerente Técnico que es el encargado de asignar las prioridades de intervención del taponamiento o fuga identificada cuando se requiera | J6: Correctivo | K6: =+IF(J6='11 FORMULAS'!$E$4,'11 FORMULAS'!$F$4,IF(J6='11 FORMULAS'!$E$5,'11 FORMULAS'!$F$5,IF(J6='11 FORMULAS'!$E$6,'11 FORMULAS'!$F$6,""))) -> 0.1 | L6: =+IF(OR(J6='11 FORMULAS'!$O$4,J6='11 FORMULAS'!$O$5),'11 FORMULAS'!$P$5,IF(J6='11 FORMULAS'!$O$6,'11 FORMULAS'!$P$6,"")) -> Impacto | M6: Manual | N6: =+IF(M6='11 FORMULAS'!$H$4,'11 FORMULAS'!$I$4,IF(M6='11 FORMULAS'!$H$5,'11 FORMULAS'!$I$5,"")) -> 0.15 | O6: Documentado | P6: Continua | Q6: Con Registro | R6: =+IFERROR(K6+N6,"") -> 0.25 | S6: =IF(L6='11 FORMULAS'!$P$5,C6-(C6*R6),C6) -> 0.4 | T6: =IF(L6='11 FORMULAS'!$P$6,D6-(D6*R6),D6) -> 0.6 | U6: =+IF(S9="","",S9) -> 0.4 | V6: =+IF(T9="","",T9) -> 0.3375 | X6: Media | Y6: 0.41 | Z6: 0.6
E7: 2 | F7: el Director tecnico que es el encargado de | G7: hacer seguimiento a la ejecución de la actividades | H7: cuando se requiera | I7: =+CONCATENATE(F7," ",G7," ",H7) -> el Director tecnico que es el encargado de hacer seguimiento a la ejecución de la actividades cuando se requiera | J7: Correctivo | K7: =+IF(J7='11 FORMULAS'!$E$4,'11 FORMULAS'!$F$4,IF(J7='11 FORMULAS'!$E$5,'11 FORMULAS'!$F$5,IF(J7='11 FORMULAS'!$E$6,'11 FORMULAS'!$F$6,""))) -> 0.1 | L7: =+IF(OR(J7='11 FORMULAS'!$O$4,J7='11 FORMULAS'!$O$5),'11 FORMULAS'!$P$5,IF(J7='11 FORMULAS'!$O$6,'11 FORMULAS'!$P$6,"")) -> Impacto | M7: Manual | N7: =+IF(M7='11 FORMULAS'!$H$4,'11 FORMULAS'!$I$4,IF(M7='11 FORMULAS'!$H$5,'11 FORMULAS'!$I$5,"")) -> 0.15 | O7: Documentado | P7: Continua | Q7: Con Registro | R7: =+IFERROR(K7+N7,"") -> 0.25 | S7: =IF(L7='11 FORMULAS'!$P$5,S6-(S6*R7),S6) -> 0.4 | T7: =IF(L7='11 FORMULAS'!$P$6,T6-(T6*R7),T6) -> 0.45 | X7: Alta | Y7: 0.61 | Z7: 0.8
E8: 3 | F8: el Inspector es el encargado de | G8: ejecutar la acción de corrección del taponamiento o de la fuga | H8: cuando se requiera | I8: =+CONCATENATE(F8," ",G8," ",H8) -> el Inspector es el encargado de ejecutar la acción de corrección del taponamiento o de la fuga cuando se requiera | J8: Correctivo | K8: =+IF(J8='11 FORMULAS'!$E$4,'11 FORMULAS'!$F$4,IF(J8='11 FORMULAS'!$E$5,'11 FORMULAS'!$F$5,IF(J8='11 FORMULAS'!$E$6,'11 FORMULAS'!$F$6,""))) -> 0.1 | L8: =+IF(OR(J8='11 FORMULAS'!$O$4,J8='11 FORMULAS'!$O$5),'11 FORMULAS'!$P$5,IF(J8='11 FORMULAS'!$O$6,'11 FORMULAS'!$P$6,"")) -> Impacto | M8: Manual | N8: =+IF(M8='11 FORMULAS'!$H$4,'11 FORMULAS'!$I$4,IF(M8='11 FORMULAS'!$H$5,'11 FORMULAS'!$I$5,"")) -> 0.15 | O8: Documentado | P8: Continua | Q8: Con Registro | R8: =+IFERROR(K8+N8,"") -> 0.25 | S8: =IF(L8='11 FORMULAS'!$P$5,S7-(S7*R8),S7) -> 0.4 | T8: =IF(L8='11 FORMULAS'!$P$6,T7-(T7*R8),T7) -> 0.3375 | X8: Muy Alta | Y8: 0.81 | Z8: 1
E9: 4 | I9: =+CONCATENATE(F9," ",G9," ",H9) | K9: =+IF(J9='11 FORMULAS'!$E$4,'11 FORMULAS'!$F$4,IF(J9='11 FORMULAS'!$E$5,'11 FORMULAS'!$F$5,IF(J9='11 FORMULAS'!$E$6,'11 FORMULAS'!$F$6,""))) | L9: =+IF(OR(J9='11 FORMULAS'!$O$4,J9='11 FORMULAS'!$O$5),'11 FORMULAS'!$P$5,IF(J9='11 FORMULAS'!$O$6,'11 FORMULAS'!$P$6,"")) | N9: =+IF(M9='11 FORMULAS'!$H$4,'11 FORMULAS'!$I$4,IF(M9='11 FORMULAS'!$H$5,'11 FORMULAS'!$I$5,"")) | R9: =+IFERROR(K9+N9,"") | S9: =IF(L9='11 FORMULAS'!$P$5,S8-(S8*R9),S8) -> 0.4 | T9: =IF(L9='11 FORMULAS'!$P$6,T8-(T8*R9),T8) -> 0.3375
A10: ='2 CONTEXTO E IDENTIFICACIÓN'!A7 -> R2 | B10: =+'2 CONTEXTO E IDENTIFICACIÓN'!E7 -> Posibilidad de pérdida Económica y Reputacional por la atención inoportuna de las solicitudes de reparación de alcantarillado debido a la falta de seguimiento a las ordenes de trabajo generadas, falta de personal operativo para los grupos de trabajo y falta de asignación de recursos o de disponibilidad de materiales. | C10: =+'3 PROBABIL E IMPACTO INHERENTE'!E9 -> 0.6 | D10: =+'3 PROBABIL E IMPACTO INHERENTE'!M9 -> 0.8 | E10: 1 | F10: el Subgerente Técnico y Operativo es el encargado de | G10: tomar decisiones operativas | H10: de manera diairia | I10: =+CONCATENATE(F10," ",G10," ",H10) -> el Subgerente Técnico y Operativo es el encargado de tomar decisiones operativas de manera diairia | J10: Correctivo | K10: =+IF(J10='11 FORMULAS'!$E$4,'11 FORMULAS'!$F$4,IF(J10='11 FORMULAS'!$E$5,'11 FORMULAS'!$F$5,IF(J10='11 FORMULAS'!$E$6,'11 FORMULAS'!$F$6,""))) -> 0.1 | L10: =+IF(OR(J10='11 FORMULAS'!$O$4,J10='11 FORMULAS'!$O$5),'11 FORMULAS'!$P$5,IF(J10='11 FORMULAS'!$O$6,'11 FORMULAS'!$P$6,"")) -> Impacto | M10: Manual | N10: =+IF(M10='11 FORMULAS'!$H$4,'11 FORMULAS'!$I$4,IF(M10='11 FORMULAS'!$H$5,'11 FORMULAS'!$I$5,"")) -> 0.15 | O10: Documentado | P10: Continua | Q10: Con Registro | R10: =+IFERROR(K10+N10,"") -> 0.25 | S10: =IF(L10='11 FORMULAS'!$P$5,C10-(C10*R10),C10) -> 0.6 | T10: =IF(L10='11 FORMULAS'!$P$6,D10-(D10*R10),D10) -> 0.6 | U10: =+IF(S13="","",S13) -> 0.6 | V10: =+IF(T13="","",T13) -> 0.253125
E11: 2 | F11: el Director Técnico es el encargado de | G11: controlar la ejecución de las ordenes de trabajo | H11: de manera diaria | I11: =+CONCATENATE(F11," ",G11," ",H11) -> el Director Técnico es el encargado de controlar la ejecución de las ordenes de trabajo de manera diaria | J11: Correctivo | K11: =+IF(J11='11 FORMULAS'!$E$4,'11 FORMULAS'!$F$4,IF(J11='11 FORMULAS'!$E$5,'11 FORMULAS'!$F$5,IF(J11='11 FORMULAS'!$E$6,'11 FORMULAS'!$F$6,""))) -> 0.1 | L11: =+IF(OR(J11='11 FORMULAS'!$O$4,J11='11 FORMULAS'!$O$5),'11 FORMULAS'!$P$5,IF(J11='11 FORMULAS'!$O$6,'11 FORMULAS'!$P$6,"")) -> Impacto | M11: Manual | N11: =+IF(M11='11 FORMULAS'!$H$4,'11 FORMULAS'!$I$4,IF(M11='11 FORMULAS'!$H$5,'11 FORMULAS'!$I$5,"")) -> 0.15 | O11: Documentado | P11: Continua | Q11: Con Registro | R11: =+IFERROR(K11+N11,"") -> 0.25 | S11: =IF(L11='11 FORMULAS'!$P$5,S10-(S10*R11),S10) -> 0.6 | T11: =IF(L11='11 FORMULAS'!$P$6,T10-(T10*R11),T10) -> 0.45
E12: 3 | F12: el profesional universitario UCO es el encargado de | G12: recepcionar y asignar ordenes de trabajo | H12: de manera diaria | I12: =+CONCATENATE(F12," ",G12," ",H12) -> el profesional universitario UCO es el encargado de recepcionar y asignar ordenes de trabajo de manera diaria | J12: Correctivo | K12: =+IF(J12='11 FORMULAS'!$E$4,'11 FORMULAS'!$F$4,IF(J12='11 FORMULAS'!$E$5,'11 FORMULAS'!$F$5,IF(J12='11 FORMULAS'!$E$6,'11 FORMULAS'!$F$6,""))) -> 0.1 | L12: =+IF(OR(J12='11 FORMULAS'!$O$4,J12='11 FORMULAS'!$O$5),'11 FORMULAS'!$P$5,IF(J12='11 FORMULAS'!$O$6,'11 FORMULAS'!$P$6,"")) -> Impacto | M12: Manual | N12: =+IF(M12='11 FORMULAS'!$H$4,'11 FORMULAS'!$I$4,IF(M12='11 FORMULAS'!$H$5,'11 FORMULAS'!$I$5,"")) -> 0.15 | O12: Documentado | P12: Continua | Q12: Con Registro | R12: =+IFERROR(K12+N12,"") -> 0.25 | S12: =IF(L12='11 FORMULAS'!$P$5,S11-(S11*R12),S11) -> 0.6 | T12: =IF(L12='11 FORMULAS'!$P$6,T11-(T11*R12),T11) -> 0.3375
E13: 4 | F13: el inspector de alcantarillado es el encargado de | G13: ejecutar la atención de las ordenes de trabajo | H13: de manera diaria | I13: =+CONCATENATE(F13," ",G13," ",H13) -> el inspector de alcantarillado es el encargado de ejecutar la atención de las ordenes de trabajo de manera diaria | J13: Correctivo | K13: =+IF(J13='11 FORMULAS'!$E$4,'11 FORMULAS'!$F$4,IF(J13='11 FORMULAS'!$E$5,'11 FORMULAS'!$F$5,IF(J13='11 FORMULAS'!$E$6,'11 FORMULAS'!$F$6,""))) -> 0.1 | L13: =+IF(OR(J13='11 FORMULAS'!$O$4,J13='11 FORMULAS'!$O$5),'11 FORMULAS'!$P$5,IF(J13='11 FORMULAS'!$O$6,'11 FORMULAS'!$P$6,"")) -> Impacto | M13: Manual | N13: =+IF(M13='11 FORMULAS'!$H$4,'11 FORMULAS'!$I$4,IF(M13='11 FORMULAS'!$H$5,'11 FORMULAS'!$I$5,"")) -> 0.15 | O13: Documentado | P13: Continua | Q13: Con Registro | R13: =+IFERROR(K13+N13,"") -> 0.25 | S13: =IF(L13='11 FORMULAS'!$P$5,S12-(S12*R13),S12) -> 0.6 | T13: =IF(L13='11 FORMULAS'!$P$6,T12-(T12*R13),T12) -> 0.253125
A14: ='2 CONTEXTO E IDENTIFICACIÓN'!A8 -> R3 | B14: =+'2 CONTEXTO E IDENTIFICACIÓN'!E8 -> Posibilidad de pérdida Económica y Reputacional por la falta de atención a las afectaciones generadas por actividades de alcantarillado debido a que la parametrización del software permite el cierre de ordenes de trabajo con actividades pendientes. | C14: =+'3 PROBABIL E IMPACTO INHERENTE'!E10 -> 0.4 | D14: =+'3 PROBABIL E IMPACTO INHERENTE'!M10 -> 0.8 | E14: 1 | F14: el Subgerente tecnico y operativo es el encargado de | G14: tomar decisiones operativas | H14: de manera diaria | I14: =+CONCATENATE(F14," ",G14," ",H14) -> el Subgerente tecnico y operativo es el encargado de tomar decisiones operativas de manera diaria | J14: Correctivo | K14: =+IF(J14='11 FORMULAS'!$E$4,'11 FORMULAS'!$F$4,IF(J14='11 FORMULAS'!$E$5,'11 FORMULAS'!$F$5,IF(J14='11 FORMULAS'!$E$6,'11 FORMULAS'!$F$6,""))) -> 0.1 | L14: =+IF(OR(J14='11 FORMULAS'!$O$4,J14='11 FORMULAS'!$O$5),'11 FORMULAS'!$P$5,IF(J14='11 FORMULAS'!$O$6,'11 FORMULAS'!$P$6,"")) -> Impacto | M14: Manual | N14: =+IF(M14='11 FORMULAS'!$H$4,'11 FORMULAS'!$I$4,IF(M14='11 FORMULAS'!$H$5,'11 FORMULAS'!$I$5,"")) -> 0.15 | O14: Documentado | P14: Continua | Q14: Con Registro | R14: =+IFERROR(K14+N14,"") -> 0.25 | S14: =IF(L14='11 FORMULAS'!$P$5,C14-(C14*R14),C14) -> 0.4 | T14: =IF(L14='11 FORMULAS'!$P$6,D14-(D14*R14),D14) -> 0.6 | U14: =+IF(S17="","",S17) -> 0.4 | V14: =+IF(T17="","",T17) -> 0.45
E15: 2 | F15: el Profesional universitario UCO es el encargado de | G15: recepcionar, asignar y cerrar las ordenes de trabajo | H15: de manera diaria | I15: =+CONCATENATE(F15," ",G15," ",H15) -> el Profesional universitario UCO es el encargado de recepcionar, asignar y cerrar las ordenes de trabajo de manera diaria | J15: Correctivo | K15: =+IF(J15='11 FORMULAS'!$E$4,'11 FORMULAS'!$F$4,IF(J15='11 FORMULAS'!$E$5,'11 FORMULAS'!$F$5,IF(J15='11 FORMULAS'!$E$6,'11 FORMULAS'!$F$6,""))) -> 0.1 | L15: =+IF(OR(J15='11 FORMULAS'!$O$4,J15='11 FORMULAS'!$O$5),'11 FORMULAS'!$P$5,IF(J15='11 FORMULAS'!$O$6,'11 FORMULAS'!$P$6,"")) -> Impacto | M15: Manual | N15: =+IF(M15='11 FORMULAS'!$H$4,'11 FORMULAS'!$I$4,IF(M15='11 FORMULAS'!$H$5,'11 FORMULAS'!$I$5,"")) -> 0.15 | O15: Documentado | P15: Continua | Q15: Con Registro | R15: =+IFERROR(K15+N15,"") -> 0.25 | S15: =IF(L15='11 FORMULAS'!$P$5,S14-(S14*R15),S14) -> 0.4 | T15: =IF(L15='11 FORMULAS'!$P$6,T14-(T14*R15),T14) -> 0.45
E16: 3 | I16: =+CONCATENATE(F16," ",G16," ",H16) | K16: =+IF(J16='11 FORMULAS'!$E$4,'11 FORMULAS'!$F$4,IF(J16='11 FORMULAS'!$E$5,'11 FORMULAS'!$F$5,IF(J16='11 FORMULAS'!$E$6,'11 FORMULAS'!$F$6,""))) | L16: =+IF(OR(J16='11 FORMULAS'!$O$4,J16='11 FORMULAS'!$O$5),'11 FORMULAS'!$P$5,IF(J16='11 FORMULAS'!$O$6,'11 FORMULAS'!$P$6,"")) | N16: =+IF(M16='11 FORMULAS'!$H$4,'11 FORMULAS'!$I$4,IF(M16='11 FORMULAS'!$H$5,'11 FORMULAS'!$I$5,"")) | R16: =+IFERROR(K16+N16,"") | S16: =IF(L16='11 FORMULAS'!$P$5,S15-(S15*R16),S15) -> 0.4 | T16: =IF(L16='11 FORMULAS'!$P$6,T15-(T15*R16),T15) -> 0.45
E17: 4 | I17: =+CONCATENATE(F17," ",G17," ",H17) | K17: =+IF(J17='11 FORMULAS'!$E$4,'11 FORMULAS'!$F$4,IF(J17='11 FORMULAS'!$E$5,'11 FORMULAS'!$F$5,IF(J17='11 FORMULAS'!$E$6,'11 FORMULAS'!$F$6,""))) | L17: =+IF(OR(J17='11 FORMULAS'!$O$4,J17='11 FORMULAS'!$O$5),'11 FORMULAS'!$P$5,IF(J17='11 FORMULAS'!$O$6,'11 FORMULAS'!$P$6,"")) | N17: =+IF(M17='11 FORMULAS'!$H$4,'11 FORMULAS'!$I$4,IF(M17='11 FORMULAS'!$H$5,'11 FORMULAS'!$I$5,"")) | R17: =+IFERROR(K17+N17,"") | S17: =IF(L17='11 FORMULAS'!$P$5,S16-(S16*R17),S16) -> 0.4 | T17: =IF(L17='11 FORMULAS'!$P$6,T16-(T16*R17),T16) -> 0.45
A18: ='2 CONTEXTO E IDENTIFICACIÓN'!A9 -> R4 | B18: =+'2 CONTEXTO E IDENTIFICACIÓN'!E9 -> Posibilidad de pérdida Económica y Reputacional Por la captacion del caudal de las plantas de tratamiento de los municipios por encima del lt/s consecionados Debido a la falta de medicion en el sistema de las bocatomas | C18: =+'3 PROBABIL E IMPACTO INHERENTE'!E11 -> 0.6 | D18: =+'3 PROBABIL E IMPACTO INHERENTE'!M11 -> 0.8 | E18: 1 | F18: el Gerente es el encargado de | G18: asignar recursos | H18: anualmente | I18: =+CONCATENATE(F18," ",G18," ",H18) -> el Gerente es el encargado de asignar recursos anualmente | K18: =+IF(J18='11 FORMULAS'!$E$4,'11 FORMULAS'!$F$4,IF(J18='11 FORMULAS'!$E$5,'11 FORMULAS'!$F$5,IF(J18='11 FORMULAS'!$E$6,'11 FORMULAS'!$F$6,""))) | L18: =+IF(OR(J18='11 FORMULAS'!$O$4,J18='11 FORMULAS'!$O$5),'11 FORMULAS'!$P$5,IF(J18='11 FORMULAS'!$O$6,'11 FORMULAS'!$P$6,"")) | N18: =+IF(M18='11 FORMULAS'!$H$4,'11 FORMULAS'!$I$4,IF(M18='11 FORMULAS'!$H$5,'11 FORMULAS'!$I$5,"")) | R18: =+IFERROR(K18+N18,"") | S18: =IF(L18='11 FORMULAS'!$P$5,C18-(C18*R18),C18) -> 0.6 | T18: =IF(L18='11 FORMULAS'!$P$6,D18-(D18*R18),D18) -> 0.8 | U18: =+IF(S21="","",S21) -> 0.6 | V18: =+IF(T21="","",T21) -> 0.8
E19: 2 | F19: el Subgerente técnico y operativo es el encargado de | G19: gestionar la adquisición de los equipos de medición | H19: anualmente | I19: =+CONCATENATE(F19," ",G19," ",H19) -> el Subgerente técnico y operativo es el encargado de gestionar la adquisición de los equipos de medición anualmente | K19: =+IF(J19='11 FORMULAS'!$E$4,'11 FORMULAS'!$F$4,IF(J19='11 FORMULAS'!$E$5,'11 FORMULAS'!$F$5,IF(J19='11 FORMULAS'!$E$6,'11 FORMULAS'!$F$6,""))) | L19: =+IF(OR(J19='11 FORMULAS'!$O$4,J19='11 FORMULAS'!$O$5),'11 FORMULAS'!$P$5,IF(J19='11 FORMULAS'!$O$6,'11 FORMULAS'!$P$6,"")) | N19: =+IF(M19='11 FORMULAS'!$H$4,'11 FORMULAS'!$I$4,IF(M19='11 FORMULAS'!$H$5,'11 FORMULAS'!$I$5,"")) | R19: =+IFERROR(K19+N19,"") | S19: =IF(L19='11 FORMULAS'!$P$5,S18-(S18*R19),S18) -> 0.6 | T19: =IF(L19='11 FORMULAS'!$P$6,T18-(T18*R19),T18) -> 0.8
E20: 3 | F20: el Profesional de apoyo a plantas es el encargado de | G20: identificar las necesidades | H20: cuando se requiera | I20: =+CONCATENATE(F20," ",G20," ",H20) -> el Profesional de apoyo a plantas es el encargado de identificar las necesidades cuando se requiera | K20: =+IF(J20='11 FORMULAS'!$E$4,'11 FORMULAS'!$F$4,IF(J20='11 FORMULAS'!$E$5,'11 FORMULAS'!$F$5,IF(J20='11 FORMULAS'!$E$6,'11 FORMULAS'!$F$6,""))) | L20: =+IF(OR(J20='11 FORMULAS'!$O$4,J20='11 FORMULAS'!$O$5),'11 FORMULAS'!$P$5,IF(J20='11 FORMULAS'!$O$6,'11 FORMULAS'!$P$6,"")) | N20: =+IF(M20='11 FORMULAS'!$H$4,'11 FORMULAS'!$I$4,IF(M20='11 FORMULAS'!$H$5,'11 FORMULAS'!$I$5,"")) | R20: =+IFERROR(K20+N20,"") | S20: =IF(L20='11 FORMULAS'!$P$5,S19-(S19*R20),S19) -> 0.6 | T20: =IF(L20='11 FORMULAS'!$P$6,T19-(T19*R20),T19) -> 0.8
E21: 4 | I21: =+CONCATENATE(F21," ",G21," ",H21) | K21: =+IF(J21='11 FORMULAS'!$E$4,'11 FORMULAS'!$F$4,IF(J21='11 FORMULAS'!$E$5,'11 FORMULAS'!$F$5,IF(J21='11 FORMULAS'!$E$6,'11 FORMULAS'!$F$6,""))) | L21: =+IF(OR(J21='11 FORMULAS'!$O$4,J21='11 FORMULAS'!$O$5),'11 FORMULAS'!$P$5,IF(J21='11 FORMULAS'!$O$6,'11 FORMULAS'!$P$6,"")) | N21: =+IF(M21='11 FORMULAS'!$H$4,'11 FORMULAS'!$I$4,IF(M21='11 FORMULAS'!$H$5,'11 FORMULAS'!$I$5,"")) | R21: =+IFERROR(K21+N21,"") | S21: =IF(L21='11 FORMULAS'!$P$5,S20-(S20*R21),S20) -> 0.6 | T21: =IF(L21='11 FORMULAS'!$P$6,T20-(T20*R21),T20) -> 0.8
A22: ='2 CONTEXTO E IDENTIFICACIÓN'!A10 -> R5 | B22: =+'2 CONTEXTO E IDENTIFICACIÓN'!E10 -> Posibilidad de pérdida Económica y Reputacional por condiciones de calidad de agua cruda que no permite tratabilidad y afectaciones de tipo climático debido a crecientes que generan arrastre de solidos y elevacion en los niveles de turbierdad en agua cruda | C22: =+'3 PROBABIL E IMPACTO INHERENTE'!E12 -> 0.6 | D22: =+'3 PROBABIL E IMPACTO INHERENTE'!M12 -> 0.8 | E22: 1 | F22: el Subgerente Técnico y Operativo es el encargado de | G22: tomar decisiones operativas cuando hay cambios climaticos para mantener el caudal de entrada | H22: cuando se requiera | I22: =+CONCATENATE(F22," ",G22," ",H22) -> el Subgerente Técnico y Operativo es el encargado de tomar decisiones operativas cuando hay cambios climaticos para mantener el caudal de entrada cuando se requiera | K22: =+IF(J22='11 FORMULAS'!$E$4,'11 FORMULAS'!$F$4,IF(J22='11 FORMULAS'!$E$5,'11 FORMULAS'!$F$5,IF(J22='11 FORMULAS'!$E$6,'11 FORMULAS'!$F$6,""))) | L22: =+IF(OR(J22='11 FORMULAS'!$O$4,J22='11 FORMULAS'!$O$5),'11 FORMULAS'!$P$5,IF(J22='11 FORMULAS'!$O$6,'11 FORMULAS'!$P$6,"")) | N22: =+IF(M22='11 FORMULAS'!$H$4,'11 FORMULAS'!$I$4,IF(M22='11 FORMULAS'!$H$5,'11 FORMULAS'!$I$5,"")) | R22: =+IFERROR(K22+N22,"") | S22: =IF(L22='11 FORMULAS'!$P$5,C22-(C22*R22),C22) -> 0.6 | T22: =IF(L22='11 FORMULAS'!$P$6,D22-(D22*R22),D22) -> 0.8 | U22: =+IF(S25="","",S25) -> 0.6 | V22: =+IF(T25="","",T25) -> 0.8
E23: 2 | F23: el Director Técnico es el encargado de | G23: coordinar las operaciones de las bocatomas y plantas de tratamiento de agua potable | H23: de manera diaria | I23: =+CONCATENATE(F23," ",G23," ",H23) -> el Director Técnico es el encargado de coordinar las operaciones de las bocatomas y plantas de tratamiento de agua potable de manera diaria | K23: =+IF(J23='11 FORMULAS'!$E$4,'11 FORMULAS'!$F$4,IF(J23='11 FORMULAS'!$E$5,'11 FORMULAS'!$F$5,IF(J23='11 FORMULAS'!$E$6,'11 FORMULAS'!$F$6,""))) | L23: =+IF(OR(J23='11 FORMULAS'!$O$4,J23='11 FORMULAS'!$O$5),'11 FORMULAS'!$P$5,IF(J23='11 FORMULAS'!$O$6,'11 FORMULAS'!$P$6,"")) | N23: =+IF(M23='11 FORMULAS'!$H$4,'11 FORMULAS'!$I$4,IF(M23='11 FORMULAS'!$H$5,'11 FORMULAS'!$I$5,"")) | R23: =+IFERROR(K23+N23,"") | S23: =IF(L23='11 FORMULAS'!$P$5,S22-(S22*R23),S22) -> 0.6 | T23: =IF(L23='11 FORMULAS'!$P$6,T22-(T22*R23),T22) -> 0.8
E24: 3 | F24: el profesional universitario UCO es el encargado de | G24: recepción y asignación de ordenes de trabajo | H24: de manera diaria | I24: =+CONCATENATE(F24," ",G24," ",H24) -> el profesional universitario UCO es el encargado de recepción y asignación de ordenes de trabajo de manera diaria | K24: =+IF(J24='11 FORMULAS'!$E$4,'11 FORMULAS'!$F$4,IF(J24='11 FORMULAS'!$E$5,'11 FORMULAS'!$F$5,IF(J24='11 FORMULAS'!$E$6,'11 FORMULAS'!$F$6,""))) | L24: =+IF(OR(J24='11 FORMULAS'!$O$4,J24='11 FORMULAS'!$O$5),'11 FORMULAS'!$P$5,IF(J24='11 FORMULAS'!$O$6,'11 FORMULAS'!$P$6,"")) | N24: =+IF(M24='11 FORMULAS'!$H$4,'11 FORMULAS'!$I$4,IF(M24='11 FORMULAS'!$H$5,'11 FORMULAS'!$I$5,"")) | R24: =+IFERROR(K24+N24,"") | S24: =IF(L24='11 FORMULAS'!$P$5,S23-(S23*R24),S23) -> 0.6 | T24: =IF(L24='11 FORMULAS'!$P$6,T23-(T23*R24),T23) -> 0.8
E25: 4 | F25: los Inspectores de acueducto son los encargados de | G25: ejecutar las ordenes de trabajo | H25: de manera diaria | I25: =+CONCATENATE(F25," ",G25," ",H25) -> los Inspectores de acueducto son los encargados de ejecutar las ordenes de trabajo de manera diaria | K25: =+IF(J25='11 FORMULAS'!$E$4,'11 FORMULAS'!$F$4,IF(J25='11 FORMULAS'!$E$5,'11 FORMULAS'!$F$5,IF(J25='11 FORMULAS'!$E$6,'11 FORMULAS'!$F$6,""))) | L25: =+IF(OR(J25='11 FORMULAS'!$O$4,J25='11 FORMULAS'!$O$5),'11 FORMULAS'!$P$5,IF(J25='11 FORMULAS'!$O$6,'11 FORMULAS'!$P$6,"")) | N25: =+IF(M25='11 FORMULAS'!$H$4,'11 FORMULAS'!$I$4,IF(M25='11 FORMULAS'!$H$5,'11 FORMULAS'!$I$5,"")) | R25: =+IFERROR(K25+N25,"") | S25: =IF(L25='11 FORMULAS'!$P$5,S24-(S24*R25),S24) -> 0.6 | T25: =IF(L25='11 FORMULAS'!$P$6,T24-(T24*R25),T24) -> 0.8
A26: ='2 CONTEXTO E IDENTIFICACIÓN'!A11 -> R6 | B26: =+'2 CONTEXTO E IDENTIFICACIÓN'!E11 -> Posibilidad de pérdida Económica y Reputacional por el aumento en el índice de agua no contabilizada por pérdidas técnicas debido a la infraestructura de produccion ,almacenameinto y distribucion en condiciones inadecuadas, y la reparación inoportuna de fugas y daños en las redes de acueducto. | C26: =+'3 PROBABIL E IMPACTO INHERENTE'!E13 -> 0.6 | D26: =+'3 PROBABIL E IMPACTO INHERENTE'!M13 -> 0.8 | E26: 1 | F26: | | G26: asignación de recursos para contratación de personal | H26: cuando se requiera | I26: =+CONCATENATE(F26," ",G26," ",H26) -> | asignación de recursos para contratación de personal cuando se requiera | K26: =+IF(J26='11 FORMULAS'!$E$4,'11 FORMULAS'!$F$4,IF(J26='11 FORMULAS'!$E$5,'11 FORMULAS'!$F$5,IF(J26='11 FORMULAS'!$E$6,'11 FORMULAS'!$F$6,""))) | L26: =+IF(OR(J26='11 FORMULAS'!$O$4,J26='11 FORMULAS'!$O$5),'11 FORMULAS'!$P$5,IF(J26='11 FORMULAS'!$O$6,'11 FORMULAS'!$P$6,"")) | N26: =+IF(M26='11 FORMULAS'!$H$4,'11 FORMULAS'!$I$4,IF(M26='11 FORMULAS'!$H$5,'11 FORMULAS'!$I$5,"")) | R26: =+IFERROR(K26+N26,"") | S26: =IF(L26='11 FORMULAS'!$P$5,C26-(C26*R26),C26) -> 0.6 | T26: =IF(L26='11 FORMULAS'!$P$6,D26-(D26*R26),D26) -> 0.8 | U26: =+IF(S29="","",S29) -> 0.6 | V26: =+IF(T29="","",T29) -> 0.8
E27: 2 | F27: el Subgerente Técnico es el encargado de | G27: tomar decisiones administrativas | H27: de manera diaria | I27: =+CONCATENATE(F27," ",G27," ",H27) -> el Subgerente Técnico es el encargado de tomar decisiones administrativas de manera diaria | K27: =+IF(J27='11 FORMULAS'!$E$4,'11 FORMULAS'!$F$4,IF(J27='11 FORMULAS'!$E$5,'11 FORMULAS'!$F$5,IF(J27='11 FORMULAS'!$E$6,'11 FORMULAS'!$F$6,""))) | L27: =+IF(OR(J27='11 FORMULAS'!$O$4,J27='11 FORMULAS'!$O$5),'11 FORMULAS'!$P$5,IF(J27='11 FORMULAS'!$O$6,'11 FORMULAS'!$P$6,"")) | N27: =+IF(M27='11 FORMULAS'!$H$4,'11 FORMULAS'!$I$4,IF(M27='11 FORMULAS'!$H$5,'11 FORMULAS'!$I$5,"")) | R27: =+IFERROR(K27+N27,"") | S27: =IF(L27='11 FORMULAS'!$P$5,S26-(S26*R27),S26) -> 0.6 | T27: =IF(L27='11 FORMULAS'!$P$6,T26-(T26*R27),T26) -> 0.8
E28: 3 | F28: el profesional universitario UCO es el encargado de | G28: recepción y asignación de ordenes de trabajo | H28: de manera diaria | I28: =+CONCATENATE(F28," ",G28," ",H28) -> el profesional universitario UCO es el encargado de recepción y asignación de ordenes de trabajo de manera diaria | K28: =+IF(J28='11 FORMULAS'!$E$4,'11 FORMULAS'!$F$4,IF(J28='11 FORMULAS'!$E$5,'11 FORMULAS'!$F$5,IF(J28='11 FORMULAS'!$E$6,'11 FORMULAS'!$F$6,""))) | L28: =+IF(OR(J28='11 FORMULAS'!$O$4,J28='11 FORMULAS'!$O$5),'11 FORMULAS'!$P$5,IF(J28='11 FORMULAS'!$O$6,'11 FORMULAS'!$P$6,"")) | N28: =+IF(M28='11 FORMULAS'!$H$4,'11 FORMULAS'!$I$4,IF(M28='11 FORMULAS'!$H$5,'11 FORMULAS'!$I$5,"")) | R28: =+IFERROR(K28+N28,"") | S28: =IF(L28='11 FORMULAS'!$P$5,S27-(S27*R28),S27) -> 0.6 | T28: =IF(L28='11 FORMULAS'!$P$6,T27-(T27*R28),T27) -> 0.8
E29: 4 | F29: los Inspectores de acueducto son los encargados de | G29: ejecutar las ordenes de trabajo | H29: de manera diaria | I29: =+CONCATENATE(F29," ",G29," ",H29) -> los Inspectores de acueducto son los encargados de ejecutar las ordenes de trabajo de manera diaria | K29: =+IF(J29='11 FORMULAS'!$E$4,'11 FORMULAS'!$F$4,IF(J29='11 FORMULAS'!$E$5,'11 FORMULAS'!$F$5,IF(J29='11 FORMULAS'!$E$6,'11 FORMULAS'!$F$6,""))) | L29: =+IF(OR(J29='11 FORMULAS'!$O$4,J29='11 FORMULAS'!$O$5),'11 FORMULAS'!$P$5,IF(J29='11 FORMULAS'!$O$6,'11 FORMULAS'!$P$6,"")) | N29: =+IF(M29='11 FORMULAS'!$H$4,'11 FORMULAS'!$I$4,IF(M29='11 FORMULAS'!$H$5,'11 FORMULAS'!$I$5,"")) | R29: =+IFERROR(K29+N29,"") | S29: =IF(L29='11 FORMULAS'!$P$5,S28-(S28*R29),S28) -> 0.6 | T29: =IF(L29='11 FORMULAS'!$P$6,T28-(T28*R29),T28) -> 0.8
A30: ='2 CONTEXTO E IDENTIFICACIÓN'!A12 -> R7 | B30: =+'2 CONTEXTO E IDENTIFICACIÓN'!E12 -> Posibilidad de pérdida Económica y Reputacional por la atención inoportuna de las solicitudes de reparación de acueducto debido a la falta de seguimiento a las ordenes de trabajo generadas, falta de personal operativo para los grupos de trabajo y falta de asignación de recursos o de disponibilidad de materiales. | C30: =+'3 PROBABIL E IMPACTO INHERENTE'!E14 -> 0.6 | D30: =+'3 PROBABIL E IMPACTO INHERENTE'!M14 -> 0.6 | E30: 1 | F30: el Subgerente Técnico y Operativo es el encargado de | G30: tomar decisiones operativas | H30: de manera diairia | I30: =+CONCATENATE(F30," ",G30," ",H30) -> el Subgerente Técnico y Operativo es el encargado de tomar decisiones operativas de manera diairia | K30: =+IF(J30='11 FORMULAS'!$E$4,'11 FORMULAS'!$F$4,IF(J30='11 FORMULAS'!$E$5,'11 FORMULAS'!$F$5,IF(J30='11 FORMULAS'!$E$6,'11 FORMULAS'!$F$6,""))) | L30: =+IF(OR(J30='11 FORMULAS'!$O$4,J30='11 FORMULAS'!$O$5),'11 FORMULAS'!$P$5,IF(J30='11 FORMULAS'!$O$6,'11 FORMULAS'!$P$6,"")) | N30: =+IF(M30='11 FORMULAS'!$H$4,'11 FORMULAS'!$I$4,IF(M30='11 FORMULAS'!$H$5,'11 FORMULAS'!$I$5,"")) | R30: =+IFERROR(K30+N30,"") | S30: =IF(L30='11 FORMULAS'!$P$5,C30-(C30*R30),C30) -> 0.6 | T30: =IF(L30='11 FORMULAS'!$P$6,D30-(D30*R30),D30) -> 0.6 | U30: =+IF(S33="","",S33) -> 0.6 | V30: =+IF(T33="","",T33) -> 0.6
E31: 2 | F31: el Director tecnico que es el encargado de | G31: controlar la ejecución de las ordenes de trabajo | H31: de manera diaria | I31: =+CONCATENATE(F31," ",G31," ",H31) -> el Director tecnico que es el encargado de controlar la ejecución de las ordenes de trabajo de manera diaria | K31: =+IF(J31='11 FORMULAS'!$E$4,'11 FORMULAS'!$F$4,IF(J31='11 FORMULAS'!$E$5,'11 FORMULAS'!$F$5,IF(J31='11 FORMULAS'!$E$6,'11 FORMULAS'!$F$6,""))) | L31: =+IF(OR(J31='11 FORMULAS'!$O$4,J31='11 FORMULAS'!$O$5),'11 FORMULAS'!$P$5,IF(J31='11 FORMULAS'!$O$6,'11 FORMULAS'!$P$6,"")) | N31: =+IF(M31='11 FORMULAS'!$H$4,'11 FORMULAS'!$I$4,IF(M31='11 FORMULAS'!$H$5,'11 FORMULAS'!$I$5,"")) | R31: =+IFERROR(K31+N31,"") | S31: =IF(L31='11 FORMULAS'!$P$5,S30-(S30*R31),S30) -> 0.6 | T31: =IF(L31='11 FORMULAS'!$P$6,T30-(T30*R31),T30) -> 0.6
E32: 3 | F32: el Profesional universitario UCO es el encargado de | G32: recepcionar y asignar ordenes de trabajo | H32: de manera diaria | I32: =+CONCATENATE(F32," ",G32," ",H32) -> el Profesional universitario UCO es el encargado de recepcionar y asignar ordenes de trabajo de manera diaria | K32: =+IF(J32='11 FORMULAS'!$E$4,'11 FORMULAS'!$F$4,IF(J32='11 FORMULAS'!$E$5,'11 FORMULAS'!$F$5,IF(J32='11 FORMULAS'!$E$6,'11 FORMULAS'!$F$6,""))) | L32: =+IF(OR(J32='11 FORMULAS'!$O$4,J32='11 FORMULAS'!$O$5),'11 FORMULAS'!$P$5,IF(J32='11 FORMULAS'!$O$6,'11 FORMULAS'!$P$6,"")) | N32: =+IF(M32='11 FORMULAS'!$H$4,'11 FORMULAS'!$I$4,IF(M32='11 FORMULAS'!$H$5,'11 FORMULAS'!$I$5,"")) | R32: =+IFERROR(K32+N32,"") | S32: =IF(L32='11 FORMULAS'!$P$5,S31-(S31*R32),S31) -> 0.6 | T32: =IF(L32='11 FORMULAS'!$P$6,T31-(T31*R32),T31) -> 0.6
E33: 4 | F33: el Inspector de acueducto es el encargado de | G33: ejecutar la atención de las ordenes de trabajo | H33: de manera diaria | I33: =+CONCATENATE(F33," ",G33," ",H33) -> el Inspector de acueducto es el encargado de ejecutar la atención de las ordenes de trabajo de manera diaria | K33: =+IF(J33='11 FORMULAS'!$E$4,'11 FORMULAS'!$F$4,IF(J33='11 FORMULAS'!$E$5,'11 FORMULAS'!$F$5,IF(J33='11 FORMULAS'!$E$6,'11 FORMULAS'!$F$6,""))) | L33: =+IF(OR(J33='11 FORMULAS'!$O$4,J33='11 FORMULAS'!$O$5),'11 FORMULAS'!$P$5,IF(J33='11 FORMULAS'!$O$6,'11 FORMULAS'!$P$6,"")) | N33: =+IF(M33='11 FORMULAS'!$H$4,'11 FORMULAS'!$I$4,IF(M33='11 FORMULAS'!$H$5,'11 FORMULAS'!$I$5,"")) | R33: =+IFERROR(K33+N33,"") | S33: =IF(L33='11 FORMULAS'!$P$5,S32-(S32*R33),S32) -> 0.6 | T33: =IF(L33='11 FORMULAS'!$P$6,T32-(T32*R33),T32) -> 0.6
A34: ='2 CONTEXTO E IDENTIFICACIÓN'!A13 -> R10 | B34: =+'2 CONTEXTO E IDENTIFICACIÓN'!E13 | C34: =+'3 PROBABIL E IMPACTO INHERENTE'!E15 | D34: =+'3 PROBABIL E IMPACTO INHERENTE'!M15 | E34: 1 | I34: =+CONCATENATE(F34," ",G34," ",H34) | K34: =+IF(J34='11 FORMULAS'!$E$4,'11 FORMULAS'!$F$4,IF(J34='11 FORMULAS'!$E$5,'11 FORMULAS'!$F$5,IF(J34='11 FORMULAS'!$E$6,'11 FORMULAS'!$F$6,""))) | L34: =+IF(OR(J34='11 FORMULAS'!$O$4,J34='11 FORMULAS'!$O$5),'11 FORMULAS'!$P$5,IF(J34='11 FORMULAS'!$O$6,'11 FORMULAS'!$P$6,"")) | N34: =+IF(M34='11 FORMULAS'!$H$4,'11 FORMULAS'!$I$4,IF(M34='11 FORMULAS'!$H$5,'11 FORMULAS'!$I$5,"")) | R34: =+IFERROR(K34+N34,"") | S34: =IF(L34='11 FORMULAS'!$P$5,C34-(C34*R34),C34) | T34: =IF(L34='11 FORMULAS'!$P$6,D34-(D34*R34),D34) | U34: =+IF(S37="","",S37) | V34: =+IF(T37="","",T37)
E35: 2 | I35: =+CONCATENATE(F35," ",G35," ",H35) | K35: =+IF(J35='11 FORMULAS'!$E$4,'11 FORMULAS'!$F$4,IF(J35='11 FORMULAS'!$E$5,'11 FORMULAS'!$F$5,IF(J35='11 FORMULAS'!$E$6,'11 FORMULAS'!$F$6,""))) | L35: =+IF(OR(J35='11 FORMULAS'!$O$4,J35='11 FORMULAS'!$O$5),'11 FORMULAS'!$P$5,IF(J35='11 FORMULAS'!$O$6,'11 FORMULAS'!$P$6,"")) | N35: =+IF(M35='11 FORMULAS'!$H$4,'11 FORMULAS'!$I$4,IF(M35='11 FORMULAS'!$H$5,'11 FORMULAS'!$I$5,"")) | R35: =+IFERROR(K35+N35,"") | S35: =IF(L35='11 FORMULAS'!$P$5,S34-(S34*R35),S34) | T35: =IF(L35='11 FORMULAS'!$P$6,T34-(T34*R35),T34)
E36: 3 | I36: =+CONCATENATE(F36," ",G36," ",H36) | K36: =+IF(J36='11 FORMULAS'!$E$4,'11 FORMULAS'!$F$4,IF(J36='11 FORMULAS'!$E$5,'11 FORMULAS'!$F$5,IF(J36='11 FORMULAS'!$E$6,'11 FORMULAS'!$F$6,""))) | L36: =+IF(OR(J36='11 FORMULAS'!$O$4,J36='11 FORMULAS'!$O$5),'11 FORMULAS'!$P$5,IF(J36='11 FORMULAS'!$O$6,'11 FORMULAS'!$P$6,"")) | N36: =+IF(M36='11 FORMULAS'!$H$4,'11 FORMULAS'!$I$4,IF(M36='11 FORMULAS'!$H$5,'11 FORMULAS'!$I$5,"")) | R36: =+IFERROR(K36+N36,"") | S36: =IF(L36='11 FORMULAS'!$P$5,S35-(S35*R36),S35) | T36: =IF(L36='11 FORMULAS'!$P$6,T35-(T35*R36),T35)
E37: 4 | I37: =+CONCATENATE(F37," ",G37," ",H37) | K37: =+IF(J37='11 FORMULAS'!$E$4,'11 FORMULAS'!$F$4,IF(J37='11 FORMULAS'!$E$5,'11 FORMULAS'!$F$5,IF(J37='11 FORMULAS'!$E$6,'11 FORMULAS'!$F$6,""))) | L37: =+IF(OR(J37='11 FORMULAS'!$O$4,J37='11 FORMULAS'!$O$5),'11 FORMULAS'!$P$5,IF(J37='11 FORMULAS'!$O$6,'11 FORMULAS'!$P$6,"")) | N37: =+IF(M37='11 FORMULAS'!$H$4,'11 FORMULAS'!$I$4,IF(M37='11 FORMULAS'!$H$5,'11 FORMULAS'!$I$5,"")) | R37: =+IFERROR(K37+N37,"") | S37: =IF(L37='11 FORMULAS'!$P$5,S36-(S36*R37),S36) | T37: =IF(L37='11 FORMULAS'!$P$6,T36-(T36*R37),T36)
A38: ='2 CONTEXTO E IDENTIFICACIÓN'!A14 -> R11 | B38: =+'2 CONTEXTO E IDENTIFICACIÓN'!E14 | C38: =+'3 PROBABIL E IMPACTO INHERENTE'!E16 | D38: =+'3 PROBABIL E IMPACTO INHERENTE'!M16 | E38: 1 | I38: =+CONCATENATE(F38," ",G38," ",H38) | K38: =+IF(J38='11 FORMULAS'!$E$4,'11 FORMULAS'!$F$4,IF(J38='11 FORMULAS'!$E$5,'11 FORMULAS'!$F$5,IF(J38='11 FORMULAS'!$E$6,'11 FORMULAS'!$F$6,""))) | L38: =+IF(OR(J38='11 FORMULAS'!$O$4,J38='11 FORMULAS'!$O$5),'11 FORMULAS'!$P$5,IF(J38='11 FORMULAS'!$O$6,'11 FORMULAS'!$P$6,"")) | N38: =+IF(M38='11 FORMULAS'!$H$4,'11 FORMULAS'!$I$4,IF(M38='11 FORMULAS'!$H$5,'11 FORMULAS'!$I$5,"")) | R38: =+IFERROR(K38+N38,"") | S38: =IF(L38='11 FORMULAS'!$P$5,C38-(C38*R38),C38) | T38: =IF(L38='11 FORMULAS'!$P$6,D38-(D38*R38),D38) | U38: =+IF(S41="","",S41) | V38: =+IF(T41="","",T41)
E39: 2 | I39: =+CONCATENATE(F39," ",G39," ",H39) | K39: =+IF(J39='11 FORMULAS'!$E$4,'11 FORMULAS'!$F$4,IF(J39='11 FORMULAS'!$E$5,'11 FORMULAS'!$F$5,IF(J39='11 FORMULAS'!$E$6,'11 FORMULAS'!$F$6,""))) | L39: =+IF(OR(J39='11 FORMULAS'!$O$4,J39='11 FORMULAS'!$O$5),'11 FORMULAS'!$P$5,IF(J39='11 FORMULAS'!$O$6,'11 FORMULAS'!$P$6,"")) | N39: =+IF(M39='11 FORMULAS'!$H$4,'11 FORMULAS'!$I$4,IF(M39='11 FORMULAS'!$H$5,'11 FORMULAS'!$I$5,"")) | R39: =+IFERROR(K39+N39,"") | S39: =IF(L39='11 FORMULAS'!$P$5,S38-(S38*R39),S38) | T39: =IF(L39='11 FORMULAS'!$P$6,T38-(T38*R39),T38)
E40: 3 | I40: =+CONCATENATE(F40," ",G40," ",H40) | K40: =+IF(J40='11 FORMULAS'!$E$4,'11 FORMULAS'!$F$4,IF(J40='11 FORMULAS'!$E$5,'11 FORMULAS'!$F$5,IF(J40='11 FORMULAS'!$E$6,'11 FORMULAS'!$F$6,""))) | L40: =+IF(OR(J40='11 FORMULAS'!$O$4,J40='11 FORMULAS'!$O$5),'11 FORMULAS'!$P$5,IF(J40='11 FORMULAS'!$O$6,'11 FORMULAS'!$P$6,"")) | N40: =+IF(M40='11 FORMULAS'!$H$4,'11 FORMULAS'!$I$4,IF(M40='11 FORMULAS'!$H$5,'11 FORMULAS'!$I$5,"")) | R40: =+IFERROR(K40+N40,"") | S40: =IF(L40='11 FORMULAS'!$P$5,S39-(S39*R40),S39) | T40: =IF(L40='11 FORMULAS'!$P$6,T39-(T39*R40),T39)
E41: 4 | I41: =+CONCATENATE(F41," ",G41," ",H41) | K41: =+IF(J41='11 FORMULAS'!$E$4,'11 FORMULAS'!$F$4,IF(J41='11 FORMULAS'!$E$5,'11 FORMULAS'!$F$5,IF(J41='11 FORMULAS'!$E$6,'11 FORMULAS'!$F$6,""))) | L41: =+IF(OR(J41='11 FORMULAS'!$O$4,J41='11 FORMULAS'!$O$5),'11 FORMULAS'!$P$5,IF(J41='11 FORMULAS'!$O$6,'11 FORMULAS'!$P$6,"")) | N41: =+IF(M41='11 FORMULAS'!$H$4,'11 FORMULAS'!$I$4,IF(M41='11 FORMULAS'!$H$5,'11 FORMULAS'!$I$5,"")) | R41: =+IFERROR(K41+N41,"") | S41: =IF(L41='11 FORMULAS'!$P$5,S40-(S40*R41),S40) | T41: =IF(L41='11 FORMULAS'!$P$6,T40-(T40*R41),T40)
A42: ='2 CONTEXTO E IDENTIFICACIÓN'!A15 -> R12 | B42: =+'2 CONTEXTO E IDENTIFICACIÓN'!E15 | C42: =+'3 PROBABIL E IMPACTO INHERENTE'!E17 | D42: =+'3 PROBABIL E IMPACTO INHERENTE'!M17 | E42: 1 | I42: =+CONCATENATE(F42," ",G42," ",H42) | K42: =+IF(J42='11 FORMULAS'!$E$4,'11 FORMULAS'!$F$4,IF(J42='11 FORMULAS'!$E$5,'11 FORMULAS'!$F$5,IF(J42='11 FORMULAS'!$E$6,'11 FORMULAS'!$F$6,""))) | L42: =+IF(OR(J42='11 FORMULAS'!$O$4,J42='11 FORMULAS'!$O$5),'11 FORMULAS'!$P$5,IF(J42='11 FORMULAS'!$O$6,'11 FORMULAS'!$P$6,"")) | N42: =+IF(M42='11 FORMULAS'!$H$4,'11 FORMULAS'!$I$4,IF(M42='11 FORMULAS'!$H$5,'11 FORMULAS'!$I$5,"")) | R42: =+IFERROR(K42+N42,"") | S42: =IF(L42='11 FORMULAS'!$P$5,C42-(C42*R42),C42) | T42: =IF(L42='11 FORMULAS'!$P$6,D42-(D42*R42),D42) | U42: =+IF(S45="","",S45) | V42: =+IF(T45="","",T45)
E43: 2 | I43: =+CONCATENATE(F43," ",G43," ",H43) | K43: =+IF(J43='11 FORMULAS'!$E$4,'11 FORMULAS'!$F$4,IF(J43='11 FORMULAS'!$E$5,'11 FORMULAS'!$F$5,IF(J43='11 FORMULAS'!$E$6,'11 FORMULAS'!$F$6,""))) | L43: =+IF(OR(J43='11 FORMULAS'!$O$4,J43='11 FORMULAS'!$O$5),'11 FORMULAS'!$P$5,IF(J43='11 FORMULAS'!$O$6,'11 FORMULAS'!$P$6,"")) | N43: =+IF(M43='11 FORMULAS'!$H$4,'11 FORMULAS'!$I$4,IF(M43='11 FORMULAS'!$H$5,'11 FORMULAS'!$I$5,"")) | R43: =+IFERROR(K43+N43,"") | S43: =IF(L43='11 FORMULAS'!$P$5,S42-(S42*R43),S42) | T43: =IF(L43='11 FORMULAS'!$P$6,T42-(T42*R43),T42)
E44: 3 | I44: =+CONCATENATE(F44," ",G44," ",H44) | K44: =+IF(J44='11 FORMULAS'!$E$4,'11 FORMULAS'!$F$4,IF(J44='11 FORMULAS'!$E$5,'11 FORMULAS'!$F$5,IF(J44='11 FORMULAS'!$E$6,'11 FORMULAS'!$F$6,""))) | L44: =+IF(OR(J44='11 FORMULAS'!$O$4,J44='11 FORMULAS'!$O$5),'11 FORMULAS'!$P$5,IF(J44='11 FORMULAS'!$O$6,'11 FORMULAS'!$P$6,"")) | N44: =+IF(M44='11 FORMULAS'!$H$4,'11 FORMULAS'!$I$4,IF(M44='11 FORMULAS'!$H$5,'11 FORMULAS'!$I$5,"")) | R44: =+IFERROR(K44+N44,"") | S44: =IF(L44='11 FORMULAS'!$P$5,S43-(S43*R44),S43) | T44: =IF(L44='11 FORMULAS'!$P$6,T43-(T43*R44),T43)
E45: 4 | I45: =+CONCATENATE(F45," ",G45," ",H45) | K45: =+IF(J45='11 FORMULAS'!$E$4,'11 FORMULAS'!$F$4,IF(J45='11 FORMULAS'!$E$5,'11 FORMULAS'!$F$5,IF(J45='11 FORMULAS'!$E$6,'11 FORMULAS'!$F$6,""))) | L45: =+IF(OR(J45='11 FORMULAS'!$O$4,J45='11 FORMULAS'!$O$5),'11 FORMULAS'!$P$5,IF(J45='11 FORMULAS'!$O$6,'11 FORMULAS'!$P$6,"")) | N45: =+IF(M45='11 FORMULAS'!$H$4,'11 FORMULAS'!$I$4,IF(M45='11 FORMULAS'!$H$5,'11 FORMULAS'!$I$5,"")) | R45: =+IFERROR(K45+N45,"") | S45: =IF(L45='11 FORMULAS'!$P$5,S44-(S44*R45),S44) | T45: =IF(L45='11 FORMULAS'!$P$6,T44-(T44*R45),T44)
A46: ='2 CONTEXTO E IDENTIFICACIÓN'!A16 -> R13 | B46: =+'2 CONTEXTO E IDENTIFICACIÓN'!E16 | C46: =+'3 PROBABIL E IMPACTO INHERENTE'!E18 | D46: =+'3 PROBABIL E IMPACTO INHERENTE'!M18 | E46: 1 | I46: =+CONCATENATE(F46," ",G46," ",H46) | K46: =+IF(J46='11 FORMULAS'!$E$4,'11 FORMULAS'!$F$4,IF(J46='11 FORMULAS'!$E$5,'11 FORMULAS'!$F$5,IF(J46='11 FORMULAS'!$E$6,'11 FORMULAS'!$F$6,""))) | L46: =+IF(OR(J46='11 FORMULAS'!$O$4,J46='11 FORMULAS'!$O$5),'11 FORMULAS'!$P$5,IF(J46='11 FORMULAS'!$O$6,'11 FORMULAS'!$P$6,"")) | N46: =+IF(M46='11 FORMULAS'!$H$4,'11 FORMULAS'!$I$4,IF(M46='11 FORMULAS'!$H$5,'11 FORMULAS'!$I$5,"")) | R46: =+IFERROR(K46+N46,"") | S46: =IF(L46='11 FORMULAS'!$P$5,C46-(C46*R46),C46) | T46: =IF(L46='11 FORMULAS'!$P$6,D46-(D46*R46),D46) | U46: =+IF(S49="","",S49) | V46: =+IF(T49="","",T49)
E47: 2 | I47: =+CONCATENATE(F47," ",G47," ",H47) | K47: =+IF(J47='11 FORMULAS'!$E$4,'11 FORMULAS'!$F$4,IF(J47='11 FORMULAS'!$E$5,'11 FORMULAS'!$F$5,IF(J47='11 FORMULAS'!$E$6,'11 FORMULAS'!$F$6,""))) | L47: =+IF(OR(J47='11 FORMULAS'!$O$4,J47='11 FORMULAS'!$O$5),'11 FORMULAS'!$P$5,IF(J47='11 FORMULAS'!$O$6,'11 FORMULAS'!$P$6,"")) | N47: =+IF(M47='11 FORMULAS'!$H$4,'11 FORMULAS'!$I$4,IF(M47='11 FORMULAS'!$H$5,'11 FORMULAS'!$I$5,"")) | R47: =+IFERROR(K47+N47,"") | S47: =IF(L47='11 FORMULAS'!$P$5,S46-(S46*R47),S46) | T47: =IF(L47='11 FORMULAS'!$P$6,T46-(T46*R47),T46)
E48: 3 | I48: =+CONCATENATE(F48," ",G48," ",H48) | K48: =+IF(J48='11 FORMULAS'!$E$4,'11 FORMULAS'!$F$4,IF(J48='11 FORMULAS'!$E$5,'11 FORMULAS'!$F$5,IF(J48='11 FORMULAS'!$E$6,'11 FORMULAS'!$F$6,""))) | L48: =+IF(OR(J48='11 FORMULAS'!$O$4,J48='11 FORMULAS'!$O$5),'11 FORMULAS'!$P$5,IF(J48='11 FORMULAS'!$O$6,'11 FORMULAS'!$P$6,"")) | N48: =+IF(M48='11 FORMULAS'!$H$4,'11 FORMULAS'!$I$4,IF(M48='11 FORMULAS'!$H$5,'11 FORMULAS'!$I$5,"")) | R48: =+IFERROR(K48+N48,"") | S48: =IF(L48='11 FORMULAS'!$P$5,S47-(S47*R48),S47) | T48: =IF(L48='11 FORMULAS'!$P$6,T47-(T47*R48),T47)
E49: 4 | I49: =+CONCATENATE(F49," ",G49," ",H49) | K49: =+IF(J49='11 FORMULAS'!$E$4,'11 FORMULAS'!$F$4,IF(J49='11 FORMULAS'!$E$5,'11 FORMULAS'!$F$5,IF(J49='11 FORMULAS'!$E$6,'11 FORMULAS'!$F$6,""))) | L49: =+IF(OR(J49='11 FORMULAS'!$O$4,J49='11 FORMULAS'!$O$5),'11 FORMULAS'!$P$5,IF(J49='11 FORMULAS'!$O$6,'11 FORMULAS'!$P$6,"")) | N49: =+IF(M49='11 FORMULAS'!$H$4,'11 FORMULAS'!$I$4,IF(M49='11 FORMULAS'!$H$5,'11 FORMULAS'!$I$5,"")) | R49: =+IFERROR(K49+N49,"") | S49: =IF(L49='11 FORMULAS'!$P$5,S48-(S48*R49),S48) | T49: =IF(L49='11 FORMULAS'!$P$6,T48-(T48*R49),T48)
A50: ='2 CONTEXTO E IDENTIFICACIÓN'!A17 -> R14 | B50: =+'2 CONTEXTO E IDENTIFICACIÓN'!E17 | C50: =+'3 PROBABIL E IMPACTO INHERENTE'!E19 | D50: =+'3 PROBABIL E IMPACTO INHERENTE'!M19 | E50: 1 | I50: =+CONCATENATE(F50," ",G50," ",H50) | K50: =+IF(J50='11 FORMULAS'!$E$4,'11 FORMULAS'!$F$4,IF(J50='11 FORMULAS'!$E$5,'11 FORMULAS'!$F$5,IF(J50='11 FORMULAS'!$E$6,'11 FORMULAS'!$F$6,""))) | L50: =+IF(OR(J50='11 FORMULAS'!$O$4,J50='11 FORMULAS'!$O$5),'11 FORMULAS'!$P$5,IF(J50='11 FORMULAS'!$O$6,'11 FORMULAS'!$P$6,"")) | N50: =+IF(M50='11 FORMULAS'!$H$4,'11 FORMULAS'!$I$4,IF(M50='11 FORMULAS'!$H$5,'11 FORMULAS'!$I$5,"")) | R50: =+IFERROR(K50+N50,"") | S50: =IF(L50='11 FORMULAS'!$P$5,C50-(C50*R50),C50) | T50: =IF(L50='11 FORMULAS'!$P$6,D50-(D50*R50),D50) | U50: =+IF(S53="","",S53) | V50: =+IF(T53="","",T53)
E51: 2 | I51: =+CONCATENATE(F51," ",G51," ",H51) | K51: =+IF(J51='11 FORMULAS'!$E$4,'11 FORMULAS'!$F$4,IF(J51='11 FORMULAS'!$E$5,'11 FORMULAS'!$F$5,IF(J51='11 FORMULAS'!$E$6,'11 FORMULAS'!$F$6,""))) | L51: =+IF(OR(J51='11 FORMULAS'!$O$4,J51='11 FORMULAS'!$O$5),'11 FORMULAS'!$P$5,IF(J51='11 FORMULAS'!$O$6,'11 FORMULAS'!$P$6,"")) | N51: =+IF(M51='11 FORMULAS'!$H$4,'11 FORMULAS'!$I$4,IF(M51='11 FORMULAS'!$H$5,'11 FORMULAS'!$I$5,"")) | R51: =+IFERROR(K51+N51,"") | S51: =IF(L51='11 FORMULAS'!$P$5,S50-(S50*R51),S50) | T51: =IF(L51='11 FORMULAS'!$P$6,T50-(T50*R51),T50)
E52: 3 | I52: =+CONCATENATE(F52," ",G52," ",H52) | K52: =+IF(J52='11 FORMULAS'!$E$4,'11 FORMULAS'!$F$4,IF(J52='11 FORMULAS'!$E$5,'11 FORMULAS'!$F$5,IF(J52='11 FORMULAS'!$E$6,'11 FORMULAS'!$F$6,""))) | L52: =+IF(OR(J52='11 FORMULAS'!$O$4,J52='11 FORMULAS'!$O$5),'11 FORMULAS'!$P$5,IF(J52='11 FORMULAS'!$O$6,'11 FORMULAS'!$P$6,"")) | N52: =+IF(M52='11 FORMULAS'!$H$4,'11 FORMULAS'!$I$4,IF(M52='11 FORMULAS'!$H$5,'11 FORMULAS'!$I$5,"")) | R52: =+IFERROR(K52+N52,"") | S52: =IF(L52='11 FORMULAS'!$P$5,S51-(S51*R52),S51) | T52: =IF(L52='11 FORMULAS'!$P$6,T51-(T51*R52),T51)
E53: 4 | I53: =+CONCATENATE(F53," ",G53," ",H53) | K53: =+IF(J53='11 FORMULAS'!$E$4,'11 FORMULAS'!$F$4,IF(J53='11 FORMULAS'!$E$5,'11 FORMULAS'!$F$5,IF(J53='11 FORMULAS'!$E$6,'11 FORMULAS'!$F$6,""))) | L53: =+IF(OR(J53='11 FORMULAS'!$O$4,J53='11 FORMULAS'!$O$5),'11 FORMULAS'!$P$5,IF(J53='11 FORMULAS'!$O$6,'11 FORMULAS'!$P$6,"")) | N53: =+IF(M53='11 FORMULAS'!$H$4,'11 FORMULAS'!$I$4,IF(M53='11 FORMULAS'!$H$5,'11 FORMULAS'!$I$5,"")) | R53: =+IFERROR(K53+N53,"") | S53: =IF(L53='11 FORMULAS'!$P$5,S52-(S52*R53),S52) | T53: =IF(L53='11 FORMULAS'!$P$6,T52-(T52*R53),T52)
A54: ='2 CONTEXTO E IDENTIFICACIÓN'!A18 -> R15 | B54: =+'2 CONTEXTO E IDENTIFICACIÓN'!E18 | C54: =+'3 PROBABIL E IMPACTO INHERENTE'!E20 | D54: =+'3 PROBABIL E IMPACTO INHERENTE'!M20 | E54: 1 | I54: =+CONCATENATE(F54," ",G54," ",H54) | K54: =+IF(J54='11 FORMULAS'!$E$4,'11 FORMULAS'!$F$4,IF(J54='11 FORMULAS'!$E$5,'11 FORMULAS'!$F$5,IF(J54='11 FORMULAS'!$E$6,'11 FORMULAS'!$F$6,""))) | L54: =+IF(OR(J54='11 FORMULAS'!$O$4,J54='11 FORMULAS'!$O$5),'11 FORMULAS'!$P$5,IF(J54='11 FORMULAS'!$O$6,'11 FORMULAS'!$P$6,"")) | N54: =+IF(M54='11 FORMULAS'!$H$4,'11 FORMULAS'!$I$4,IF(M54='11 FORMULAS'!$H$5,'11 FORMULAS'!$I$5,"")) | R54: =+IFERROR(K54+N54,"") | S54: =IF(L54='11 FORMULAS'!$P$5,C54-(C54*R54),C54) | T54: =IF(L54='11 FORMULAS'!$P$6,D54-(D54*R54),D54) | U54: =+IF(S57="","",S57) | V54: =+IF(T57="","",T57)
E55: 2 | I55: =+CONCATENATE(F55," ",G55," ",H55) | K55: =+IF(J55='11 FORMULAS'!$E$4,'11 FORMULAS'!$F$4,IF(J55='11 FORMULAS'!$E$5,'11 FORMULAS'!$F$5,IF(J55='11 FORMULAS'!$E$6,'11 FORMULAS'!$F$6,""))) | L55: =+IF(OR(J55='11 FORMULAS'!$O$4,J55='11 FORMULAS'!$O$5),'11 FORMULAS'!$P$5,IF(J55='11 FORMULAS'!$O$6,'11 FORMULAS'!$P$6,"")) | N55: =+IF(M55='11 FORMULAS'!$H$4,'11 FORMULAS'!$I$4,IF(M55='11 FORMULAS'!$H$5,'11 FORMULAS'!$I$5,"")) | R55: =+IFERROR(K55+N55,"") | S55: =IF(L55='11 FORMULAS'!$P$5,S54-(S54*R55),S54) | T55: =IF(L55='11 FORMULAS'!$P$6,T54-(T54*R55),T54)
E56: 3 | I56: =+CONCATENATE(F56," ",G56," ",H56) | K56: =+IF(J56='11 FORMULAS'!$E$4,'11 FORMULAS'!$F$4,IF(J56='11 FORMULAS'!$E$5,'11 FORMULAS'!$F$5,IF(J56='11 FORMULAS'!$E$6,'11 FORMULAS'!$F$6,""))) | L56: =+IF(OR(J56='11 FORMULAS'!$O$4,J56='11 FORMULAS'!$O$5),'11 FORMULAS'!$P$5,IF(J56='11 FORMULAS'!$O$6,'11 FORMULAS'!$P$6,"")) | N56: =+IF(M56='11 FORMULAS'!$H$4,'11 FORMULAS'!$I$4,IF(M56='11 FORMULAS'!$H$5,'11 FORMULAS'!$I$5,"")) | R56: =+IFERROR(K56+N56,"") | S56: =IF(L56='11 FORMULAS'!$P$5,S55-(S55*R56),S55) | T56: =IF(L56='11 FORMULAS'!$P$6,T55-(T55*R56),T55)
E57: 4 | I57: =+CONCATENATE(F57," ",G57," ",H57) | K57: =+IF(J57='11 FORMULAS'!$E$4,'11 FORMULAS'!$F$4,IF(J57='11 FORMULAS'!$E$5,'11 FORMULAS'!$F$5,IF(J57='11 FORMULAS'!$E$6,'11 FORMULAS'!$F$6,""))) | L57: =+IF(OR(J57='11 FORMULAS'!$O$4,J57='11 FORMULAS'!$O$5),'11 FORMULAS'!$P$5,IF(J57='11 FORMULAS'!$O$6,'11 FORMULAS'!$P$6,"")) | N57: =+IF(M57='11 FORMULAS'!$H$4,'11 FORMULAS'!$I$4,IF(M57='11 FORMULAS'!$H$5,'11 FORMULAS'!$I$5,"")) | R57: =+IFERROR(K57+N57,"") | S57: =IF(L57='11 FORMULAS'!$P$5,S56-(S56*R57),S56) | T57: =IF(L57='11 FORMULAS'!$P$6,T56-(T56*R57),T56)
A58: ='2 CONTEXTO E IDENTIFICACIÓN'!A19 -> R16 | B58: =+'2 CONTEXTO E IDENTIFICACIÓN'!E19 | C58: =+'3 PROBABIL E IMPACTO INHERENTE'!E21 | D58: =+'3 PROBABIL E IMPACTO INHERENTE'!M21 | E58: 1 | I58: =+CONCATENATE(F58," ",G58," ",H58) | K58: =+IF(J58='11 FORMULAS'!$E$4,'11 FORMULAS'!$F$4,IF(J58='11 FORMULAS'!$E$5,'11 FORMULAS'!$F$5,IF(J58='11 FORMULAS'!$E$6,'11 FORMULAS'!$F$6,""))) | L58: =+IF(OR(J58='11 FORMULAS'!$O$4,J58='11 FORMULAS'!$O$5),'11 FORMULAS'!$P$5,IF(J58='11 FORMULAS'!$O$6,'11 FORMULAS'!$P$6,"")) | N58: =+IF(M58='11 FORMULAS'!$H$4,'11 FORMULAS'!$I$4,IF(M58='11 FORMULAS'!$H$5,'11 FORMULAS'!$I$5,"")) | R58: =+IFERROR(K58+N58,"") | S58: =IF(L58='11 FORMULAS'!$P$5,C58-(C58*R58),C58) | T58: =IF(L58='11 FORMULAS'!$P$6,D58-(D58*R58),D58) | U58: =+IF(S61="","",S61) | V58: =+IF(T61="","",T61)
E59: 2 | I59: =+CONCATENATE(F59," ",G59," ",H59) | K59: =+IF(J59='11 FORMULAS'!$E$4,'11 FORMULAS'!$F$4,IF(J59='11 FORMULAS'!$E$5,'11 FORMULAS'!$F$5,IF(J59='11 FORMULAS'!$E$6,'11 FORMULAS'!$F$6,""))) | L59: =+IF(OR(J59='11 FORMULAS'!$O$4,J59='11 FORMULAS'!$O$5),'11 FORMULAS'!$P$5,IF(J59='11 FORMULAS'!$O$6,'11 FORMULAS'!$P$6,"")) | N59: =+IF(M59='11 FORMULAS'!$H$4,'11 FORMULAS'!$I$4,IF(M59='11 FORMULAS'!$H$5,'11 FORMULAS'!$I$5,"")) | R59: =+IFERROR(K59+N59,"") | S59: =IF(L59='11 FORMULAS'!$P$5,S58-(S58*R59),S58) | T59: =IF(L59='11 FORMULAS'!$P$6,T58-(T58*R59),T58)
E60: 3 | I60: =+CONCATENATE(F60," ",G60," ",H60) | K60: =+IF(J60='11 FORMULAS'!$E$4,'11 FORMULAS'!$F$4,IF(J60='11 FORMULAS'!$E$5,'11 FORMULAS'!$F$5,IF(J60='11 FORMULAS'!$E$6,'11 FORMULAS'!$F$6,""))) | L60: =+IF(OR(J60='11 FORMULAS'!$O$4,J60='11 FORMULAS'!$O$5),'11 FORMULAS'!$P$5,IF(J60='11 FORMULAS'!$O$6,'11 FORMULAS'!$P$6,"")) | N60: =+IF(M60='11 FORMULAS'!$H$4,'11 FORMULAS'!$I$4,IF(M60='11 FORMULAS'!$H$5,'11 FORMULAS'!$I$5,"")) | R60: =+IFERROR(K60+N60,"") | S60: =IF(L60='11 FORMULAS'!$P$5,S59-(S59*R60),S59) | T60: =IF(L60='11 FORMULAS'!$P$6,T59-(T59*R60),T59)
E61: 4 | I61: =+CONCATENATE(F61," ",G61," ",H61) | K61: =+IF(J61='11 FORMULAS'!$E$4,'11 FORMULAS'!$F$4,IF(J61='11 FORMULAS'!$E$5,'11 FORMULAS'!$F$5,IF(J61='11 FORMULAS'!$E$6,'11 FORMULAS'!$F$6,""))) | L61: =+IF(OR(J61='11 FORMULAS'!$O$4,J61='11 FORMULAS'!$O$5),'11 FORMULAS'!$P$5,IF(J61='11 FORMULAS'!$O$6,'11 FORMULAS'!$P$6,"")) | N61: =+IF(M61='11 FORMULAS'!$H$4,'11 FORMULAS'!$I$4,IF(M61='11 FORMULAS'!$H$5,'11 FORMULAS'!$I$5,"")) | R61: =+IFERROR(K61+N61,"") | S61: =IF(L61='11 FORMULAS'!$P$5,S60-(S60*R61),S60) | T61: =IF(L61='11 FORMULAS'!$P$6,T60-(T60*R61),T60)
A62: ='2 CONTEXTO E IDENTIFICACIÓN'!A20 -> R17 | B62: =+'2 CONTEXTO E IDENTIFICACIÓN'!E20 | C62: =+'3 PROBABIL E IMPACTO INHERENTE'!E22 | D62: =+'3 PROBABIL E IMPACTO INHERENTE'!M22 | E62: 1 | I62: =+CONCATENATE(F62," ",G62," ",H62) | K62: =+IF(J62='11 FORMULAS'!$E$4,'11 FORMULAS'!$F$4,IF(J62='11 FORMULAS'!$E$5,'11 FORMULAS'!$F$5,IF(J62='11 FORMULAS'!$E$6,'11 FORMULAS'!$F$6,""))) | L62: =+IF(OR(J62='11 FORMULAS'!$O$4,J62='11 FORMULAS'!$O$5),'11 FORMULAS'!$P$5,IF(J62='11 FORMULAS'!$O$6,'11 FORMULAS'!$P$6,"")) | N62: =+IF(M62='11 FORMULAS'!$H$4,'11 FORMULAS'!$I$4,IF(M62='11 FORMULAS'!$H$5,'11 FORMULAS'!$I$5,"")) | R62: =+IFERROR(K62+N62,"") | S62: =IF(L62='11 FORMULAS'!$P$5,C62-(C62*R62),C62) | T62: =IF(L62='11 FORMULAS'!$P$6,D62-(D62*R62),D62) | U62: =+IF(S65="","",S65) | V62: =+IF(T65="","",T65)
E63: 2 | I63: =+CONCATENATE(F63," ",G63," ",H63) | K63: =+IF(J63='11 FORMULAS'!$E$4,'11 FORMULAS'!$F$4,IF(J63='11 FORMULAS'!$E$5,'11 FORMULAS'!$F$5,IF(J63='11 FORMULAS'!$E$6,'11 FORMULAS'!$F$6,""))) | L63: =+IF(OR(J63='11 FORMULAS'!$O$4,J63='11 FORMULAS'!$O$5),'11 FORMULAS'!$P$5,IF(J63='11 FORMULAS'!$O$6,'11 FORMULAS'!$P$6,"")) | N63: =+IF(M63='11 FORMULAS'!$H$4,'11 FORMULAS'!$I$4,IF(M63='11 FORMULAS'!$H$5,'11 FORMULAS'!$I$5,"")) | R63: =+IFERROR(K63+N63,"") | S63: =IF(L63='11 FORMULAS'!$P$5,S62-(S62*R63),S62) | T63: =IF(L63='11 FORMULAS'!$P$6,T62-(T62*R63),T62)
E64: 3 | I64: =+CONCATENATE(F64," ",G64," ",H64) | K64: =+IF(J64='11 FORMULAS'!$E$4,'11 FORMULAS'!$F$4,IF(J64='11 FORMULAS'!$E$5,'11 FORMULAS'!$F$5,IF(J64='11 FORMULAS'!$E$6,'11 FORMULAS'!$F$6,""))) | L64: =+IF(OR(J64='11 FORMULAS'!$O$4,J64='11 FORMULAS'!$O$5),'11 FORMULAS'!$P$5,IF(J64='11 FORMULAS'!$O$6,'11 FORMULAS'!$P$6,"")) | N64: =+IF(M64='11 FORMULAS'!$H$4,'11 FORMULAS'!$I$4,IF(M64='11 FORMULAS'!$H$5,'11 FORMULAS'!$I$5,"")) | R64: =+IFERROR(K64+N64,"") | S64: =IF(L64='11 FORMULAS'!$P$5,S63-(S63*R64),S63) | T64: =IF(L64='11 FORMULAS'!$P$6,T63-(T63*R64),T63)
E65: 4 | I65: =+CONCATENATE(F65," ",G65," ",H65) | K65: =+IF(J65='11 FORMULAS'!$E$4,'11 FORMULAS'!$F$4,IF(J65='11 FORMULAS'!$E$5,'11 FORMULAS'!$F$5,IF(J65='11 FORMULAS'!$E$6,'11 FORMULAS'!$F$6,""))) | L65: =+IF(OR(J65='11 FORMULAS'!$O$4,J65='11 FORMULAS'!$O$5),'11 FORMULAS'!$P$5,IF(J65='11 FORMULAS'!$O$6,'11 FORMULAS'!$P$6,"")) | N65: =+IF(M65='11 FORMULAS'!$H$4,'11 FORMULAS'!$I$4,IF(M65='11 FORMULAS'!$H$5,'11 FORMULAS'!$I$5,"")) | R65: =+IFERROR(K65+N65,"") | S65: =IF(L65='11 FORMULAS'!$P$5,S64-(S64*R65),S64) | T65: =IF(L65='11 FORMULAS'!$P$6,T64-(T64*R65),T64)
A66: ='2 CONTEXTO E IDENTIFICACIÓN'!A21 -> R18 | B66: =+'2 CONTEXTO E IDENTIFICACIÓN'!E21 | C66: =+'3 PROBABIL E IMPACTO INHERENTE'!E23 | D66: =+'3 PROBABIL E IMPACTO INHERENTE'!M23 | E66: 1 | I66: =+CONCATENATE(F66," ",G66," ",H66) | K66: =+IF(J66='11 FORMULAS'!$E$4,'11 FORMULAS'!$F$4,IF(J66='11 FORMULAS'!$E$5,'11 FORMULAS'!$F$5,IF(J66='11 FORMULAS'!$E$6,'11 FORMULAS'!$F$6,""))) | L66: =+IF(OR(J66='11 FORMULAS'!$O$4,J66='11 FORMULAS'!$O$5),'11 FORMULAS'!$P$5,IF(J66='11 FORMULAS'!$O$6,'11 FORMULAS'!$P$6,"")) | N66: =+IF(M66='11 FORMULAS'!$H$4,'11 FORMULAS'!$I$4,IF(M66='11 FORMULAS'!$H$5,'11 FORMULAS'!$I$5,"")) | R66: =+IFERROR(K66+N66,"") | S66: =IF(L66='11 FORMULAS'!$P$5,C66-(C66*R66),C66) | T66: =IF(L66='11 FORMULAS'!$P$6,D66-(D66*R66),D66) | U66: =+IF(S69="","",S69) | V66: =+IF(T69="","",T69)
E67: 2 | I67: =+CONCATENATE(F67," ",G67," ",H67) | K67: =+IF(J67='11 FORMULAS'!$E$4,'11 FORMULAS'!$F$4,IF(J67='11 FORMULAS'!$E$5,'11 FORMULAS'!$F$5,IF(J67='11 FORMULAS'!$E$6,'11 FORMULAS'!$F$6,""))) | L67: =+IF(OR(J67='11 FORMULAS'!$O$4,J67='11 FORMULAS'!$O$5),'11 FORMULAS'!$P$5,IF(J67='11 FORMULAS'!$O$6,'11 FORMULAS'!$P$6,"")) | N67: =+IF(M67='11 FORMULAS'!$H$4,'11 FORMULAS'!$I$4,IF(M67='11 FORMULAS'!$H$5,'11 FORMULAS'!$I$5,"")) | R67: =+IFERROR(K67+N67,"") | S67: =IF(L67='11 FORMULAS'!$P$5,S66-(S66*R67),S66) | T67: =IF(L67='11 FORMULAS'!$P$6,T66-(T66*R67),T66)
E68: 3 | I68: =+CONCATENATE(F68," ",G68," ",H68) | K68: =+IF(J68='11 FORMULAS'!$E$4,'11 FORMULAS'!$F$4,IF(J68='11 FORMULAS'!$E$5,'11 FORMULAS'!$F$5,IF(J68='11 FORMULAS'!$E$6,'11 FORMULAS'!$F$6,""))) | L68: =+IF(OR(J68='11 FORMULAS'!$O$4,J68='11 FORMULAS'!$O$5),'11 FORMULAS'!$P$5,IF(J68='11 FORMULAS'!$O$6,'11 FORMULAS'!$P$6,"")) | N68: =+IF(M68='11 FORMULAS'!$H$4,'11 FORMULAS'!$I$4,IF(M68='11 FORMULAS'!$H$5,'11 FORMULAS'!$I$5,"")) | R68: =+IFERROR(K68+N68,"") | S68: =IF(L68='11 FORMULAS'!$P$5,S67-(S67*R68),S67) | T68: =IF(L68='11 FORMULAS'!$P$6,T67-(T67*R68),T67)
E69: 4 | I69: =+CONCATENATE(F69," ",G69," ",H69) | K69: =+IF(J69='11 FORMULAS'!$E$4,'11 FORMULAS'!$F$4,IF(J69='11 FORMULAS'!$E$5,'11 FORMULAS'!$F$5,IF(J69='11 FORMULAS'!$E$6,'11 FORMULAS'!$F$6,""))) | L69: =+IF(OR(J69='11 FORMULAS'!$O$4,J69='11 FORMULAS'!$O$5),'11 FORMULAS'!$P$5,IF(J69='11 FORMULAS'!$O$6,'11 FORMULAS'!$P$6,"")) | N69: =+IF(M69='11 FORMULAS'!$H$4,'11 FORMULAS'!$I$4,IF(M69='11 FORMULAS'!$H$5,'11 FORMULAS'!$I$5,"")) | R69: =+IFERROR(K69+N69,"") | S69: =IF(L69='11 FORMULAS'!$P$5,S68-(S68*R69),S68) | T69: =IF(L69='11 FORMULAS'!$P$6,T68-(T68*R69),T68)
A70: ='2 CONTEXTO E IDENTIFICACIÓN'!A22 -> R19 | B70: =+'2 CONTEXTO E IDENTIFICACIÓN'!E22 | C70: =+'3 PROBABIL E IMPACTO INHERENTE'!E24 | D70: =+'3 PROBABIL E IMPACTO INHERENTE'!M24 | E70: 1 | I70: =+CONCATENATE(F70," ",G70," ",H70) | K70: =+IF(J70='11 FORMULAS'!$E$4,'11 FORMULAS'!$F$4,IF(J70='11 FORMULAS'!$E$5,'11 FORMULAS'!$F$5,IF(J70='11 FORMULAS'!$E$6,'11 FORMULAS'!$F$6,""))) | L70: =+IF(OR(J70='11 FORMULAS'!$O$4,J70='11 FORMULAS'!$O$5),'11 FORMULAS'!$P$5,IF(J70='11 FORMULAS'!$O$6,'11 FORMULAS'!$P$6,"")) | N70: =+IF(M70='11 FORMULAS'!$H$4,'11 FORMULAS'!$I$4,IF(M70='11 FORMULAS'!$H$5,'11 FORMULAS'!$I$5,"")) | R70: =+IFERROR(K70+N70,"") | S70: =IF(L70='11 FORMULAS'!$P$5,C70-(C70*R70),C70) | T70: =IF(L70='11 FORMULAS'!$P$6,D70-(D70*R70),D70) | U70: =+IF(S73="","",S73) | V70: =+IF(T73="","",T73)
E71: 2 | I71: =+CONCATENATE(F71," ",G71," ",H71) | K71: =+IF(J71='11 FORMULAS'!$E$4,'11 FORMULAS'!$F$4,IF(J71='11 FORMULAS'!$E$5,'11 FORMULAS'!$F$5,IF(J71='11 FORMULAS'!$E$6,'11 FORMULAS'!$F$6,""))) | L71: =+IF(OR(J71='11 FORMULAS'!$O$4,J71='11 FORMULAS'!$O$5),'11 FORMULAS'!$P$5,IF(J71='11 FORMULAS'!$O$6,'11 FORMULAS'!$P$6,"")) | N71: =+IF(M71='11 FORMULAS'!$H$4,'11 FORMULAS'!$I$4,IF(M71='11 FORMULAS'!$H$5,'11 FORMULAS'!$I$5,"")) | R71: =+IFERROR(K71+N71,"") | S71: =IF(L71='11 FORMULAS'!$P$5,S70-(S70*R71),S70) | T71: =IF(L71='11 FORMULAS'!$P$6,T70-(T70*R71),T70)
E72: 3 | I72: =+CONCATENATE(F72," ",G72," ",H72) | K72: =+IF(J72='11 FORMULAS'!$E$4,'11 FORMULAS'!$F$4,IF(J72='11 FORMULAS'!$E$5,'11 FORMULAS'!$F$5,IF(J72='11 FORMULAS'!$E$6,'11 FORMULAS'!$F$6,""))) | L72: =+IF(OR(J72='11 FORMULAS'!$O$4,J72='11 FORMULAS'!$O$5),'11 FORMULAS'!$P$5,IF(J72='11 FORMULAS'!$O$6,'11 FORMULAS'!$P$6,"")) | N72: =+IF(M72='11 FORMULAS'!$H$4,'11 FORMULAS'!$I$4,IF(M72='11 FORMULAS'!$H$5,'11 FORMULAS'!$I$5,"")) | R72: =+IFERROR(K72+N72,"") | S72: =IF(L72='11 FORMULAS'!$P$5,S71-(S71*R72),S71) | T72: =IF(L72='11 FORMULAS'!$P$6,T71-(T71*R72),T71)
E73: 4 | I73: =+CONCATENATE(F73," ",G73," ",H73) | K73: =+IF(J73='11 FORMULAS'!$E$4,'11 FORMULAS'!$F$4,IF(J73='11 FORMULAS'!$E$5,'11 FORMULAS'!$F$5,IF(J73='11 FORMULAS'!$E$6,'11 FORMULAS'!$F$6,""))) | L73: =+IF(OR(J73='11 FORMULAS'!$O$4,J73='11 FORMULAS'!$O$5),'11 FORMULAS'!$P$5,IF(J73='11 FORMULAS'!$O$6,'11 FORMULAS'!$P$6,"")) | N73: =+IF(M73='11 FORMULAS'!$H$4,'11 FORMULAS'!$I$4,IF(M73='11 FORMULAS'!$H$5,'11 FORMULAS'!$I$5,"")) | R73: =+IFERROR(K73+N73,"") | S73: =IF(L73='11 FORMULAS'!$P$5,S72-(S72*R73),S72) | T73: =IF(L73='11 FORMULAS'!$P$6,T72-(T72*R73),T72)
A74: ='2 CONTEXTO E IDENTIFICACIÓN'!A23 -> R20 | B74: =+'2 CONTEXTO E IDENTIFICACIÓN'!E23 | C74: =+'3 PROBABIL E IMPACTO INHERENTE'!E25 | D74: =+'3 PROBABIL E IMPACTO INHERENTE'!M25 | E74: 1 | I74: =+CONCATENATE(F74," ",G74," ",H74) | K74: =+IF(J74='11 FORMULAS'!$E$4,'11 FORMULAS'!$F$4,IF(J74='11 FORMULAS'!$E$5,'11 FORMULAS'!$F$5,IF(J74='11 FORMULAS'!$E$6,'11 FORMULAS'!$F$6,""))) | L74: =+IF(OR(J74='11 FORMULAS'!$O$4,J74='11 FORMULAS'!$O$5),'11 FORMULAS'!$P$5,IF(J74='11 FORMULAS'!$O$6,'11 FORMULAS'!$P$6,"")) | N74: =+IF(M74='11 FORMULAS'!$H$4,'11 FORMULAS'!$I$4,IF(M74='11 FORMULAS'!$H$5,'11 FORMULAS'!$I$5,"")) | R74: =+IFERROR(K74+N74,"") | S74: =IF(L74='11 FORMULAS'!$P$5,C74-(C74*R74),C74) | T74: =IF(L74='11 FORMULAS'!$P$6,D74-(D74*R74),D74) | U74: =+IF(S77="","",S77) | V74: =+IF(T77="","",T77)
E75: 2 | I75: =+CONCATENATE(F75," ",G75," ",H75) | K75: =+IF(J75='11 FORMULAS'!$E$4,'11 FORMULAS'!$F$4,IF(J75='11 FORMULAS'!$E$5,'11 FORMULAS'!$F$5,IF(J75='11 FORMULAS'!$E$6,'11 FORMULAS'!$F$6,""))) | L75: =+IF(OR(J75='11 FORMULAS'!$O$4,J75='11 FORMULAS'!$O$5),'11 FORMULAS'!$P$5,IF(J75='11 FORMULAS'!$O$6,'11 FORMULAS'!$P$6,"")) | N75: =+IF(M75='11 FORMULAS'!$H$4,'11 FORMULAS'!$I$4,IF(M75='11 FORMULAS'!$H$5,'11 FORMULAS'!$I$5,"")) | R75: =+IFERROR(K75+N75,"") | S75: =IF(L75='11 FORMULAS'!$P$5,S74-(S74*R75),S74) | T75: =IF(L75='11 FORMULAS'!$P$6,T74-(T74*R75),T74)
E76: 3 | I76: =+CONCATENATE(F76," ",G76," ",H76) | K76: =+IF(J76='11 FORMULAS'!$E$4,'11 FORMULAS'!$F$4,IF(J76='11 FORMULAS'!$E$5,'11 FORMULAS'!$F$5,IF(J76='11 FORMULAS'!$E$6,'11 FORMULAS'!$F$6,""))) | L76: =+IF(OR(J76='11 FORMULAS'!$O$4,J76='11 FORMULAS'!$O$5),'11 FORMULAS'!$P$5,IF(J76='11 FORMULAS'!$O$6,'11 FORMULAS'!$P$6,"")) | N76: =+IF(M76='11 FORMULAS'!$H$4,'11 FORMULAS'!$I$4,IF(M76='11 FORMULAS'!$H$5,'11 FORMULAS'!$I$5,"")) | R76: =+IFERROR(K76+N76,"") | S76: =IF(L76='11 FORMULAS'!$P$5,S75-(S75*R76),S75) | T76: =IF(L76='11 FORMULAS'!$P$6,T75-(T75*R76),T75)
E77: 4 | I77: =+CONCATENATE(F77," ",G77," ",H77) | K77: =+IF(J77='11 FORMULAS'!$E$4,'11 FORMULAS'!$F$4,IF(J77='11 FORMULAS'!$E$5,'11 FORMULAS'!$F$5,IF(J77='11 FORMULAS'!$E$6,'11 FORMULAS'!$F$6,""))) | L77: =+IF(OR(J77='11 FORMULAS'!$O$4,J77='11 FORMULAS'!$O$5),'11 FORMULAS'!$P$5,IF(J77='11 FORMULAS'!$O$6,'11 FORMULAS'!$P$6,"")) | N77: =+IF(M77='11 FORMULAS'!$H$4,'11 FORMULAS'!$I$4,IF(M77='11 FORMULAS'!$H$5,'11 FORMULAS'!$I$5,"")) | R77: =+IFERROR(K77+N77,"") | S77: =IF(L77='11 FORMULAS'!$P$5,S76-(S76*R77),S76) | T77: =IF(L77='11 FORMULAS'!$P$6,T76-(T76*R77),T76)

Sheet 6 MAPA CALOR RESIDUAL
A2: PROCESO: | B2: =+IF('2 CONTEXTO E IDENTIFICACIÓN'!$B$2="","",'2 CONTEXTO E IDENTIFICACIÓN'!$B$2) -> GESTIÓN DE SERVICIOS PUBLICOS
I4: MAPA DE CALOR RIESGO RESIDUAL | T4: Impacto
E5: CALIFICACIÓN RIESGO RESIDUAL | K5: Impacto | T5: 0.2 | U5: 0.4 | V5: 0.6 | W5: 0.8 | X5: 1
A6: No. Riesgo | B6: RIESGO | C6: Probabilidad Residual | D6: Probabilidad Residual | E6: Probabilidad | F6: Impacto | G6: Severidad (Nivel de Riesgo) | K6: Leve | L6: Menor | M6: Moderado | N6: Mayor | O6: Catastrófico | T6: Leve | U6: Menor | V6: Moderado | W6: Mayor | X6: Catastrófico
A7: ='2 CONTEXTO E IDENTIFICACIÓN'!A6 -> R1 | B7: =+'2 CONTEXTO E IDENTIFICACIÓN'!E6 -> Posibilidad de pérdida Económica y Reputacional por contaminación ambiental a causa de las descargas de aguas residuales debido a la falta de seguimiento y control a los vertimientos realizados por usuarios diferentes al residencial que hacen uso del alcantarillado público y a la infraestructura de las redes de alcantarillado en condiciones inadecuadas. | C7: =+'5 VALORACIÓN DEL CONTROL'!S9 -> 0.4 | D7: =+'5 VALORACIÓN DEL CONTROL'!T9 -> 0.3375 | E7: =+IF(C7=0,"",IF(C7<=$R$11,$S$11,IF(C7<=$R$10,$S$10,IF(C7<=$R$9,$S$9,IF(C7<=$R$8,$S$8,IF(C7<=$R$7,$S$7,"")))))) -> Baja | F7: =+IF(D7=0,"",IF(D7<=$T$5,$T$6,IF(D7<=$U$5,$U$6,IF(D7<=$V$5,$V$6,IF(D7<=$W$5,$W$6,IF(D7<=$X$5,$X$6,"")))))) -> Menor | G7: =+IF(E7=$S$7,IF(F7=$T$6,$T$7,IF(F7=$U$6,$U$7,IF(F7=$V$6,$V$7,IF(F7=$W$6,$W$7,IF(F7=$X$6,$X$7))))),IF(E7=$S$8,IF(F7=$T$6,$T$8,IF(F7=$U$6,$U$8,IF(F7=$V$6,$V$8,IF(F7=$W$6,$W$8,IF(F7=$X$6,$X$8))))),IF(E7=$S$9,IF(F7=$T$6,$T$9,IF(F7=$U$6,$U$9,IF(F7=$V$6,$V$9,IF(F7=$W$6,$W$9,IF(F7=$X$6,$X$9))))),IF(E7=$S$10,IF(F7=$T$6,$T$10,IF(F7=$U$6,$U$10,IF(F7=$V$6,$V$10,IF(F7=$W$6,$W$10,IF(F7=$X$6,$X$10))))),IF(E7=$S$11,IF(F7=$T$6,$T$11,IF(F7=$U$6,$U$11,IF(F7=$V$6,$V$11,IF(F7=$W$6,$W$11,IF(F7=$X$6,$X$11))))),""))))) -> Moderado | I7: Probabilidad | J7: Muy Alta | K7: =+IF(AND(E7=$S$7,F7=$T$6),A7,"")&" "&IF(AND(E8=$S$7,F8=$T$6),A8,"")&" "&IF(AND(E9=$S$7,F9=$T$6),A9,"")&" "&IF(AND(E10=$S$7,F10=$T$6),A10,"")&" "&IF(AND(E11=$S$7,F11=$T$6),A11,"")&" "&IF(AND(E12=$S$7,F12=$T$6),A12,"")&" "&IF(AND(E13=$S$7,F13=$T$6),A13,"")&" "&IF(AND(E14=$S$7,F14=$T$6),A14,"")&" "&IF(AND(E15=$S$7,F15=$T$6),A15,"")&" "&IF(AND(E16=$S$7,F16=$T$6),A16,"")&" "&IF(AND(E17=$S$7,F17=$T$6),A17,"")&" "&IF(AND(E18=$S$7,F18=$T$6),A18,"")&" "&IF(AND(E19=$S$7,F19=$T$6),A19,"")&" "&IF(AND(E20=$S$7,F20=$T$6),A20,"")&" "&IF(AND(E21=$S$7,F21=$T$6),A21,"")&" "&IF(AND(E22=$S$7,F22=$T$6),A22,"")&" "&IF(AND(E23=$S$7,F23=$T$6),A23,"")&" "&IF(AND(E24=$S$7,F24=$T$6),A24,"")&" "&IF(AND(E25=$S$7,F25=$T$6),A25,"")&" "&IF(AND(E26=$S$7,F26=$T$6),A26,"") | L7: =+IF(AND(E7=$S$7,F7=$U$6),A7,"")&" "&IF(AND(E8=$S$7,F8=$U$6),A8,"")&" "&IF(AND(E9=$S$7,F9=$U$6),A9,"")&" "&IF(AND(E10=$S$7,F10=$U$6),A10,"")&" "&IF(AND(E11=$S$7,F11=$U$6),A11,"")&" "&IF(AND(E12=$S$7,F12=$U$6),A12,"")&" "&IF(AND(E13=$S$7,F13=$U$6),A13,"")&" "&IF(AND(E14=$S$7,F14=$U$6),A14,"")&" "&IF(AND(E15=$S$7,F15=$U$6),A15,"")&" "&IF(AND(E16=$S$7,F16=$U$6),A16,"")&" "&IF(AND(E17=$S$7,F17=$U$6),A17,"")&" "&IF(AND(E18=$S$7,F18=$U$6),A18,"")&" "&IF(AND(E19=$S$7,F19=$U$6),A19,"")&" "&IF(AND(E20=$S$7,F20=$U$6),A20,"")&" "&IF(AND(E21=$S$7,F21=$U$6),A21,"")&" "&IF(AND(E22=$S$7,F22=$U$6),A22,"")&" "&IF(AND(E23=$S$7,F23=$U$6),A23,"")&" "&IF(AND(E24=$S$7,F24=$U$6),A24,"")&" "&IF(AND(E25=$S$7,F25=$U$6),A25,"")&" "&IF(AND(E26=$S$7,F26=$U$6),A26,"") | M7: =+IF(AND(E7=$S$7,F7=$V$6),A7,"")&" "&IF(AND(E8=$S$7,F8=$V$6),A8,"")&" "&IF(AND(E9=$S$7,F9=$V$6),A9,"")&" "&IF(AND(E10=$S$7,F10=$V$6),A10,"")&" "&IF(AND(E11=$S$7,F11=$V$6),A11,"")&" "&IF(AND(E12=$S$7,F12=$V$6),A12,"")&" "&IF(AND(E13=$S$7,F13=$V$6),A13,"")&" "&IF(AND(E14=$S$7,F14=$V$6),A14,"")&" "&IF(AND(E15=$S$7,F15=$V$6),A15,"")&" "&IF(AND(E16=$S$7,F16=$V$6),A16,"")&" "&IF(AND(E17=$S$7,F17=$V$6),A17,"")&" "&IF(AND(E18=$S$7,F18=$V$6),A18,"")&" "&IF(AND(E19=$S$7,F19=$V$6),A19,"")&" "&IF(AND(E20=$S$7,F20=$V$6),A20,"")&" "&IF(AND(E21=$S$7,F21=$V$6),A21,"")&" "&IF(AND(E22=$S$7,F22=$V$6),A22,"")&" "&IF(AND(E23=$S$7,F23=$V$6),A23,"")&" "&IF(AND(E24=$S$7,F24=$V$6),A24,"")&" "&IF(AND(E25=$S$7,F25=$V$6),A25,"")&" "&IF(AND(E26=$S$7,F26=$V$6),A26,"") | N7: =+IF(AND(E7=$S$7,F7=$W$6),A7,"")&" "&IF(AND(E8=$S$7,F8=$W$6),A8,"")&" "&IF(AND(E9=$S$7,F9=$W$6),A9,"")&" "&IF(AND(E10=$S$7,F10=$W$6),A10,"")&" "&IF(AND(E11=$S$7,F11=$W$6),A11,"")&" "&IF(AND(E12=$S$7,F12=$W$6),A12,"")&" "&IF(AND(E13=$S$7,F13=$W$6),A13,"")&" "&IF(AND(E14=$S$7,F14=$W$6),A14,"")&" "&IF(AND(E15=$S$7,F15=$W$6),A15,"")&" "&IF(AND(E16=$S$7,F16=$W$6),A16,"")&" "&IF(AND(E17=$S$7,F17=$W$6),A17,"")&" "&IF(AND(E18=$S$7,F18=$W$6),A18,"")&" "&IF(AND(E19=$S$7,F19=$W$6),A19,"")&" "&IF(AND(E20=$S$7,F20=$W$6),A20,"")&" "&IF(AND(E21=$S$7,F21=$W$6),A21,"")&" "&IF(AND(E22=$S$7,F22=$W$6),A22,"")&" "&IF(AND(E23=$S$7,F23=$W$6),A23,"")&" "&IF(AND(E24=$S$7,F24=$W$6),A24,"")&" "&IF(AND(E25=$S$7,F25=$W$6),A25,"")&" "&IF(AND(E26=$S$7,F26=$W$6),A26,"") | O7: =+IF(AND(E7=$S$7,F7=$X$6),A7,"")&" "&IF(AND(E8=$S$7,F8=$X$6),A8,"")&" "&IF(AND(E9=$S$7,F9=$X$6),A9,"")&" "&IF(AND(E10=$S$7,F10=$X$6),A10,"")&" "&IF(AND(E11=$S$7,F11=$X$6),A11,"")&" "&IF(AND(E12=$S$7,F12=$X$6),A12,"")&" "&IF(AND(E13=$S$7,F13=$X$6),A13,"")&" "&IF(AND(E14=$S$7,F14=$X$6),A14,"")&" "&IF(AND(E15=$S$7,F15=$X$6),A15,"")&" "&IF(AND(E16=$S$7,F16=$X$6),A16,"")&" "&IF(AND(E17=$S$7,F17=$X$6),A17,"")&" "&IF(AND(E18=$S$7,F18=$X$6),A18,"")&" "&IF(AND(E19=$S$7,F19=$X$6),A19,"")&" "&IF(AND(E20=$S$7,F20=$X$6),A20,"")&" "&IF(AND(E21=$S$7,F21=$X$6),A21,"")&" "&IF(AND(E22=$S$7,F22=$X$6),A22,"")&" "&IF(AND(E23=$S$7,F23=$X$6),A23,"")&" "&IF(AND(E24=$S$7,F24=$X$6),A24,"")&" "&IF(AND(E25=$S$7,F25=$X$6),A25,"")&" "&IF(AND(E26=$S$7,F26=$X$6),A26,"") | Q7: Probabilidad | R7: 1 | S7: Muy Alta | T7: Alto | U7: Alto | V7: Alto | W7: Alto | X7: Extremo
J8: Alta | K8: =+IF(AND(E7=$S$8,F7=$T$6),A7,"")&" "&IF(AND(E8=$S$8,F8=$T$6),A8,"")&" "&IF(AND(E9=$S$8,F9=$T$6),A9,"")&" "&IF(AND(E10=$S$8,F10=$T$6),A10,"")&" "&IF(AND(E11=$S$8,F11=$T$6),A11,"")&" "&IF(AND(E12=$S$8,F12=$T$6),A12,"")&" "&IF(AND(E13=$S$8,F13=$T$6),A13,"")&" "&IF(AND(E14=$S$8,F14=$T$6),A14,"")&" "&IF(AND(E15=$S$8,F15=$T$6),A15,"")&" "&IF(AND(E16=$S$8,F16=$T$6),A16,"")&" "&IF(AND(E17=$S$8,F17=$T$6),A17,"")&" "&IF(AND(E18=$S$8,F18=$T$6),A18,"")&" "&IF(AND(E19=$S$8,F19=$T$6),A19,"")&" "&IF(AND(E20=$S$8,F20=$T$6),A20,"")&" "&IF(AND(E21=$S$8,F21=$T$6),A21,"")&" "&IF(AND(E22=$S$8,F22=$T$6),A22,"")&" "&IF(AND(E23=$S$8,F23=$T$6),A23,"")&" "&IF(AND(E24=$S$8,F24=$T$6),A24,"")&" "&IF(AND(E25=$S$8,F25=$T$6),A25,"")&" "&IF(AND(E26=$S$8,F26=$T$6),A26,"") | L8: =+IF(AND(E7=$S$8,F7=$U$6),A7,"")&" "&IF(AND(E8=$S$8,F8=$U$6),A8,"")&" "&IF(AND(E9=$S$8,F9=$U$6),A9,"")&" "&IF(AND(E10=$S$8,F10=$U$6),A10,"")&" "&IF(AND(E11=$S$8,F11=$U$6),A11,"")&" "&IF(AND(E12=$S$8,F12=$U$6),A12,"")&" "&IF(AND(E13=$S$8,F13=$U$6),A13,"")&" "&IF(AND(E14=$S$8,F14=$U$6),A14,"")&" "&IF(AND(E15=$S$8,F15=$U$6),A15,"")&" "&IF(AND(E16=$S$8,F16=$U$6),A16,"")&" "&IF(AND(E17=$S$8,F17=$U$6),A17,"")&" "&IF(AND(E18=$S$8,F18=$U$6),A18,"")&" "&IF(AND(E19=$S$8,F19=$U$6),A19,"")&" "&IF(AND(E20=$S$8,F20=$U$6),A20,"")&" "&IF(AND(E21=$S$8,F21=$U$6),A21,"")&" "&IF(AND(E22=$S$8,F22=$U$6),A22,"")&" "&IF(AND(E23=$S$8,F23=$U$6),A23,"")&" "&IF(AND(E24=$S$8,F24=$U$6),A24,"")&" "&IF(AND(E25=$S$8,F25=$U$6),A25,"")&" "&IF(AND(E26=$S$8,F26=$U$6),A26,"") | M8: =+IF(AND(E7=$S$8,F7=$V$6),A7,"")&" "&IF(AND(E8=$S$8,F8=$V$6),A8,"")&" "&IF(AND(E9=$S$8,F9=$V$6),A9,"")&" "&IF(AND(E10=$S$8,F10=$V$6),A10,"")&" "&IF(AND(E11=$S$8,F11=$V$6),A11,"")&" "&IF(AND(E12=$S$8,F12=$V$6),A12,"")&" "&IF(AND(E13=$S$8,F13=$V$6),A13,"")&" "&IF(AND(E14=$S$8,F14=$V$6),A14,"")&" "&IF(AND(E15=$S$8,F15=$V$6),A15,"")&" "&IF(AND(E16=$S$8,F16=$V$6),A16,"")&" "&IF(AND(E17=$S$8,F17=$V$6),A17,"")&" "&IF(AND(E18=$S$8,F18=$V$6),A18,"")&" "&IF(AND(E19=$S$8,F19=$V$6),A19,"")&" "&IF(AND(E20=$S$8,F20=$V$6),A20,"")&" "&IF(AND(E21=$S$8,F21=$V$6),A21,"")&" "&IF(AND(E22=$S$8,F22=$V$6),A22,"")&" "&IF(AND(E23=$S$8,F23=$V$6),A23,"")&" "&IF(AND(E24=$S$8,F24=$V$6),A24,"")&" "&IF(AND(E25=$S$8,F25=$V$6),A25,"")&" "&IF(AND(E26=$S$8,F26=$V$6),A26,"") | N8: =+IF(AND(E7=$S$8,F7=$W$6),A7,"")&" "&IF(AND(E8=$S$8,F8=$W$6),A8,"")&" "&IF(AND(E9=$S$8,F9=$W$6),A9,"")&" "&IF(AND(E10=$S$8,F10=$W$6),A10,"")&" "&IF(AND(E11=$S$8,F11=$W$6),A11,"")&" "&IF(AND(E12=$S$8,F12=$W$6),A12,"")&" "&IF(AND(E13=$S$8,F13=$W$6),A13,"")&" "&IF(AND(E14=$S$8,F14=$W$6),A14,"")&" "&IF(AND(E15=$S$8,F15=$W$6),A15,"")&" "&IF(AND(E16=$S$8,F16=$W$6),A16,"")&" "&IF(AND(E17=$S$8,F17=$W$6),A17,"")&" "&IF(AND(E18=$S$8,F18=$W$6),A18,"")&" "&IF(AND(E19=$S$8,F19=$W$6),A19,"")&" "&IF(AND(E20=$S$8,F20=$W$6),A20,"")&" "&IF(AND(E21=$S$8,F21=$W$6),A21,"")&" "&IF(AND(E22=$S$8,F22=$W$6),A22,"")&" "&IF(AND(E23=$S$8,F23=$W$6),A23,"")&" "&IF(AND(E24=$S$8,F24=$W$6),A24,"")&" "&IF(AND(E25=$S$8,F25=$W$6),A25,"")&" "&IF(AND(E26=$S$8,F26=$W$6),A26,"") | O8: =+IF(AND(E7=$S$8,F7=$X$6),A7,"")&" "&IF(AND(E8=$S$8,F8=$X$6),A8,"")&" "&IF(AND(E9=$S$8,F9=$X$6),A9,"")&" "&IF(AND(E10=$S$8,F10=$X$6),A10,"")&" "&IF(AND(E11=$S$8,F11=$X$6),A11,"")&" "&IF(AND(E12=$S$8,F12=$X$6),A12,"")&" "&IF(AND(E13=$S$8,F13=$X$6),A13,"")&" "&IF(AND(E14=$S$8,F14=$X$6),A14,"")&" "&IF(AND(E15=$S$8,F15=$X$6),A15,"")&" "&IF(AND(E16=$S$8,F16=$X$6),A16,"")&" "&IF(AND(E17=$S$8,F17=$X$6),A17,"")&" "&IF(AND(E18=$S$8,F18=$X$6),A18,"")&" "&IF(AND(E19=$S$8,F19=$X$6),A19,"")&" "&IF(AND(E20=$S$8,F20=$X$6),A20,"")&" "&IF(AND(E21=$S$8,F21=$X$6),A21,"")&" "&IF(AND(E22=$S$8,F22=$X$6),A22,"")&" "&IF(AND(E23=$S$8,F23=$X$6),A23,"")&" "&IF(AND(E24=$S$8,F24=$X$6),A24,"")&" "&IF(AND(E25=$S$8,F25=$X$6),A25,"")&" "&IF(AND(E26=$S$8,F26=$X$6),A26,"") | R8: 0.8 | S8: Alta | T8: Moderado | U8: Moderado | V8: Alto | W8: Alto | X8: Extremo
A9: ='2 CONTEXTO E IDENTIFICACIÓN'!A7 -> R2 | B9: =+'2 CONTEXTO E IDENTIFICACIÓN'!E7 -> Posibilidad de pérdida Económica y Reputacional por la atención inoportuna de las solicitudes de reparación de alcantarillado debido a la falta de seguimiento a las ordenes de trabajo generadas, falta de personal operativo para los grupos de trabajo y falta de asignación de recursos o de disponibilidad de materiales. | C9: =+'5 VALORACIÓN DEL CONTROL'!S13 -> 0.6 | D9: =+'5 VALORACIÓN DEL CONTROL'!T13 -> 0.253125 | E9: =+IF(C9=0,"",IF(C9<=$R$11,$S$11,IF(C9<=$R$10,$S$10,IF(C9<=$R$9,$S$9,IF(C9<=$R$8,$S$8,IF(C9<=$R$7,$S$7,"")))))) -> Media | F9: =+IF(D9=0,"",IF(D9<=$T$5,$T$6,IF(D9<=$U$5,$U$6,IF(D9<=$V$5,$V$6,IF(D9<=$W$5,$W$6,IF(D9<=$X$5,$X$6,"")))))) -> Menor | G9: =+IF(E9=$S$7,IF(F9=$T$6,$T$7,IF(F9=$U$6,$U$7,IF(F9=$V$6,$V$7,IF(F9=$W$6,$W$7,IF(F9=$X$6,$X$7))))),IF(E9=$S$8,IF(F9=$T$6,$T$8,IF(F9=$U$6,$U$8,IF(F9=$V$6,$V$8,IF(F9=$W$6,$W$8,IF(F9=$X$6,$X$8))))),IF(E9=$S$9,IF(F9=$T$6,$T$9,IF(F9=$U$6,$U$9,IF(F9=$V$6,$V$9,IF(F9=$W$6,$W$9,IF(F9=$X$6,$X$9))))),IF(E9=$S$10,IF(F9=$T$6,$T$10,IF(F9=$U$6,$U$10,IF(F9=$V$6,$V$10,IF(F9=$W$6,$W$10,IF(F9=$X$6,$X$10))))),IF(E9=$S$11,IF(F9=$T$6,$T$11,IF(F9=$U$6,$U$11,IF(F9=$V$6,$V$11,IF(F9=$W$6,$W$11,IF(F9=$X$6,$X$11))))),""))))) -> Moderado | J9: Media | K9: =+IF(AND(E7=$S$9,F7=$T$6),A7,"")&" "&IF(AND(E8=$S$9,F8=$T$6),A8,"")&" "&IF(AND(E9=$S$9,F9=$T$6),A9,"")&" "&IF(AND(E10=$S$9,F10=$T$6),A10,"")&" "&IF(AND(E11=$S$9,F11=$T$6),A11,"")&" "&IF(AND(E12=$S$9,F12=$T$6),A12,"")&" "&IF(AND(E13=$S$9,F13=$T$6),A13,"")&" "&IF(AND(E14=$S$9,F14=$T$6),A14,"")&" "&IF(AND(E15=$S$9,F15=$T$6),A15,"")&" "&IF(AND(E16=$S$9,F16=$T$6),A16,"")&" "&IF(AND(E17=$S$9,F17=$T$6),A17,"")&" "&IF(AND(E18=$S$9,F18=$T$6),A18,"")&" "&IF(AND(E19=$S$9,F19=$T$6),A19,"")&" "&IF(AND(E20=$S$9,F20=$T$6),A20,"")&" "&IF(AND(E21=$S$9,F21=$T$6),A21,"")&" "&IF(AND(E22=$S$9,F22=$T$6),A22,"")&" "&IF(AND(E23=$S$9,F23=$T$6),A23,"")&" "&IF(AND(E24=$S$9,F24=$T$6),A24,"")&" "&IF(AND(E25=$S$9,F25=$T$6),A25,"")&" "&IF(AND(E26=$S$9,F26=$T$6),A26,"") | L9: =+IF(AND(E7=$S$9,F7=$U$6),A7,"")&" "&IF(AND(E8=$S$9,F8=$U$6),A8,"")&" "&IF(AND(E9=$S$9,F9=$U$6),A9,"")&" "&IF(AND(E10=$S$9,F10=$U$6),A10,"")&" "&IF(AND(E11=$S$9,F11=$U$6),A11,"")&" "&IF(AND(E12=$S$9,F12=$U$6),A12,"")&" "&IF(AND(E13=$S$9,F13=$U$6),A13,"")&" "&IF(AND(E14=$S$9,F14=$U$6),A14,"")&" "&IF(AND(E15=$S$9,F15=$U$6),A15,"")&" "&IF(AND(E16=$S$9,F16=$U$6),A16,"")&" "&IF(AND(E17=$S$9,F17=$U$6),A17,"")&" "&IF(AND(E18=$S$9,F18=$U$6),A18,"")&" "&IF(AND(E19=$S$9,F19=$U$6),A19,"")&" "&IF(AND(E20=$S$9,F20=$U$6),A20,"")&" "&IF(AND(E21=$S$9,F21=$U$6),A21,"")&" "&IF(AND(E22=$S$9,F22=$U$6),A22,"")&" "&IF(AND(E23=$S$9,F23=$U$6),A23,"")&" "&IF(AND(E24=$S$9,F24=$U$6),A24,"")&" "&IF(AND(E25=$S$9,F25=$U$6),A25,"")&" "&IF(AND(E26=$S$9,F26=$U$6),A26,"") -> R2 | M9: =+IF(AND(E7=$S$9,F7=$V$6),A7,"")&" "&IF(AND(E8=$S$9,F8=$V$6),A8,"")&" "&IF(AND(E9=$S$9,F9=$V$6),A9,"")&" "&IF(AND(E10=$S$9,F10=$V$6),A10,"")&" "&IF(AND(E11=$S$9,F11=$V$6),A11,"")&" "&IF(AND(E12=$S$9,F12=$V$6),A12,"")&" "&IF(AND(E13=$S$9,F13=$V$6),A13,"")&" "&IF(AND(E14=$S$9,F14=$V$6),A14,"")&" "&IF(AND(E15=$S$9,F15=$V$6),A15,"")&" "&IF(AND(E16=$S$9,F16=$V$6),A16,"")&" "&IF(AND(E17=$S$9,F17=$V$6),A17,"")&" "&IF(AND(E18=$S$9,F18=$V$6),A18,"")&" "&IF(AND(E19=$S$9,F19=$V$6),A19,"")&" "&IF(AND(E20=$S$9,F20=$V$6),A20,"")&" "&IF(AND(E21=$S$9,F21=$V$6),A21,"")&" "&IF(AND(E22=$S$9,F22=$V$6),A22,"")&" "&IF(AND(E23=$S$9,F23=$V$6),A23,"")&" "&IF(AND(E24=$S$9,F24=$V$6),A24,"")&" "&IF(AND(E25=$S$9,F25=$V$6),A25,"")&" "&IF(AND(E26=$S$9,F26=$V$6),A26,"") -> R7 | N9: =+IF(AND(E7=$S$9,F7=$W$6),A7,"")&" "&IF(AND(E8=$S$9,F8=$W$6),A8,"")&" "&IF(AND(E9=$S$9,F9=$W$6),A9,"")&" "&IF(AND(E10=$S$9,F10=$W$6),A10,"")&" "&IF(AND(E11=$S$9,F11=$W$6),A11,"")&" "&IF(AND(E12=$S$9,F12=$W$6),A12,"")&" "&IF(AND(E13=$S$9,F13=$W$6),A13,"")&" "&IF(AND(E14=$S$9,F14=$W$6),A14,"")&" "&IF(AND(E15=$S$9,F15=$W$6),A15,"")&" "&IF(AND(E16=$S$9,F16=$W$6),A16,"")&" "&IF(AND(E17=$S$9,F17=$W$6),A17,"")&" "&IF(AND(E18=$S$9,F18=$W$6),A18,"")&" "&IF(AND(E19=$S$9,F19=$W$6),A19,"")&" "&IF(AND(E20=$S$9,F20=$W$6),A20,"")&" "&IF(AND(E21=$S$9,F21=$W$6),A21,"")&" "&IF(AND(E22=$S$9,F22=$W$6),A22,"")&" "&IF(AND(E23=$S$9,F23=$W$6),A23,"")&" "&IF(AND(E24=$S$9,F24=$W$6),A24,"")&" "&IF(AND(E25=$S$9,F25=$W$6),A25,"")&" "&IF(AND(E26=$S$9,F26=$W$6),A26,"") -> R4 R5 R6 | O9: =+IF(AND(E7=$S$9,F7=$X$6),A7,"")&" "&IF(AND(E8=$S$9,F8=$X$6),A8,"")&" "&IF(AND(E9=$S$9,F9=$X$6),A9,"")&" "&IF(AND(E10=$S$9,F10=$X$6),A10,"")&" "&IF(AND(E11=$S$9,F11=$X$6),A11,"")&" "&IF(AND(E12=$S$9,F12=$X$6),A12,"")&" "&IF(AND(E13=$S$9,F13=$X$6),A13,"")&" "&IF(AND(E14=$S$9,F14=$X$6),A14,"")&" "&IF(AND(E15=$S$9,F15=$X$6),A15,"")&" "&IF(AND(E16=$S$9,F16=$X$6),A16,"")&" "&IF(AND(E17=$S$9,F17=$X$6),A17,"")&" "&IF(AND(E18=$S$9,F18=$X$6),A18,"")&" "&IF(AND(E19=$S$9,F19=$X$6),A19,"")&" "&IF(AND(E20=$S$9,F20=$X$6),A20,"")&" "&IF(AND(E21=$S$9,F21=$X$6),A21,"")&" "&IF(AND(E22=$S$9,F22=$X$6),A22,"")&" "&IF(AND(E23=$S$9,F23=$X$6),A23,"")&" "&IF(AND(E24=$S$9,F24=$X$6),A24,"")&" "&IF(AND(E25=$S$9,F25=$X$6),A25,"")&" "&IF(AND(E26=$S$9,F26=$X$6),A26,"") | R9: 0.6 | S9: Media | T9: Moderado | U9: Moderado | V9: Moderado | W9: Alto | X9: Extremo
A10: ='2 CONTEXTO E IDENTIFICACIÓN'!A8 -> R3 | B10: =+'2 CONTEXTO E IDENTIFICACIÓN'!E8 -> Posibilidad de pérdida Económica y Reputacional por la falta de atención a las afectaciones generadas por actividades de alcantarillado debido a que la parametrización del software permite el cierre de ordenes de trabajo con actividades pendientes. | C10: =+'5 VALORACIÓN DEL CONTROL'!S17 -> 0.4 | D10: =+'5 VALORACIÓN DEL CONTROL'!T17 -> 0.45 | E10: =+IF(C10=0,"",IF(C10<=$R$11,$S$11,IF(C10<=$R$10,$S$10,IF(C10<=$R$9,$S$9,IF(C10<=$R$8,$S$8,IF(C10<=$R$7,$S$7,"")))))) -> Baja | F10: =+IF(D10=0,"",IF(D10<=$T$5,$T$6,IF(D10<=$U$5,$U$6,IF(D10<=$V$5,$V$6,IF(D10<=$W$5,$W$6,IF(D10<=$X$5,$X$6,"")))))) -> Moderado | G10: =+IF(E10=$S$7,IF(F10=$T$6,$T$7,IF(F10=$U$6,$U$7,IF(F10=$V$6,$V$7,IF(F10=$W$6,$W$7,IF(F10=$X$6,$X$7))))),IF(E10=$S$8,IF(F10=$T$6,$T$8,IF(F10=$U$6,$U$8,IF(F10=$V$6,$V$8,IF(F10=$W$6,$W$8,IF(F10=$X$6,$X$8))))),IF(E10=$S$9,IF(F10=$T$6,$T$9,IF(F10=$U$6,$U$9,IF(F10=$V$6,$V$9,IF(F10=$W$6,$W$9,IF(F10=$X$6,$X$9))))),IF(E10=$S$10,IF(F10=$T$6,$T$10,IF(F10=$U$6,$U$10,IF(F10=$V$6,$V$10,IF(F10=$W$6,$W$10,IF(F10=$X$6,$X$10))))),IF(E10=$S$11,IF(F10=$T$6,$T$11,IF(F10=$U$6,$U$11,IF(F10=$V$6,$V$11,IF(F10=$W$6,$W$11,IF(F10=$X$6,$X$11))))),""))))) -> Moderado | J10: Baja | K10: =+IF(AND(E7=$S$10,F7=$T$6),A7,"")&" "&IF(AND(E8=$S$10,F8=$T$6),A8,"")&" "&IF(AND(E9=$S$10,F9=$T$6),A9,"")&" "&IF(AND(E10=$S$10,F10=$T$6),A10,"")&" "&IF(AND(E11=$S$10,F11=$T$6),A11,"")&" "&IF(AND(E12=$S$10,F12=$T$6),A12,"")&" "&IF(AND(E13=$S$10,F13=$T$6),A13,"")&" "&IF(AND(E14=$S$10,F14=$T$6),A14,"")&" "&IF(AND(E15=$S$10,F15=$T$6),A15,"")&" "&IF(AND(E16=$S$10,F16=$T$6),A16,"")&" "&IF(AND(E17=$S$10,F17=$T$6),A17,"")&" "&IF(AND(E18=$S$10,F18=$T$6),A18,"")&" "&IF(AND(E19=$S$10,F19=$T$6),A19,"")&" "&IF(AND(E20=$S$10,F20=$T$6),A20,"")&" "&IF(AND(E21=$S$10,F21=$T$6),A21,"")&" "&IF(AND(E22=$S$10,F22=$T$6),A22,"")&" "&IF(AND(E23=$S$10,F23=$T$6),A23,"")&" "&IF(AND(E24=$S$10,F24=$T$6),A24,"")&" "&IF(AND(E25=$S$10,F25=$T$6),A25,"")&" "&IF(AND(E26=$S$10,F26=$T$6),A26,"") | L10: =+IF(AND(E7=$S$10,F7=$U$6),A7,"")&" "&IF(AND(E8=$S$10,F8=$U$6),A8,"")&" "&IF(AND(E9=$S$10,F9=$U$6),A9,"")&" "&IF(AND(E10=$S$10,F10=$U$6),A10,"")&" "&IF(AND(E11=$S$10,F11=$U$6),A11,"")&" "&IF(AND(E12=$S$10,F12=$U$6),A12,"")&" "&IF(AND(E13=$S$10,F13=$U$6),A13,"")&" "&IF(AND(E14=$S$10,F14=$U$6),A14,"")&" "&IF(AND(E15=$S$10,F15=$U$6),A15,"")&" "&IF(AND(E16=$S$10,F16=$U$6),A16,"")&" "&IF(AND(E17=$S$10,F17=$U$6),A17,"")&" "&IF(AND(E18=$S$10,F18=$U$6),A18,"")&" "&IF(AND(E19=$S$10,F19=$U$6),A19,"")&" "&IF(AND(E20=$S$10,F20=$U$6),A20,"")&" "&IF(AND(E21=$S$10,F21=$U$6),A21,"")&" "&IF(AND(E22=$S$10,F22=$U$6),A22,"")&" "&IF(AND(E23=$S$10,F23=$U$6),A23,"")&" "&IF(AND(E24=$S$10,F24=$U$6),A24,"")&" "&IF(AND(E25=$S$10,F25=$U$6),A25,"")&" "&IF(AND(E26=$S$10,F26=$U$6),A26,"") -> R1 | M10: =+IF(AND(E7=$S$10,F7=$V$6),A7,"")&" "&IF(AND(E8=$S$10,F8=$V$6),A8,"")&" "&IF(AND(E9=$S$10,F9=$V$6),A9,"")&" "&IF(AND(E10=$S$10,F10=$V$6),A10,"")&" "&IF(AND(E11=$S$10,F11=$V$6),A11,"")&" "&IF(AND(E12=$S$10,F12=$V$6),A12,"")&" "&IF(AND(E13=$S$10,F13=$V$6),A13,"")&" "&IF(AND(E14=$S$10,F14=$V$6),A14,"")&" "&IF(AND(E15=$S$10,F15=$V$6),A15,"")&" "&IF(AND(E16=$S$10,F16=$V$6),A16,"")&" "&IF(AND(E17=$S$10,F17=$V$6),A17,"")&" "&IF(AND(E18=$S$10,F18=$V$6),A18,"")&" "&IF(AND(E19=$S$10,F19=$V$6),A19,"")&" "&IF(AND(E20=$S$10,F20=$V$6),A20,"")&" "&IF(AND(E21=$S$10,F21=$V$6),A21,"")&" "&IF(AND(E22=$S$10,F22=$V$6),A22,"")&" "&IF(AND(E23=$S$10,F23=$V$6),A23,"")&" "&IF(AND(E24=$S$10,F24=$V$6),A24,"")&" "&IF(AND(E25=$S$10,F25=$V$6),A25,"")&" "&IF(AND(E26=$S$10,F26=$V$6),A26,"") -> R3 | N10: =+IF(AND(E7=$S$10,F7=$W$6),A7,"")&" "&IF(AND(E8=$S$10,F8=$W$6),A8,"")&" "&IF(AND(E9=$S$10,F9=$W$6),A9,"")&" "&IF(AND(E10=$S$10,F10=$W$6),A10,"")&" "&IF(AND(E11=$S$10,F11=$W$6),A11,"")&" "&IF(AND(E12=$S$10,F12=$W$6),A12,"")&" "&IF(AND(E13=$S$10,F13=$W$6),A13,"")&" "&IF(AND(E14=$S$10,F14=$W$6),A14,"")&" "&IF(AND(E15=$S$10,F15=$W$6),A15,"")&" "&IF(AND(E16=$S$10,F16=$W$6),A16,"")&" "&IF(AND(E17=$S$10,F17=$W$6),A17,"")&" "&IF(AND(E18=$S$10,F18=$W$6),A18,"")&" "&IF(AND(E19=$S$10,F19=$W$6),A19,"")&" "&IF(AND(E20=$S$10,F20=$W$6),A20,"")&" "&IF(AND(E21=$S$10,F21=$W$6),A21,"")&" "&IF(AND(E22=$S$10,F22=$W$6),A22,"")&" "&IF(AND(E23=$S$10,F23=$W$6),A23,"")&" "&IF(AND(E24=$S$10,F24=$W$6),A24,"")&" "&IF(AND(E25=$S$10,F25=$W$6),A25,"")&" "&IF(AND(E26=$S$10,F26=$W$6),A26,"") | O10: =+IF(AND(E7=$S$10,F7=$X$6),A7,"")&" "&IF(AND(E8=$S$10,F8=$X$6),A8,"")&" "&IF(AND(E9=$S$10,F9=$X$6),A9,"")&" "&IF(AND(E10=$S$10,F10=$X$6),A10,"")&" "&IF(AND(E11=$S$10,F11=$X$6),A11,"")&" "&IF(AND(E12=$S$10,F12=$X$6),A12,"")&" "&IF(AND(E13=$S$10,F13=$X$6),A13,"")&" "&IF(AND(E14=$S$10,F14=$X$6),A14,"")&" "&IF(AND(E15=$S$10,F15=$X$6),A15,"")&" "&IF(AND(E16=$S$10,F16=$X$6),A16,"")&" "&IF(AND(E17=$S$10,F17=$X$6),A17,"")&" "&IF(AND(E18=$S$10,F18=$X$6),A18,"")&" "&IF(AND(E19=$S$10,F19=$X$6),A19,"")&" "&IF(AND(E20=$S$10,F20=$X$6),A20,"")&" "&IF(AND(E21=$S$10,F21=$X$6),A21,"")&" "&IF(AND(E22=$S$10,F22=$X$6),A22,"")&" "&IF(AND(E23=$S$10,F23=$X$6),A23,"")&" "&IF(AND(E24=$S$10,F24=$X$6),A24,"")&" "&IF(AND(E25=$S$10,F25=$X$6),A25,"")&" "&IF(AND(E26=$S$10,F26=$X$6),A26,"") | R10: 0.4 | S10: Baja | T10: Bajo | U10: Moderado | V10: Moderado | W10: Alto | X10: Extremo
A11: ='2 CONTEXTO E IDENTIFICACIÓN'!A9 -> R4 | B11: =+'2 CONTEXTO E IDENTIFICACIÓN'!E9 -> Posibilidad de pérdida Económica y Reputacional Por la captacion del caudal de las plantas de tratamiento de los municipios por encima del lt/s consecionados Debido a la falta de medicion en el sistema de las bocatomas | C11: =+'5 VALORACIÓN DEL CONTROL'!S21 -> 0.6 | D11: =+'5 VALORACIÓN DEL CONTROL'!T21 -> 0.8 | E11: =+IF(C11=0,"",IF(C11<=$R$11,$S$11,IF(C11<=$R$10,$S$10,IF(C11<=$R$9,$S$9,IF(C11<=$R$8,$S$8,IF(C11<=$R$7,$S$7,"")))))) -> Media | F11: =+IF(D11=0,"",IF(D11<=$T$5,$T$6,IF(D11<=$U$5,$U$6,IF(D11<=$V$5,$V$6,IF(D11<=$W$5,$W$6,IF(D11<=$X$5,$X$6,"")))))) -> Mayor | G11: =+IF(E11=$S$7,IF(F11=$T$6,$T$7,IF(F11=$U$6,$U$7,IF(F11=$V$6,$V$7,IF(F11=$W$6,$W$7,IF(F11=$X$6,$X$7))))),IF(E11=$S$8,IF(F11=$T$6,$T$8,IF(F11=$U$6,$U$8,IF(F11=$V$6,$V$8,IF(F11=$W$6,$W$8,IF(F11=$X$6,$X$8))))),IF(E11=$S$9,IF(F11=$T$6,$T$9,IF(F11=$U$6,$U$9,IF(F11=$V$6,$V$9,IF(F11=$W$6,$W$9,IF(F11=$X$6,$X$9))))),IF(E11=$S$10,IF(F11=$T$6,$T$10,IF(F11=$U$6,$U$10,IF(F11=$V$6,$V$10,IF(F11=$W$6,$W$10,IF(F11=$X$6,$X$10))))),IF(E11=$S$11,IF(F11=$T$6,$T$11,IF(F11=$U$6,$U$11,IF(F11=$V$6,$V$11,IF(F11=$W$6,$W$11,IF(F11=$X$6,$X$11))))),""))))) -> Alto | J11: Muy Baja | K11: =+IF(AND(E7=$S$11,F7=$T$6),A7,"")&" "&IF(AND(E8=$S$11,F8=$T$6),A8,"")&" "&IF(AND(E9=$S$11,F9=$T$6),A9,"")&" "&IF(AND(E10=$S$11,F10=$T$6),A10,"")&" "&IF(AND(E11=$S$11,F11=$T$6),A11,"")&" "&IF(AND(E12=$S$11,F12=$T$6),A12,"")&" "&IF(AND(E13=$S$11,F13=$T$6),A13,"")&" "&IF(AND(E14=$S$11,F14=$T$6),A14,"")&" "&IF(AND(E15=$S$11,F15=$T$6),A15,"")&" "&IF(AND(E16=$S$11,F16=$T$6),A16,"")&" "&IF(AND(E17=$S$11,F17=$T$6),A17,"")&" "&IF(AND(E18=$S$11,F18=$T$6),A18,"")&" "&IF(AND(E19=$S$11,F19=$T$6),A19,"")&" "&IF(AND(E20=$S$11,F20=$T$6),A20,"")&" "&IF(AND(E21=$S$11,F21=$T$6),A21,"")&" "&IF(AND(E22=$S$11,F22=$T$6),A22,"")&" "&IF(AND(E23=$S$11,F23=$T$6),A23,"")&" "&IF(AND(E24=$S$11,F24=$T$6),A24,"")&" "&IF(AND(E25=$S$11,F25=$T$6),A25,"")&" "&IF(AND(E26=$S$11,F26=$T$6),A26,"") | L11: =+IF(AND(E7=$S$11,F7=$U$6),A7,"")&" "&IF(AND(E8=$S$11,F8=$U$6),A8,"")&" "&IF(AND(E9=$S$11,F9=$U$6),A9,"")&" "&IF(AND(E10=$S$11,F10=$U$6),A10,"")&" "&IF(AND(E11=$S$11,F11=$U$6),A11,"")&" "&IF(AND(E12=$S$11,F12=$U$6),A12,"")&" "&IF(AND(E13=$S$11,F13=$U$6),A13,"")&" "&IF(AND(E14=$S$11,F14=$U$6),A14,"")&" "&IF(AND(E15=$S$11,F15=$U$6),A15,"")&" "&IF(AND(E16=$S$11,F16=$U$6),A16,"")&" "&IF(AND(E17=$S$11,F17=$U$6),A17,"")&" "&IF(AND(E18=$S$11,F18=$U$6),A18,"")&" "&IF(AND(E19=$S$11,F19=$U$6),A19,"")&" "&IF(AND(E20=$S$11,F20=$U$6),A20,"")&" "&IF(AND(E21=$S$11,F21=$U$6),A21,"")&" "&IF(AND(E22=$S$11,F22=$U$6),A22,"")&" "&IF(AND(E23=$S$11,F23=$U$6),A23,"")&" "&IF(AND(E24=$S$11,F24=$U$6),A24,"")&" "&IF(AND(E25=$S$11,F25=$U$6),A25,"")&" "&IF(AND(E26=$S$11,F26=$U$6),A26,"") | M11: =+IF(AND(E7=$S$11,F7=$V$6),A7,"")&" "&IF(AND(E8=$S$11,F8=$V$6),A8,"")&" "&IF(AND(E9=$S$11,F9=$V$6),A9,"")&" "&IF(AND(E10=$S$11,F10=$V$6),A10,"")&" "&IF(AND(E11=$S$11,F11=$V$6),A11,"")&" "&IF(AND(E12=$S$11,F12=$V$6),A12,"")&" "&IF(AND(E13=$S$11,F13=$V$6),A13,"")&" "&IF(AND(E14=$S$11,F14=$V$6),A14,"")&" "&IF(AND(E15=$S$11,F15=$V$6),A15,"")&" "&IF(AND(E16=$S$11,F16=$V$6),A16,"")&" "&IF(AND(E17=$S$11,F17=$V$6),A17,"")&" "&IF(AND(E18=$S$11,F18=$V$6),A18,"")&" "&IF(AND(E19=$S$11,F19=$V$6),A19,"")&" "&IF(AND(E20=$S$11,F20=$V$6),A20,"")&" "&IF(AND(E21=$S$11,F21=$V$6),A21,"")&" "&IF(AND(E22=$S$11,F22=$V$6),A22,"")&" "&IF(AND(E23=$S$11,F23=$V$6),A23,"")&" "&IF(AND(E24=$S$11,F24=$V$6),A24,"")&" "&IF(AND(E25=$S$11,F25=$V$6),A25,"")&" "&IF(AND(E26=$S$11,F26=$V$6),A26,"") | N11: =+IF(AND(E7=$S$11,F7=$W$6),A7,"")&" "&IF(AND(E8=$S$11,F8=$W$6),A8,"")&" "&IF(AND(E9=$S$11,F9=$W$6),A9,"")&" "&IF(AND(E10=$S$11,F10=$W$6),A10,"")&" "&IF(AND(E11=$S$11,F11=$W$6),A11,"")&" "&IF(AND(E12=$S$11,F12=$W$6),A12,"")&" "&IF(AND(E13=$S$11,F13=$W$6),A13,"")&" "&IF(AND(E14=$S$11,F14=$W$6),A14,"")&" "&IF(AND(E15=$S$11,F15=$W$6),A15,"")&" "&IF(AND(E16=$S$11,F16=$W$6),A16,"")&" "&IF(AND(E17=$S$11,F17=$W$6),A17,"")&" "&IF(AND(E18=$S$11,F18=$W$6),A18,"")&" "&IF(AND(E19=$S$11,F19=$W$6),A19,"")&" "&IF(AND(E20=$S$11,F20=$W$6),A20,"")&" "&IF(AND(E21=$S$11,F21=$W$6),A21,"")&" "&IF(AND(E22=$S$11,F22=$W$6),A22,"")&" "&IF(AND(E23=$S$11,F23=$W$6),A23,"")&" "&IF(AND(E24=$S$11,F24=$W$6),A24,"")&" "&IF(AND(E25=$S$11,F25=$W$6),A25,"")&" "&IF(AND(E26=$S$11,F26=$W$6),A26,"") | O11: =+IF(AND(E7=$S$11,F7=$X$6),A7,"")&" "&IF(AND(E8=$S$11,F8=$X$6),A8,"")&" "&IF(AND(E9=$S$11,F9=$X$6),A9,"")&" "&IF(AND(E10=$S$11,F10=$X$6),A10,"")&" "&IF(AND(E11=$S$11,F11=$X$6),A11,"")&" "&IF(AND(E12=$S$11,F12=$X$6),A12,"")&" "&IF(AND(E13=$S$11,F13=$X$6),A13,"")&" "&IF(AND(E14=$S$11,F14=$X$6),A14,"")&" "&IF(AND(E15=$S$11,F15=$X$6),A15,"")&" "&IF(AND(E16=$S$11,F16=$X$6),A16,"")&" "&IF(AND(E17=$S$11,F17=$X$6),A17,"")&" "&IF(AND(E18=$S$11,F18=$X$6),A18,"")&" "&IF(AND(E19=$S$11,F19=$X$6),A19,"")&" "&IF(AND(E20=$S$11,F20=$X$6),A20,"")&" "&IF(AND(E21=$S$11,F21=$X$6),A21,"")&" "&IF(AND(E22=$S$11,F22=$X$6),A22,"")&" "&IF(AND(E23=$S$11,F23=$X$6),A23,"")&" "&IF(AND(E24=$S$11,F24=$X$6),A24,"")&" "&IF(AND(E25=$S$11,F25=$X$6),A25,"")&" "&IF(AND(E26=$S$11,F26=$X$6),A26,"") | R11: 0.2 | S11: Muy Baja | T11: Bajo | U11: Bajo | V11: Moderado | W11: Alto | X11: Extremo
A12: ='2 CONTEXTO E IDENTIFICACIÓN'!A10 -> R5 | B12: =+'2 CONTEXTO E IDENTIFICACIÓN'!E10 -> Posibilidad de pérdida Económica y Reputacional por condiciones de calidad de agua cruda que no permite tratabilidad y afectaciones de tipo climático debido a crecientes que generan arrastre de solidos y elevacion en los niveles de turbierdad en agua cruda | C12: =+'5 VALORACIÓN DEL CONTROL'!S25 -> 0.6 | D12: =+'5 VALORACIÓN DEL CONTROL'!T25 -> 0.8 | E12: =+IF(C12=0,"",IF(C12<=$R$11,$S$11,IF(C12<=$R$10,$S$10,IF(C12<=$R$9,$S$9,IF(C12<=$R$8,$S$8,IF(C12<=$R$7,$S$7,"")))))) -> Media | F12: =+IF(D12=0,"",IF(D12<=$T$5,$T$6,IF(D12<=$U$5,$U$6,IF(D12<=$V$5,$V$6,IF(D12<=$W$5,$W$6,IF(D12<=$X$5,$X$6,"")))))) -> Mayor | G12: =+IF(E12=$S$7,IF(F12=$T$6,$T$7,IF(F12=$U$6,$U$7,IF(F12=$V$6,$V$7,IF(F12=$W$6,$W$7,IF(F12=$X$6,$X$7))))),IF(E12=$S$8,IF(F12=$T$6,$T$8,IF(F12=$U$6,$U$8,IF(F12=$V$6,$V$8,IF(F12=$W$6,$W$8,IF(F12=$X$6,$X$8))))),IF(E12=$S$9,IF(F12=$T$6,$T$9,IF(F12=$U$6,$U$9,IF(F12=$V$6,$V$9,IF(F12=$W$6,$W$9,IF(F12=$X$6,$X$9))))),IF(E12=$S$10,IF(F12=$T$6,$T$10,IF(F12=$U$6,$U$10,IF(F12=$V$6,$V$10,IF(F12=$W$6,$W$10,IF(F12=$X$6,$X$10))))),IF(E12=$S$11,IF(F12=$T$6,$T$11,IF(F12=$U$6,$U$11,IF(F12=$V$6,$V$11,IF(F12=$W$6,$W$11,IF(F12=$X$6,$X$11))))),""))))) -> Alto
A13: ='2 CONTEXTO E IDENTIFICACIÓN'!A11 -> R6 | B13: =+'2 CONTEXTO E IDENTIFICACIÓN'!E11 -> Posibilidad de pérdida Económica y Reputacional por el aumento en el índice de agua no contabilizada por pérdidas técnicas debido a la infraestructura de produccion ,almacenameinto y distribucion en condiciones inadecuadas, y la reparación inoportuna de fugas y daños en las redes de acueducto. | C13: =+'5 VALORACIÓN DEL CONTROL'!S29 -> 0.6 | D13: =+'5 VALORACIÓN DEL CONTROL'!T29 -> 0.8 | E13: =+IF(C13=0,"",IF(C13<=$R$11,$S$11,IF(C13<=$R$10,$S$10,IF(C13<=$R$9,$S$9,IF(C13<=$R$8,$S$8,IF(C13<=$R$7,$S$7,"")))))) -> Media | F13: =+IF(D13=0,"",IF(D13<=$T$5,$T$6,IF(D13<=$U$5,$U$6,IF(D13<=$V$5,$V$6,IF(D13<=$W$5,$W$6,IF(D13<=$X$5,$X$6,"")))))) -> Mayor | G13: =+IF(E13=$S$7,IF(F13=$T$6,$T$7,IF(F13=$U$6,$U$7,IF(F13=$V$6,$V$7,IF(F13=$W$6,$W$7,IF(F13=$X$6,$X$7))))),IF(E13=$S$8,IF(F13=$T$6,$T$8,IF(F13=$U$6,$U$8,IF(F13=$V$6,$V$8,IF(F13=$W$6,$W$8,IF(F13=$X$6,$X$8))))),IF(E13=$S$9,IF(F13=$T$6,$T$9,IF(F13=$U$6,$U$9,IF(F13=$V$6,$V$9,IF(F13=$W$6,$W$9,IF(F13=$X$6,$X$9))))),IF(E13=$S$10,IF(F13=$T$6,$T$10,IF(F13=$U$6,$U$10,IF(F13=$V$6,$V$10,IF(F13=$W$6,$W$10,IF(F13=$X$6,$X$10))))),IF(E13=$S$11,IF(F13=$T$6,$T$11,IF(F13=$U$6,$U$11,IF(F13=$V$6,$V$11,IF(F13=$W$6,$W$11,IF(F13=$X$6,$X$11))))),""))))) -> Alto | T13: NIVELES DE RIESGO
T14: Extremo
A15: ='2 CONTEXTO E IDENTIFICACIÓN'!A12 -> R7 | B15: =+'2 CONTEXTO E IDENTIFICACIÓN'!E12 -> Posibilidad de pérdida Económica y Reputacional por la atención inoportuna de las solicitudes de reparación de acueducto debido a la falta de seguimiento a las ordenes de trabajo generadas, falta de personal operativo para los grupos de trabajo y falta de asignación de recursos o de disponibilidad de materiales. | C15: =+'5 VALORACIÓN DEL CONTROL'!S33 -> 0.6 | D15: =+'5 VALORACIÓN DEL CONTROL'!T33 -> 0.6 | E15: =+IF(C15=0,"",IF(C15<=$R$11,$S$11,IF(C15<=$R$10,$S$10,IF(C15<=$R$9,$S$9,IF(C15<=$R$8,$S$8,IF(C15<=$R$7,$S$7,"")))))) -> Media | F15: =+IF(D15=0,"",IF(D15<=$T$5,$T$6,IF(D15<=$U$5,$U$6,IF(D15<=$V$5,$V$6,IF(D15<=$W$5,$W$6,IF(D15<=$X$5,$X$6,"")))))) -> Moderado | G15: =+IF(E15=$S$7,IF(F15=$T$6,$T$7,IF(F15=$U$6,$U$7,IF(F15=$V$6,$V$7,IF(F15=$W$6,$W$7,IF(F15=$X$6,$X$7))))),IF(E15=$S$8,IF(F15=$T$6,$T$8,IF(F15=$U$6,$U$8,IF(F15=$V$6,$V$8,IF(F15=$W$6,$W$8,IF(F15=$X$6,$X$8))))),IF(E15=$S$9,IF(F15=$T$6,$T$9,IF(F15=$U$6,$U$9,IF(F15=$V$6,$V$9,IF(F15=$W$6,$W$9,IF(F15=$X$6,$X$9))))),IF(E15=$S$10,IF(F15=$T$6,$T$10,IF(F15=$U$6,$U$10,IF(F15=$V$6,$V$10,IF(F15=$W$6,$W$10,IF(F15=$X$6,$X$10))))),IF(E15=$S$11,IF(F15=$T$6,$T$11,IF(F15=$U$6,$U$11,IF(F15=$V$6,$V$11,IF(F15=$W$6,$W$11,IF(F15=$X$6,$X$11))))),""))))) -> Moderado | T15: Alto
A16: ='2 CONTEXTO E IDENTIFICACIÓN'!A13 -> R10 | B16: =+'2 CONTEXTO E IDENTIFICACIÓN'!E13 | C16: =+'5 VALORACIÓN DEL CONTROL'!S37 | D16: =+'5 VALORACIÓN DEL CONTROL'!T37 | E16: =+IF(C16=0,"",IF(C16<=$R$11,$S$11,IF(C16<=$R$10,$S$10,IF(C16<=$R$9,$S$9,IF(C16<=$R$8,$S$8,IF(C16<=$R$7,$S$7,"")))))) | F16: =+IF(D16=0,"",IF(D16<=$T$5,$T$6,IF(D16<=$U$5,$U$6,IF(D16<=$V$5,$V$6,IF(D16<=$W$5,$W$6,IF(D16<=$X$5,$X$6,"")))))) | G16: =+IF(E16=$S$7,IF(F16=$T$6,$T$7,IF(F16=$U$6,$U$7,IF(F16=$V$6,$V$7,IF(F16=$W$6,$W$7,IF(F16=$X$6,$X$7))))),IF(E16=$S$8,IF(F16=$T$6,$T$8,IF(F16=$U$6,$U$8,IF(F16=$V$6,$V$8,IF(F16=$W$6,$W$8,IF(F16=$X$6,$X$8))))),IF(E16=$S$9,IF(F16=$T$6,$T$9,IF(F16=$U$6,$U$9,IF(F16=$V$6,$V$9,IF(F16=$W$6,$W$9,IF(F16=$X$6,$X$9))))),IF(E16=$S$10,IF(F16=$T$6,$T$10,IF(F16=$U$6,$U$10,IF(F16=$V$6,$V$10,IF(F16=$W$6,$W$10,IF(F16=$X$6,$X$10))))),IF(E16=$S$11,IF(F16=$T$6,$T$11,IF(F16=$U$6,$U$11,IF(F16=$V$6,$V$11,IF(F16=$W$6,$W$11,IF(F16=$X$6,$X$11))))),""))))) | T16: Moderado
A17: ='2 CONTEXTO E IDENTIFICACIÓN'!A14 -> R11 | B17: =+'2 CONTEXTO E IDENTIFICACIÓN'!E14 | C17: =+'5 VALORACIÓN DEL CONTROL'!S41 | D17: =+'5 VALORACIÓN DEL CONTROL'!T41 | E17: =+IF(C17=0,"",IF(C17<=$R$11,$S$11,IF(C17<=$R$10,$S$10,IF(C17<=$R$9,$S$9,IF(C17<=$R$8,$S$8,IF(C17<=$R$7,$S$7,"")))))) | F17: =+IF(D17=0,"",IF(D17<=$T$5,$T$6,IF(D17<=$U$5,$U$6,IF(D17<=$V$5,$V$6,IF(D17<=$W$5,$W$6,IF(D17<=$X$5,$X$6,"")))))) | G17: =+IF(E17=$S$7,IF(F17=$T$6,$T$7,IF(F17=$U$6,$U$7,IF(F17=$V$6,$V$7,IF(F17=$W$6,$W$7,IF(F17=$X$6,$X$7))))),IF(E17=$S$8,IF(F17=$T$6,$T$8,IF(F17=$U$6,$U$8,IF(F17=$V$6,$V$8,IF(F17=$W$6,$W$8,IF(F17=$X$6,$X$8))))),IF(E17=$S$9,IF(F17=$T$6,$T$9,IF(F17=$U$6,$U$9,IF(F17=$V$6,$V$9,IF(F17=$W$6,$W$9,IF(F17=$X$6,$X$9))))),IF(E17=$S$10,IF(F17=$T$6,$T$10,IF(F17=$U$6,$U$10,IF(F17=$V$6,$V$10,IF(F17=$W$6,$W$10,IF(F17=$X$6,$X$10))))),IF(E17=$S$11,IF(F17=$T$6,$T$11,IF(F17=$U$6,$U$11,IF(F17=$V$6,$V$11,IF(F17=$W$6,$W$11,IF(F17=$X$6,$X$11))))),""))))) | T17: Bajo
A18: ='2 CONTEXTO E IDENTIFICACIÓN'!A15 -> R12 | B18: =+'2 CONTEXTO E IDENTIFICACIÓN'!E15 | C18: =+'5 VALORACIÓN DEL CONTROL'!S45 | D18: =+'5 VALORACIÓN DEL CONTROL'!T45 | E18: =+IF(C18=0,"",IF(C18<=$R$11,$S$11,IF(C18<=$R$10,$S$10,IF(C18<=$R$9,$S$9,IF(C18<=$R$8,$S$8,IF(C18<=$R$7,$S$7,"")))))) | F18: =+IF(D18=0,"",IF(D18<=$T$5,$T$6,IF(D18<=$U$5,$U$6,IF(D18<=$V$5,$V$6,IF(D18<=$W$5,$W$6,IF(D18<=$X$5,$X$6,"")))))) | G18: =+IF(E18=$S$7,IF(F18=$T$6,$T$7,IF(F18=$U$6,$U$7,IF(F18=$V$6,$V$7,IF(F18=$W$6,$W$7,IF(F18=$X$6,$X$7))))),IF(E18=$S$8,IF(F18=$T$6,$T$8,IF(F18=$U$6,$U$8,IF(F18=$V$6,$V$8,IF(F18=$W$6,$W$8,IF(F18=$X$6,$X$8))))),IF(E18=$S$9,IF(F18=$T$6,$T$9,IF(F18=$U$6,$U$9,IF(F18=$V$6,$V$9,IF(F18=$W$6,$W$9,IF(F18=$X$6,$X$9))))),IF(E18=$S$10,IF(F18=$T$6,$T$10,IF(F18=$U$6,$U$10,IF(F18=$V$6,$V$10,IF(F18=$W$6,$W$10,IF(F18=$X$6,$X$10))))),IF(E18=$S$11,IF(F18=$T$6,$T$11,IF(F18=$U$6,$U$11,IF(F18=$V$6,$V$11,IF(F18=$W$6,$W$11,IF(F18=$X$6,$X$11))))),"")))))
A19: ='2 CONTEXTO E IDENTIFICACIÓN'!A16 -> R13 | B19: =+'2 CONTEXTO E IDENTIFICACIÓN'!E16 | C19: =+'5 VALORACIÓN DEL CONTROL'!S49 | D19: =+'5 VALORACIÓN DEL CONTROL'!T49 | E19: =+IF(C19=0,"",IF(C19<=$R$11,$S$11,IF(C19<=$R$10,$S$10,IF(C19<=$R$9,$S$9,IF(C19<=$R$8,$S$8,IF(C19<=$R$7,$S$7,"")))))) | F19: =+IF(D19=0,"",IF(D19<=$T$5,$T$6,IF(D19<=$U$5,$U$6,IF(D19<=$V$5,$V$6,IF(D19<=$W$5,$W$6,IF(D19<=$X$5,$X$6,"")))))) | G19: =+IF(E19=$S$7,IF(F19=$T$6,$T$7,IF(F19=$U$6,$U$7,IF(F19=$V$6,$V$7,IF(F19=$W$6,$W$7,IF(F19=$X$6,$X$7))))),IF(E19=$S$8,IF(F19=$T$6,$T$8,IF(F19=$U$6,$U$8,IF(F19=$V$6,$V$8,IF(F19=$W$6,$W$8,IF(F19=$X$6,$X$8))))),IF(E19=$S$9,IF(F19=$T$6,$T$9,IF(F19=$U$6,$U$9,IF(F19=$V$6,$V$9,IF(F19=$W$6,$W$9,IF(F19=$X$6,$X$9))))),IF(E19=$S$10,IF(F19=$T$6,$T$10,IF(F19=$U$6,$U$10,IF(F19=$V$6,$V$10,IF(F19=$W$6,$W$10,IF(F19=$X$6,$X$10))))),IF(E19=$S$11,IF(F19=$T$6,$T$11,IF(F19=$U$6,$U$11,IF(F19=$V$6,$V$11,IF(F19=$W$6,$W$11,IF(F19=$X$6,$X$11))))),"")))))
A20: ='2 CONTEXTO E IDENTIFICACIÓN'!A17 -> R14 | B20: =+'2 CONTEXTO E IDENTIFICACIÓN'!E17 | C20: =+'5 VALORACIÓN DEL CONTROL'!S53 | D20: =+'5 VALORACIÓN DEL CONTROL'!T53 | E20: =+IF(C20=0,"",IF(C20<=$R$11,$S$11,IF(C20<=$R$10,$S$10,IF(C20<=$R$9,$S$9,IF(C20<=$R$8,$S$8,IF(C20<=$R$7,$S$7,"")))))) | F20: =+IF(D20=0,"",IF(D20<=$T$5,$T$6,IF(D20<=$U$5,$U$6,IF(D20<=$V$5,$V$6,IF(D20<=$W$5,$W$6,IF(D20<=$X$5,$X$6,"")))))) | G20: =+IF(E20=$S$7,IF(F20=$T$6,$T$7,IF(F20=$U$6,$U$7,IF(F20=$V$6,$V$7,IF(F20=$W$6,$W$7,IF(F20=$X$6,$X$7))))),IF(E20=$S$8,IF(F20=$T$6,$T$8,IF(F20=$U$6,$U$8,IF(F20=$V$6,$V$8,IF(F20=$W$6,$W$8,IF(F20=$X$6,$X$8))))),IF(E20=$S$9,IF(F20=$T$6,$T$9,IF(F20=$U$6,$U$9,IF(F20=$V$6,$V$9,IF(F20=$W$6,$W$9,IF(F20=$X$6,$X$9))))),IF(E20=$S$10,IF(F20=$T$6,$T$10,IF(F20=$U$6,$U$10,IF(F20=$V$6,$V$10,IF(F20=$W$6,$W$10,IF(F20=$X$6,$X$10))))),IF(E20=$S$11,IF(F20=$T$6,$T$11,IF(F20=$U$6,$U$11,IF(F20=$V$6,$V$11,IF(F20=$W$6,$W$11,IF(F20=$X$6,$X$11))))),"")))))
A21: ='2 CONTEXTO E IDENTIFICACIÓN'!A18 -> R15 | B21: =+'2 CONTEXTO E IDENTIFICACIÓN'!E18 | C21: =+'5 VALORACIÓN DEL CONTROL'!S57 | D21: =+'5 VALORACIÓN DEL CONTROL'!T57 | E21: =+IF(C21=0,"",IF(C21<=$R$11,$S$11,IF(C21<=$R$10,$S$10,IF(C21<=$R$9,$S$9,IF(C21<=$R$8,$S$8,IF(C21<=$R$7,$S$7,"")))))) | F21: =+IF(D21=0,"",IF(D21<=$T$5,$T$6,IF(D21<=$U$5,$U$6,IF(D21<=$V$5,$V$6,IF(D21<=$W$5,$W$6,IF(D21<=$X$5,$X$6,"")))))) | G21: =+IF(E21=$S$7,IF(F21=$T$6,$T$7,IF(F21=$U$6,$U$7,IF(F21=$V$6,$V$7,IF(F21=$W$6,$W$7,IF(F21=$X$6,$X$7))))),IF(E21=$S$8,IF(F21=$T$6,$T$8,IF(F21=$U$6,$U$8,IF(F21=$V$6,$V$8,IF(F21=$W$6,$W$8,IF(F21=$X$6,$X$8))))),IF(E21=$S$9,IF(F21=$T$6,$T$9,IF(F21=$U$6,$U$9,IF(F21=$V$6,$V$9,IF(F21=$W$6,$W$9,IF(F21=$X$6,$X$9))))),IF(E21=$S$10,IF(F21=$T$6,$T$10,IF(F21=$U$6,$U$10,IF(F21=$V$6,$V$10,IF(F21=$W$6,$W$10,IF(F21=$X$6,$X$10))))),IF(E21=$S$11,IF(F21=$T$6,$T$11,IF(F21=$U$6,$U$11,IF(F21=$V$6,$V$11,IF(F21=$W$6,$W$11,IF(F21=$X$6,$X$11))))),"")))))
A22: ='2 CONTEXTO E IDENTIFICACIÓN'!A19 -> R16 | B22: =+'2 CONTEXTO E IDENTIFICACIÓN'!E19 | C22: =+'5 VALORACIÓN DEL CONTROL'!S61 | D22: =+'5 VALORACIÓN DEL CONTROL'!T61 | E22: =+IF(C22=0,"",IF(C22<=$R$11,$S$11,IF(C22<=$R$10,$S$10,IF(C22<=$R$9,$S$9,IF(C22<=$R$8,$S$8,IF(C22<=$R$7,$S$7,"")))))) | F22: =+IF(D22=0,"",IF(D22<=$T$5,$T$6,IF(D22<=$U$5,$U$6,IF(D22<=$V$5,$V$6,IF(D22<=$W$5,$W$6,IF(D22<=$X$5,$X$6,"")))))) | G22: =+IF(E22=$S$7,IF(F22=$T$6,$T$7,IF(F22=$U$6,$U$7,IF(F22=$V$6,$V$7,IF(F22=$W$6,$W$7,IF(F22=$X$6,$X$7))))),IF(E22=$S$8,IF(F22=$T$6,$T$8,IF(F22=$U$6,$U$8,IF(F22=$V$6,$V$8,IF(F22=$W$6,$W$8,IF(F22=$X$6,$X$8))))),IF(E22=$S$9,IF(F22=$T$6,$T$9,IF(F22=$U$6,$U$9,IF(F22=$V$6,$V$9,IF(F22=$W$6,$W$9,IF(F22=$X$6,$X$9))))),IF(E22=$S$10,IF(F22=$T$6,$T$10,IF(F22=$U$6,$U$10,IF(F22=$V$6,$V$10,IF(F22=$W$6,$W$10,IF(F22=$X$6,$X$10))))),IF(E22=$S$11,IF(F22=$T$6,$T$11,IF(F22=$U$6,$U$11,IF(F22=$V$6,$V$11,IF(F22=$W$6,$W$11,IF(F22=$X$6,$X$11))))),"")))))
A23: ='2 CONTEXTO E IDENTIFICACIÓN'!A20 -> R17 | B23: =+'2 CONTEXTO E IDENTIFICACIÓN'!E20 | C23: =+'5 VALORACIÓN DEL CONTROL'!S65 | D23: =+'5 VALORACIÓN DEL CONTROL'!T65 | E23: =+IF(C23=0,"",IF(C23<=$R$11,$S$11,IF(C23<=$R$10,$S$10,IF(C23<=$R$9,$S$9,IF(C23<=$R$8,$S$8,IF(C23<=$R$7,$S$7,"")))))) | F23: =+IF(D23=0,"",IF(D23<=$T$5,$T$6,IF(D23<=$U$5,$U$6,IF(D23<=$V$5,$V$6,IF(D23<=$W$5,$W$6,IF(D23<=$X$5,$X$6,"")))))) | G23: =+IF(E23=$S$7,IF(F23=$T$6,$T$7,IF(F23=$U$6,$U$7,IF(F23=$V$6,$V$7,IF(F23=$W$6,$W$7,IF(F23=$X$6,$X$7))))),IF(E23=$S$8,IF(F23=$T$6,$T$8,IF(F23=$U$6,$U$8,IF(F23=$V$6,$V$8,IF(F23=$W$6,$W$8,IF(F23=$X$6,$X$8))))),IF(E23=$S$9,IF(F23=$T$6,$T$9,IF(F23=$U$6,$U$9,IF(F23=$V$6,$V$9,IF(F23=$W$6,$W$9,IF(F23=$X$6,$X$9))))),IF(E23=$S$10,IF(F23=$T$6,$T$10,IF(F23=$U$6,$U$10,IF(F23=$V$6,$V$10,IF(F23=$W$6,$W$10,IF(F23=$X$6,$X$10))))),IF(E23=$S$11,IF(F23=$T$6,$T$11,IF(F23=$U$6,$U$11,IF(F23=$V$6,$V$11,IF(F23=$W$6,$W$11,IF(F23=$X$6,$X$11))))),"")))))
A24: ='2 CONTEXTO E IDENTIFICACIÓN'!A21 -> R18 | B24: =+'2 CONTEXTO E IDENTIFICACIÓN'!E21 | C24: =+'5 VALORACIÓN DEL CONTROL'!S69 | D24: =+'5 VALORACIÓN DEL CONTROL'!T69 | E24: =+IF(C24=0,"",IF(C24<=$R$11,$S$11,IF(C24<=$R$10,$S$10,IF(C24<=$R$9,$S$9,IF(C24<=$R$8,$S$8,IF(C24<=$R$7,$S$7,"")))))) | F24: =+IF(D24=0,"",IF(D24<=$T$5,$T$6,IF(D24<=$U$5,$U$6,IF(D24<=$V$5,$V$6,IF(D24<=$W$5,$W$6,IF(D24<=$X$5,$X$6,"")))))) | G24: =+IF(E24=$S$7,IF(F24=$T$6,$T$7,IF(F24=$U$6,$U$7,IF(F24=$V$6,$V$7,IF(F24=$W$6,$W$7,IF(F24=$X$6,$X$7))))),IF(E24=$S$8,IF(F24=$T$6,$T$8,IF(F24=$U$6,$U$8,IF(F24=$V$6,$V$8,IF(F24=$W$6,$W$8,IF(F24=$X$6,$X$8))))),IF(E24=$S$9,IF(F24=$T$6,$T$9,IF(F24=$U$6,$U$9,IF(F24=$V$6,$V$9,IF(F24=$W$6,$W$9,IF(F24=$X$6,$X$9))))),IF(E24=$S$10,IF(F24=$T$6,$T$10,IF(F24=$U$6,$U$10,IF(F24=$V$6,$V$10,IF(F24=$W$6,$W$10,IF(F24=$X$6,$X$10))))),IF(E24=$S$11,IF(F24=$T$6,$T$11,IF(F24=$U$6,$U$11,IF(F24=$V$6,$V$11,IF(F24=$W$6,$W$11,IF(F24=$X$6,$X$11))))),"")))))
A25: ='2 CONTEXTO E IDENTIFICACIÓN'!A22 -> R19 | B25: =+'2 CONTEXTO E IDENTIFICACIÓN'!E22 | C25: =+'5 VALORACIÓN DEL CONTROL'!S73 | D25: =+'5 VALORACIÓN DEL CONTROL'!T73 | E25: =+IF(C25=0,"",IF(C25<=$R$11,$S$11,IF(C25<=$R$10,$S$10,IF(C25<=$R$9,$S$9,IF(C25<=$R$8,$S$8,IF(C25<=$R$7,$S$7,"")))))) | F25: =+IF(D25=0,"",IF(D25<=$T$5,$T$6,IF(D25<=$U$5,$U$6,IF(D25<=$V$5,$V$6,IF(D25<=$W$5,$W$6,IF(D25<=$X$5,$X$6,"")))))) | G25: =+IF(E25=$S$7,IF(F25=$T$6,$T$7,IF(F25=$U$6,$U$7,IF(F25=$V$6,$V$7,IF(F25=$W$6,$W$7,IF(F25=$X$6,$X$7))))),IF(E25=$S$8,IF(F25=$T$6,$T$8,IF(F25=$U$6,$U$8,IF(F25=$V$6,$V$8,IF(F25=$W$6,$W$8,IF(F25=$X$6,$X$8))))),IF(E25=$S$9,IF(F25=$T$6,$T$9,IF(F25=$U$6,$U$9,IF(F25=$V$6,$V$9,IF(F25=$W$6,$W$9,IF(F25=$X$6,$X$9))))),IF(E25=$S$10,IF(F25=$T$6,$T$10,IF(F25=$U$6,$U$10,IF(F25=$V$6,$V$10,IF(F25=$W$6,$W$10,IF(F25=$X$6,$X$10))))),IF(E25=$S$11,IF(F25=$T$6,$T$11,IF(F25=$U$6,$U$11,IF(F25=$V$6,$V$11,IF(F25=$W$6,$W$11,IF(F25=$X$6,$X$11))))),"")))))
A26: ='2 CONTEXTO E IDENTIFICACIÓN'!A23 -> R20 | B26: =+'2 CONTEXTO E IDENTIFICACIÓN'!E23 | C26: =+'5 VALORACIÓN DEL CONTROL'!S77 | D26: =+'5 VALORACIÓN DEL CONTROL'!T77 | E26: =+IF(C26=0,"",IF(C26<=$R$11,$S$11,IF(C26<=$R$10,$S$10,IF(C26<=$R$9,$S$9,IF(C26<=$R$8,$S$8,IF(C26<=$R$7,$S$7,"")))))) | F26: =+IF(D26=0,"",IF(D26<=$T$5,$T$6,IF(D26<=$U$5,$U$6,IF(D26<=$V$5,$V$6,IF(D26<=$W$5,$W$6,IF(D26<=$X$5,$X$6,"")))))) | G26: =+IF(E26=$S$7,IF(F26=$T$6,$T$7,IF(F26=$U$6,$U$7,IF(F26=$V$6,$V$7,IF(F26=$W$6,$W$7,IF(F26=$X$6,$X$7))))),IF(E26=$S$8,IF(F26=$T$6,$T$8,IF(F26=$U$6,$U$8,IF(F26=$V$6,$V$8,IF(F26=$W$6,$W$8,IF(F26=$X$6,$X$8))))),IF(E26=$S$9,IF(F26=$T$6,$T$9,IF(F26=$U$6,$U$9,IF(F26=$V$6,$V$9,IF(F26=$W$6,$W$9,IF(F26=$X$6,$X$9))))),IF(E26=$S$10,IF(F26=$T$6,$T$10,IF(F26=$U$6,$U$10,IF(F26=$V$6,$V$10,IF(F26=$W$6,$W$10,IF(F26=$X$6,$X$10))))),IF(E26=$S$11,IF(F26=$T$6,$T$11,IF(F26=$U$6,$U$11,IF(F26=$V$6,$V$11,IF(F26=$W$6,$W$11,IF(F26=$X$6,$X$11))))),"")))))

Sheet 7 MAPA CALOR INHEREN Y RESIDUAL
A2: PROCESO: | B2: =+IF('2 CONTEXTO E IDENTIFICACIÓN'!$B$2="","",'2 CONTEXTO E IDENTIFICACIÓN'!$B$2) -> GESTIÓN DE SERVICIOS PUBLICOS
A4: MAPA DE CALOR RIESGO INHERENTE | I4: MAPA DE CALOR RIESGO RESIDUAL | T4: Impacto
C5: Impacto | K5: Impacto | T5: 0.2 | U5: 0.4 | V5: 0.6 | W5: 0.8 | X5: 1
C6: Leve | D6: Menor | E6: Moderado | F6: Mayor | G6: Catastrófico | K6: Leve | L6: Menor | M6: Moderado | N6: Mayor | O6: Catastrófico | T6: Leve | U6: Menor | V6: Moderado | W6: Mayor | X6: Catastrófico
A7: Probabilidad | B7: Muy Alta | C7: =+'4 MAPA CALOR INHERENTE'!I7 | D7: =+'4 MAPA CALOR INHERENTE'!J7 | E7: =+'4 MAPA CALOR INHERENTE'!K7 | F7: =+'4 MAPA CALOR INHERENTE'!L7 | G7: =+'4 MAPA CALOR INHERENTE'!M7 | I7: Probabilidad | J7: Muy Alta | K7: =+'6 MAPA CALOR RESIDUAL'!K7 | L7: =+'6 MAPA CALOR RESIDUAL'!L7 | M7: =+'6 MAPA CALOR RESIDUAL'!M7 | N7: =+'6 MAPA CALOR RESIDUAL'!N7 | O7: =+'6 MAPA CALOR RESIDUAL'!O7 | Q7: Probabilidad | R7: 1 | S7: Muy Alta | T7: Alto | U7: Alto | V7: Alto | W7: Alto | X7: Extremo
B8: Alta | C8: =+'4 MAPA CALOR INHERENTE'!I8 | D8: =+'4 MAPA CALOR INHERENTE'!J8 | E8: =+'4 MAPA CALOR INHERENTE'!K8 | F8: =+'4 MAPA CALOR INHERENTE'!L8 | G8: =+'4 MAPA CALOR INHERENTE'!M8 | J8: Alta | K8: =+'6 MAPA CALOR RESIDUAL'!K8 | L8: =+'6 MAPA CALOR RESIDUAL'!L8 | M8: =+'6 MAPA CALOR RESIDUAL'!M8 | N8: =+'6 MAPA CALOR RESIDUAL'!N8 | O8: =+'6 MAPA CALOR RESIDUAL'!O8 | R8: 0.8 | S8: Alta | T8: Moderado | U8: Moderado | V8: Alto | W8: Alto | X8: Extremo
B9: Media | C9: =+'4 MAPA CALOR INHERENTE'!I9 | D9: =+'4 MAPA CALOR INHERENTE'!J9 | E9: =+'4 MAPA CALOR INHERENTE'!K9 -> R7 | F9: =+'4 MAPA CALOR INHERENTE'!L9 -> R2 R4 R5 R6 | G9: =+'4 MAPA CALOR INHERENTE'!M9 | J9: Media | K9: =+'6 MAPA CALOR RESIDUAL'!K9 | L9: =+'6 MAPA CALOR RESIDUAL'!L9 -> R2 | M9: =+'6 MAPA CALOR RESIDUAL'!M9 -> R7 | N9: =+'6 MAPA CALOR RESIDUAL'!N9 -> R4 R5 R6 | O9: =+'6 MAPA CALOR RESIDUAL'!O9 | R9: 0.6 | S9: Media | T9: Moderado | U9: Moderado | V9: Moderado | W9: Alto | X9: Extremo
B10: Baja | C10: =+'4 MAPA CALOR INHERENTE'!I10 | D10: =+'4 MAPA CALOR INHERENTE'!J10 | E10: =+'4 MAPA CALOR INHERENTE'!K10 | F10: =+'4 MAPA CALOR INHERENTE'!L10 -> R1 R3 | G10: =+'4 MAPA CALOR INHERENTE'!M10 | J10: Baja | K10: =+'6 MAPA CALOR RESIDUAL'!K10 | L10: =+'6 MAPA CALOR RESIDUAL'!L10 -> R1 | M10: =+'6 MAPA CALOR RESIDUAL'!M10 -> R3 | N10: =+'6 MAPA CALOR RESIDUAL'!N10 | O10: =+'6 MAPA CALOR RESIDUAL'!O10 | R10: 0.4 | S10: Baja | T10: Bajo | U10: Moderado | V10: Moderado | W10: Alto | X10: Extremo
B11: Muy Baja | C11: =+'4 MAPA CALOR INHERENTE'!I11 | D11: =+'4 MAPA CALOR INHERENTE'!J11 | E11: =+'4 MAPA CALOR INHERENTE'!K11 | F11: =+'4 MAPA CALOR INHERENTE'!L11 | G11: =+'4 MAPA CALOR INHERENTE'!M11 | J11: Muy Baja | K11: =+'6 MAPA CALOR RESIDUAL'!K11 | L11: =+'6 MAPA CALOR RESIDUAL'!L11 | M11: =+'6 MAPA CALOR RESIDUAL'!M11 | N11: =+'6 MAPA CALOR RESIDUAL'!N11 | O11: =+'6 MAPA CALOR RESIDUAL'!O11 | R11: 0.2 | S11: Muy Baja | T11: Bajo | U11: Bajo | V11: Moderado | W11: Alto | X11: Extremo
T13: NIVELES DE RIESGO
T14: Extremo
T15: Alto
T16: Moderado
T17: Bajo

Sheet 8 MAPA RIESGOS
A2: PROCESO: | B2: =+IF('2 CONTEXTO E IDENTIFICACIÓN'!$B$2="","",'2 CONTEXTO E IDENTIFICACIÓN'!$B$2) -> GESTIÓN DE SERVICIOS PUBLICOS
AF3: Impacto
E5: CALIFICACIÓN RIESGO INHERENTE | J5: CALIFICACIÓN RIESGO RESIDUAL | Q5: Plan de Acción | U5: Seguimientos por parte del Líder del Proceso | AF5: 0.2 | AG5: 0.4 | AH5: 0.6 | AI5: 0.8 | AJ5: 1
A6: No. DEL RIESGO | B6: RIESGO | C6: % Probabilidad Inherente | D6: % Impacto Inherente | E6: PROBABILIDAD | F6: IMPACTO | G6: SEVERIDAD (NIVEL DE RIESGO) | H6: % Probabilidad Residual | I6: % Impacto Residual | J6: PROBABILIDAD | K6: IMPACTO | L6: SEVERIDAD (NIVEL DE RIESGO) | M6: ¿Requiere Plan de Acción? | N6: Tratamiento | O6: Determine el tratamiento a seguir | P6: Definición del Tratamiento | Q6: Descripción de la Acción, basado en el análisis de causas | R6: Responsable (Cargo) | S6: Fecha de Inicio | T6: Fecha de Finalización | U6: Seguimiento 1 (1er cuatrimestre abril 2026) | V6: Seguimiento 2 (Fecha y avance) | W6: Seguimiento 3 ... (Fecha y avance) | X6: Verificación por parte de segunda línea de defensa o quien haga sus veces (Fecha y Descripción) | Y6: Verificación por parte de la Oficina de Control Interno o quien haga sus veces (Fecha y Descripción) | Z6: Estado | AF6: Leve | AG6: Menor | AH6: Moderado | AI6: Mayor | AJ6: Catastrófico
A7: ='2 CONTEXTO E IDENTIFICACIÓN'!A6 -> R1 | B7: =+'2 CONTEXTO E IDENTIFICACIÓN'!E6 -> Posibilidad de pérdida Económica y Reputacional por contaminación ambiental a causa de las descargas de aguas residuales debido a la falta de seguimiento y control a los vertimientos realizados por usuarios diferentes al residencial que hacen uso del alcantarillado público y a la infraestructura de las redes de alcantarillado en condiciones inadecuadas. | C7: =+'3 PROBABIL E IMPACTO INHERENTE'!E7 -> 0.4 | D7: =+'3 PROBABIL E IMPACTO INHERENTE'!M7 -> 0.8 | E7: =+'4 MAPA CALOR INHERENTE'!C7 -> Baja | F7: =+'4 MAPA CALOR INHERENTE'!D7 -> Mayor | G7: =+'4 MAPA CALOR INHERENTE'!E7 -> Alto | H7: =+'6 MAPA CALOR RESIDUAL'!C7 -> 0.4 | I7: =+'6 MAPA CALOR RESIDUAL'!D7 -> 0.3375 | J7: =+'6 MAPA CALOR RESIDUAL'!E7 -> Baja | K7: =+'6 MAPA CALOR RESIDUAL'!F7 -> Menor | L7: =+'6 MAPA CALOR RESIDUAL'!G7 -> Moderado | M7: no | N7: si | O7: Evitar | P7: =+IF($M7="","",IF($M7=$AH$15,$AG$15,$O7)) -> Evitar | U7: Durante el periodo de seguimiento no se evidenció materialización del riesgo asociada a contaminación ambiental por vertimientos de usuarios diferentes al residencial. Se realizó verificación del seguimiento efectuado a los vertimientos y de las condiciones de la infraestructura de alcantarillado, sin identificarse eventos que generaran pérdida económica o afectación reputacional. Los controles implementados contribuyeron a mantener el riesgo residual en nivel moderado. Se recomienda mantener el monitoreo periódico de los vertimientos y fortalecer el registro de las verificaciones realizadas. | AC7: Probabilidad | AD7: 1 | AE7: Muy Alta | AF7: Alto | AG7: Alto | AH7: Alto | AI7: Alto | AJ7: Extremo
A8: ='2 CONTEXTO E IDENTIFICACIÓN'!A7 -> R2 | B8: =+'2 CONTEXTO E IDENTIFICACIÓN'!E7 -> Posibilidad de pérdida Económica y Reputacional por la atención inoportuna de las solicitudes de reparación de alcantarillado debido a la falta de seguimiento a las ordenes de trabajo generadas, falta de personal operativo para los grupos de trabajo y falta de asignación de recursos o de disponibilidad de materiales. | C8: =+'3 PROBABIL E IMPACTO INHERENTE'!E9 -> 0.6 | D8: =+'3 PROBABIL E IMPACTO INHERENTE'!M9 -> 0.8 | E8: =+'4 MAPA CALOR INHERENTE'!C9 -> Media | F8: =+'4 MAPA CALOR INHERENTE'!D9 -> Mayor | G8: =+'4 MAPA CALOR INHERENTE'!E9 -> Alto | H8: =+'5 VALORACIÓN DEL CONTROL'!S13 -> 0.6 | I8: =+'5 VALORACIÓN DEL CONTROL'!T13 -> 0.253125 | J8: =+IF(H8=0,"",IF(H8<=$AD$10,$AE$10,IF(H8<=$AD$9,$AE$9,IF(H8<=$AD$8,$AE$8,IF(H8<=#REF!,#REF!,IF(H8<=$AD$7,$AE$7,"")))))) -> Media | K8: =+IF(I8=0,"",IF(I8<=$AF$5,$AF$6,IF(I8<=$AG$5,$AG$6,IF(I8<=$AH$5,$AH$6,IF(I8<=$AI$5,$AI$6,IF(I8<=$AJ$5,$AJ$6,"")))))) -> Menor | L8: =+'6 MAPA CALOR RESIDUAL'!G8 -> 0 | M8: SI | N8: NO | O8: Evitar | P8: =+IF($M8="","",IF($M8=$AH$15,$AG$15,$O8)) -> Evitar | U8: Durante el periodo evaluado no se evidenció materialización del riesgo. Se verificó el seguimiento realizado a las órdenes de trabajo de reparación de alcantarillado y la atención de los requerimientos recibidos. No obstante, se identifica la necesidad de fortalecer el control sobre los tiempos de atención, disponibilidad de personal operativo y materiales, con el propósito de reducir la probabilidad de ocurrencia del riesgo. Los controles implementados permitieron evitar la materialización durante el periodo evaluado. | AD8: 0.6 | AE8: Media | AF8: Moderado | AG8: Moderado | AH8: Moderado | AI8: Alto | AJ8: Extremo
