Workbook
Name Afectación_Económica: '3 PROBABIL E IMPACTO INHERENTE'!$X$7:$X$12
Name Definicion_tratamiento: '11 FORMULAS'!#REF!
Name E_Relaciones_Laborales: '11 FORMULAS'!$C$12:$C$17
Name F_Usuarios_Productos_y_Prácticas_Organizacionales: '11 FORMULAS'!$C$18:$C$23
Name G_Daños_Activos_Físicos: '11 FORMULAS'!$C$24:$C$26
Name IMPACTO_PROCESOS: '[1]LISTAS FORMULAS'!$C$3:$C$7
Name IMPACTO_PROCESOS: '[1]LISTAS FORMULAS'!$C$3:$C$7
Name IMPACTO_PROCESOS: '[1]LISTAS FORMULAS'!$C$3:$C$7
Name IMPACTO_PROCESOS: '[1]LISTAS FORMULAS'!$C$3:$C$7
Name IMPACTO_PROCESOS: '[1]LISTAS FORMULAS'!$C$3:$C$7
Name IMPACTO_PROCESOS: '[1]LISTAS FORMULAS'!$C$3:$C$7
Name opciones: '[1]LISTAS FORMULAS'!$F$3:$F$4
Name opciones: '[1]LISTAS FORMULAS'!$F$3:$F$4
Name opciones: '[1]LISTAS FORMULAS'!$F$3:$F$4
Name opciones: '[1]LISTAS FORMULAS'!$F$3:$F$4
Name opciones: '[1]LISTAS FORMULAS'!$F$3:$F$4
Name opciones: '[1]LISTAS FORMULAS'!$F$3:$F$4
Name opciones2: '[1]LISTAS FORMULAS'!$G$3:$G$5
Name opciones2: '[1]LISTAS FORMULAS'!$G$3:$G$5
Name opciones2: '[1]LISTAS FORMULAS'!$G$3:$G$5
Name opciones2: '[1]LISTAS FORMULAS'!$G$3:$G$5
Name opciones2: '[1]LISTAS FORMULAS'!$G$3:$G$5
Name opciones2: '[1]LISTAS FORMULAS'!$G$3:$G$5
Name Plan_accion: '11 FORMULAS'!#REF!
Name Plan_acción: '11 FORMULAS'!#REF!
Name Plan_de_acción: '11 FORMULAS'!#REF!
Name Quince_Cero: '[1]LISTAS FORMULAS'!$F$14:$F$15
Name Quince_Cero: '[1]LISTAS FORMULAS'!$F$14:$F$15
Name Quince_Cero: '[1]LISTAS FORMULAS'!$F$14:$F$15
Name Quince_Cero: '[1]LISTAS FORMULAS'!$F$14:$F$15
Name Quince_Cero: '[1]LISTAS FORMULAS'!$F$14:$F$15
Name Quince_Cero: '[1]LISTAS FORMULAS'!$F$14:$F$15
Name Rango_Calificacion_Ejecucion: '[1]LISTAS FORMULAS'!$H$3:$H$5
Name Rango_Calificacion_Ejecucion: '[1]LISTAS FORMULAS'!$H$3:$H$5
Name Rango_Calificacion_Ejecucion: '[1]LISTAS FORMULAS'!$H$3:$H$5
Name Rango_Calificacion_Ejecucion: '[1]LISTAS FORMULAS'!$H$3:$H$5
Name Rango_Calificacion_Ejecucion: '[1]LISTAS FORMULAS'!$H$3:$H$5
Name Rango_Calificacion_Ejecucion: '[1]LISTAS FORMULAS'!$H$3:$H$5
Name Reducir_mitigar_Transferir_Evitar: '8 MAPA RIESGOS'!$AJ$13:$AJ$14
Name Reputacional: '3 PROBABIL E IMPACTO INHERENTE'!$Y$7:$Y$12
Name Requiere_Plan_de_Acción: '8 MAPA RIESGOS'!$AJ$13:$AJ$14
Name TIPO: '[1]CONTEXTO E IDENTIFICACIÓN'!$E$29:$E$32
Name TIPO: '[1]CONTEXTO E IDENTIFICACIÓN'!$E$29:$E$32
Name TIPO: '[1]CONTEXTO E IDENTIFICACIÓN'!$E$29:$E$32
Name TIPO: '[1]CONTEXTO E IDENTIFICACIÓN'!$E$29:$E$32
Name TIPO: '[1]CONTEXTO E IDENTIFICACIÓN'!$E$29:$E$32
Name Tipo: '11 FORMULAS'!$A$4:$A$11

Sheet 1 INSTRUCTIVO
B2: Matriz Mapa de Riesgos
B4: Con la expedición del Decreto 1499 de 2017 “Por medio del cual se modifica el Decreto 1083 de 2015, Decreto Único Reglamentario del Sector Función Pública, en lo relacionado con el Sistema de Gestión establecido en el artículo 133 de la Ley 1753 de 2015”, se crea un solo Sistema de Gestión y se alinea con el Sistema de Control Interno, hoy todas las entidades públicas requieren actualizar y/o implementar el Modelo Integrado de Planeación y Gestión MIPG, modelo que incorpora el Modelo Estándar de Control Interno MECI a través de la 7a dimensión del mismo. En este marco general, el proceso de administración del riesgo es un esfuerzo conjunto entre la Alta Dirección y los servidores en todos sus niveles, ejercicio que inicia con la formulación de la política de Administración del Riesgo, la cual incluye los niveles de responsabilidad frente al seguimiento y evaluación, aspectos que deberán definirse acorde con el Esquema de Líneas de Defensa vinculado a la Dimensión 7. Teniendo en cuenta lo anterior y dada la necesidad de las entidades frente a la estructuración de los mapas de riesgos, como herramienta fundamental frente a la gestión del riesgo, el presente formato desarrolla un esquema completo acorde con los contenidos metodológicos de la Guía para la Administración del Riesgo y el diseño de controles V5. El formato cuenta con celdas parametrizadas y permite contar con los respectivos mapas de calor para riesgo inherente y riesgo residual.
B6: Orientaciones Generales
B7: Antes de iniciar con el diligenciamiento de la información en la matriz, se requiere haber avanzado en el análisis del proceso, su objetivo, alcance, actividades clave, considere los lineamientos establecidos en el Paso 2: identificación del riesgo, donde se explica ampliamente las bases para adelantar este análisis. Así mismo, considere en el Paso 3: valoración del riesgo los lineamientos para definir el No. de veces que se hace la actividad con la cual se relaciona el riesgo y su impacto en términos económicos o reputacionales. En este mismo paso se analizan los controles que deben responder a los atributos de eficiencia e informativos.
B9: Las hojas se encuentran protegidas para evidar dañar las formulas, para desprotegerlas no se requiere contraseña
B11: Se debe ingresar información solo en las celdas identificadas con color NARANJA CLARO, las demás contienen formulas de autollenado
B13: El formato de fecha es: DD/MM/AAAA
B15: El archivo contiene las siguientes hojas:
B17: 1 INSTRUCTIVO: Identifica el contenido del archivo y su funcionalidad
B19: 2 CONTEXTO E IDENTIFICACIÓN: Se establece el Número, Descripción y Factor del riesgo
C21: Columna | E21: Descripción - Lineamientos para el diligenciamiento
C22: Proceso | E22: Diligencie el nombre del proceso al cual se le identificarán y valorarán los riesgos.
C23: Objetivo del Proceso | E23: Diligencie el objetivo del proceso.
C24: Elaboración o Actualización: | E24: Fecha en la que realiza el diligenciamiento o actualización del mapa de riesgos, formato (DD/MM/AAAA)
C25: Vigencia del Al: | E25: Vigencia que tiene el mapa de riesgos fecha inicio fecha final, formato (DD/MM/AAAA)
C26: No. de Riesgo | E26: Permite definir unl consecutivo de riesgos. Una entidad puede ir en el riesgo 150, pero tener 70 riesgos, lo que permite llevar una traza de los riesgos. Esta información la debe administrar la oficina asesora de planeación o gerencia de riesgos. Cuando un el riesgo salga del mapa no existirá otro riesgo con el mismo número.
C27: ¿QUÉ? IMPACTO | E27: Analice las consecuencias que puede ocasionar a la organización la materialización del riesgo, Seleccione de la lista desplegable entre: Posibilidad de pérdida Económica Posibilidad de pérdida Reputacional Posibilidad de pérdida Económica y Reputacional
C28: ¿CÓMO? CAUSA INMEDIATA | E28: Circunstancias bajo las cuales se presenta el riesgo, es la situación más evidente frente al riesgo, redacte de la forma más concreta posible. (Iniciar con la palabra por)
C29: ¿PORQUÉ? CAUSA RAÍZ | E29: Causa principal o básica, corresponde a las razones por la cuales se puede presentar el riesgo, redacte de la forma más concreta posible. (Iniciar con debido a)
C30: DESCRIPCIÓN DEL RIESGO | E30: Consolida o resume los análisis sobre impacto + causa inmediata + causa raíz, permitiendo contar con una redacción clara y concreta del riesgo indentificado. Tenga en cuenta la estructura de alto nivel establecida en al guía, inicia con POSIBILIDAD DE + Impacto para la entidad (Qué) + Causa Inmediata (Cómo) + Causa Raíz (Por qué) (Se genera automáticamente)
C31: FACTOR DEL RIESGO / TIPO | E31: Seleccione de la lista desplegable entre las opiciones: A_Ejecución_y_Administración_de_procesos B_Fraude_Externo C_Fraude_Interno D_Fallas_Tecnológicas E_Relaciones_Laborales F_Usuarios_Productos_y_Prácticas_Organizacionales G_Daños_Activos_Físicos
C32: FACTOR DEL RIESGO / SELECCIONE FUENTE GENERADORA DEL EVENTO PARA TIPO E,F,G | E32: Si en TIPO seleccioneó las opiciones: E_Relaciones_Laborales F_Usuarios_Productos_y_Prácticas_Organizacionales G_Daños_Activos_Físicos Debe definir la fuente generadora de la lista desplegable
C33: RESULTADO FUENTE GENERADORA DEL EVENTO | E33: Se rellena automáticamente según lo seleccinado de FACTOR DEL RIESGO
B35: 3 PROBABIL E IMPACTO INHERENTE:
C37: Columna | E37: Descripción - Lineamientos para el diligenciamiento
C38: No. veces que realiza la actividad al año | E38: Defina el número de veces que se ejecuta la actividad durante el año, (Recuerde la probabilidad e ocurrencia del riesgo se define como el No. de veces que se pasa por el punto de riesgo en el periodo de 1 año). La matriz automáticamente hará el cálculo para el nivel de probabilidad inherente. La matriz calcula automáticamente: Frecuencia de la Actividad % Probabilidad Nivel Probabilidad
C39: Afectación Económica | E39: Selecciona de la lista desplegable el rango de afectación económica y la matriz calcula: % Nivel
C40: Reputacional | E40: Selecciona de la lista desplegable el rango de afectación reputacional y la matriz calcula: % Nivel
C41: Resultado / Porcentaje de Impacto / Nivel de Impacto | E41: Se calcula automáticamente según la información de afectación económica y reputacional
B43: 4 MAPA CALOR INHERENTE: Representación gráfica de la ubicación de cada riesgo inherente en el mapa de calor (En esta hoja no se ingresan datos)
B45: 5 VALORACIÓN DEL CONTROL: Se realiza la descripción y atributos del control, calcula automáticamente el Valor Total del Control, Probabilidad residual e Impacto Residual
C47: Columna | E47: Descripción - Lineamientos para el diligenciamiento
C48: Descripción del Control | E48: Recuerde que el control se define como la medida que permite reducir o mitigar un riesgo. Defina el control (es) que atacan la causa raíz del riesgo, considere la estructura explicada en la guía: Responsable de ejecutar el control + Acción + Complemento
C49: Tipo de control | E49: Debe seleccionar de lista desplegable entre: Preventivo Detectivo Correctivo
C50: Peso del Control | E50: Se calcula automáticamente según lo seleccionado en Tipo de Control Preventivo: 25 % Detectivo: 15 % Correctivo: 10 %
C51: Afectación o Desplazamiento en la Matriz | E51: Se calcula automáticamente según lo seleccionado en Tipo de Control Preventivo: 25 % Detectivo: 15 % Correctivo: 10 %
C52: Implementación | E52: Debe seleccionar de lista desplegable entre: Automático: 25 % Manual: 15 %
C53: Peso de la implementación | E53: Se calcula automáticamente según lo seleccionado en Implementación Manual Automático
C54: Informativos | E54: Debe seleccionar de listas desplegables Documentación: Documentado - Sin Documentar Frecuencia: Continua - Aleatoria Evidencia: Con registro - Sin registro
C55: Valor Total del Control | E55: Se calcula automáticamente: Peso del Control + Peso de la implementación
...

Sheet 2 CONTEXTO E IDENTIFICACIÓN
A2: PROCESO: | B2: GESTIÓN DE SERVICIOS PUBLICOS
A4: No. de Riesgo (Mismo consecutivo para toda la entidad) | B4: ¿QUÉ? IMPACTO | C4: ¿CÓMO? CAUSA INMEDIATA (Iniciar con la palabra por) | D4: ¿PORQUÉ? CAUSA RAÍZ (Iniciar con debido a) | E4: DESCRIPCIÓN DEL RIESGO | F4: FACTOR DEL RIESGO
F5: TIPO | G5: SELECCIONE FUENTE GENERADORA DEL EVENTO PARA TIPO E,F,G | H5: VALIDACIÓN FUENTE GENERADORA DEL EVENTO PARA TIPO A,B,C,D | I5: RESULTADO FUENTE GENERADORA DEL EVENTO
A6: R1 | B6: Posibilidad de pérdida Económica y Reputacional | C6: por contaminación ambiental a causa de las descargas de aguas residuales | D6: debido a la falta de seguimiento y control a los vertimientos realizados por usuarios diferentes al residencial que hacen uso del alcantarillado público y a la infraestructura de las redes de alcantarillado en condiciones inadecuadas. | E6: =+CONCATENATE(B6," ",C6," ",D6) -> Posibilidad de pérdida Económica y Reputacional por contaminación ambiental a causa de las descargas de aguas residuales debido a la falta de seguimiento y control a los vertimientos realizados por usuarios diferentes al residencial que hacen uso del alcantarillado público y a la infraestructura de las redes de alcantarillado en condiciones inadecuadas. | F6: A_Ejecución_y_Administración_de_procesos | G6: Procesos | H6: =+IF(F6='11 FORMULAS'!$B$4,'11 FORMULAS'!$C$4,IF(F6='11 FORMULAS'!$B$6,'11 FORMULAS'!$C$6,IF(F6='11 FORMULAS'!$B$8,'11 FORMULAS'!$C$8,IF(F6='11 FORMULAS'!$B$10,'11 FORMULAS'!$C$10,"")))) -> Procesos | I6: =+G6&H6 -> ProcesosProcesos
A7: R2 | B7: Posibilidad de pérdida Económica y Reputacional | C7: por la atención inoportuna de las solicitudes de reparación de alcantarillado | D7: debido a la falta de seguimiento a las ordenes de trabajo generadas, falta de personal operativo para los grupos de trabajo y falta de asignación de recursos o de disponibilidad de materiales. | E7: =+CONCATENATE(B7," ",C7," ",D7) -> Posibilidad de pérdida Económica y Reputacional por la atención inoportuna de las solicitudes de reparación de alcantarillado debido a la falta de seguimiento a las ordenes de trabajo generadas, falta de personal operativo para los grupos de trabajo y falta de asignación de recursos o de disponibilidad de materiales. | F7: F_Usuarios_Productos_y_Prácticas_Organizacionales | G7: Procesos | H7: =+IF(F7='11 FORMULAS'!$B$4,'11 FORMULAS'!$C$4,IF(F7='11 FORMULAS'!$B$6,'11 FORMULAS'!$C$6,IF(F7='11 FORMULAS'!$B$8,'11 FORMULAS'!$C$8,IF(F7='11 FORMULAS'!$B$10,'11 FORMULAS'!$C$10,"")))) | I7: =+G7&H7 -> Procesos
A8: R3 | B8: Posibilidad de pérdida Económica y Reputacional | C8: por la falta de atención a las afectaciones generadas por actividades de alcantarillado | D8: debido a que la parametrización del software permite el cierre de ordenes de trabajo con actividades pendientes. | E8: =+CONCATENATE(B8," ",C8," ",D8) -> Posibilidad de pérdida Económica y Reputacional por la falta de atención a las afectaciones generadas por actividades de alcantarillado debido a que la parametrización del software permite el cierre de ordenes de trabajo con actividades pendientes. | F8: F_Usuarios_Productos_y_Prácticas_Organizacionales | G8: Procesos | H8: =+IF(F8='11 FORMULAS'!$B$4,'11 FORMULAS'!$C$4,IF(F8='11 FORMULAS'!$B$6,'11 FORMULAS'!$C$6,IF(F8='11 FORMULAS'!$B$8,'11 FORMULAS'!$C$8,IF(F8='11 FORMULAS'!$B$10,'11 FORMULAS'!$C$10,"")))) | I8: =+G8&H8 -> Procesos
A9: R4 | B9: Posibilidad de pérdida Económica y Reputacional | C9: Por la captacion del caudal de las plantas de tratamiento de los municipios por encima del lt/s consecionados | D9: Debido a la falta de medicion en el sistema de las bocatomas | E9: =+CONCATENATE(B9," ",C9," ",D9) -> Posibilidad de pérdida Económica y Reputacional Por la captacion del caudal de las plantas de tratamiento de los municipios por encima del lt/s consecionados Debido a la falta de medicion en el sistema de las bocatomas | F9: A_Ejecución_y_Administración_de_procesos | G9: Procesos | H9: =+IF(F9='11 FORMULAS'!$B$4,'11 FORMULAS'!$C$4,IF(F9='11 FORMULAS'!$B$6,'11 FORMULAS'!$C$6,IF(F9='11 FORMULAS'!$B$8,'11 FORMULAS'!$C$8,IF(F9='11 FORMULAS'!$B$10,'11 FORMULAS'!$C$10,"")))) -> Procesos | I9: =+G9&H9 -> ProcesosProcesos
A10: R5 | B10: Posibilidad de pérdida Económica y Reputacional | C10: por condiciones de calidad de agua cruda que no permite tratabilidad y afectaciones de tipo climático | D10: debido a crecientes que generan arrastre de solidos y elevacion en los niveles de turbierdad en agua cruda | E10: =+CONCATENATE(B10," ",C10," ",D10) -> Posibilidad de pérdida Económica y Reputacional por condiciones de calidad de agua cruda que no permite tratabilidad y afectaciones de tipo climático debido a crecientes que generan arrastre de solidos y elevacion en los niveles de turbierdad en agua cruda | F10: F_Usuarios_Productos_y_Prácticas_Organizacionales | G10: Procesos | H10: =+IF(F10='11 FORMULAS'!$B$4,'11 FORMULAS'!$C$4,IF(F10='11 FORMULAS'!$B$6,'11 FORMULAS'!$C$6,IF(F10='11 FORMULAS'!$B$8,'11 FORMULAS'!$C$8,IF(F10='11 FORMULAS'!$B$10,'11 FORMULAS'!$C$10,"")))) | I10: =+G10&H10 -> Procesos
A11: R6 | B11: Posibilidad de pérdida Económica y Reputacional | C11: por el aumento en el índice de agua no contabilizada por pérdidas técnicas | D11: debido a la infraestructura de produccion ,almacenameinto y distribucion en condiciones inadecuadas, y la reparación inoportuna de fugas y daños en las redes de acueducto. | E11: =+CONCATENATE(B11," ",C11," ",D11) -> Posibilidad de pérdida Económica y Reputacional por el aumento en el índice de agua no contabilizada por pérdidas técnicas debido a la infraestructura de produccion ,almacenameinto y distribucion en condiciones inadecuadas, y la reparación inoportuna de fugas y daños en las redes de acueducto. | F11: G_Daños_Activos_Físicos | G11: Infraestructura | H11: =+IF(F11='11 FORMULAS'!$B$4,'11 FORMULAS'!$C$4,IF(F11='11 FORMULAS'!$B$6,'11 FORMULAS'!$C$6,IF(F11='11 FORMULAS'!$B$8,'11 FORMULAS'!$C$8,IF(F11='11 FORMULAS'!$B$10,'11 FORMULAS'!$C$10,"")))) | I11: =+G11&H11 -> Infraestructura
A12: R7 | B12: Posibilidad de pérdida Económica y Reputacional | C12: por la atención inoportuna de las solicitudes de reparación de acueducto | D12: debido a la falta de seguimiento a las ordenes de trabajo generadas, falta de personal operativo para los grupos de trabajo y falta de asignación de recursos o de disponibilidad de materiales. | E12: =+CONCATENATE(B12," ",C12," ",D12) -> Posibilidad de pérdida Económica y Reputacional por la atención inoportuna de las solicitudes de reparación de acueducto debido a la falta de seguimiento a las ordenes de trabajo generadas, falta de personal operativo para los grupos de trabajo y falta de asignación de recursos o de disponibilidad de materiales. | F12: F_Usuarios_Productos_y_Prácticas_Organizacionales | G12: Procesos | H12: =+IF(F12='11 FORMULAS'!$B$4,'11 FORMULAS'!$C$4,IF(F12='11 FORMULAS'!$B$6,'11 FORMULAS'!$C$6,IF(F12='11 FORMULAS'!$B$8,'11 FORMULAS'!$C$8,IF(F12='11 FORMULAS'!$B$10,'11 FORMULAS'!$C$10,"")))) | I12: =+G12&H12 -> Procesos
A13: R10 | E13: =+CONCATENATE(B13," ",C13," ",D13) | H13: =+IF(F13='11 FORMULAS'!$B$4,'11 FORMULAS'!$C$4,IF(F13='11 FORMULAS'!$B$6,'11 FORMULAS'!$C$6,IF(F13='11 FORMULAS'!$B$8,'11 FORMULAS'!$C$8,IF(F13='11 FORMULAS'!$B$10,'11 FORMULAS'!$C$10,"")))) | I13: =+G13&H13
A14: R11 | E14: =+CONCATENATE(B14," ",C14," ",D14) | H14: =+IF(F14='11 FORMULAS'!$B$4,'11 FORMULAS'!$C$4,IF(F14='11 FORMULAS'!$B$6,'11 FORMULAS'!$C$6,IF(F14='11 FORMULAS'!$B$8,'11 FORMULAS'!$C$8,IF(F14='11 FORMULAS'!$B$10,'11 FORMULAS'!$C$10,"")))) | I14: =+G14&H14
A15: R12 | E15: =+CONCATENATE(B15," ",C15," ",D15) | H15: =+IF(F15='11 FORMULAS'!$B$4,'11 FORMULAS'!$C$4,IF(F15='11 FORMULAS'!$B$6,'11 FORMULAS'!$C$6,IF(F15='11 FORMULAS'!$B$8,'11 FORMULAS'!$C$8,IF(F15='11 FORMULAS'!$B$10,'11 FORMULAS'!$C$10,"")))) | I15: =+G15&H15
A16: R13 | E16: =+CONCATENATE(B16," ",C16," ",D16) | H16: =+IF(F16='11 FORMULAS'!$B$4,'11 FORMULAS'!$C$4,IF(F16='11 FORMULAS'!$B$6,'11 FORMULAS'!$C$6,IF(F16='11 FORMULAS'!$B$8,'11 FORMULAS'!$C$8,IF(F16='11 FORMULAS'!$B$10,'11 FORMULAS'!$C$10,"")))) | I16: =+G16&H16
A17: R14 | E17: =+CONCATENATE(B17," ",C17," ",D17) | H17: =+IF(F17='11 FORMULAS'!$B$4,'11 FORMULAS'!$C$4,IF(F17='11 FORMULAS'!$B$6,'11 FORMULAS'!$C$6,IF(F17='11 FORMULAS'!$B$8,'11 FORMULAS'!$C$8,IF(F17='11 FORMULAS'!$B$10,'11 FORMULAS'!$C$10,"")))) | I17: =+G17&H17
A18: R15 | E18: =+CONCATENATE(B18," ",C18," ",D18) | H18: =+IF(F18='11 FORMULAS'!$B$4,'11 FORMULAS'!$C$4,IF(F18='11 FORMULAS'!$B$6,'11 FORMULAS'!$C$6,IF(F18='11 FORMULAS'!$B$8,'11 FORMULAS'!$C$8,IF(F18='11 FORMULAS'!$B$10,'11 FORMULAS'!$C$10,"")))) | I18: =+G18&H18
A19: R16 | E19: =+CONCATENATE(B19," ",C19," ",D19) | H19: =+IF(F19='11 FORMULAS'!$B$4,'11 FORMULAS'!$C$4,IF(F19='11 FORMULAS'!$B$6,'11 FORMULAS'!$C$6,IF(F19='11 FORMULAS'!$B$8,'11 FORMULAS'!$C$8,IF(F19='11 FORMULAS'!$B$10,'11 FORMULAS'!$C$10,"")))) | I19: =+G19&H19
A20: R17 | E20: =+CONCATENATE(B20," ",C20," ",D20) | H20: =+IF(F20='11 FORMULAS'!$B$4,'11 FORMULAS'!$C$4,IF(F20='11 FORMULAS'!$B$6,'11 FORMULAS'!$C$6,IF(F20='11 FORMULAS'!$B$8,'11 FORMULAS'!$C$8,IF(F20='11 FORMULAS'!$B$10,'11 FORMULAS'!$C$10,"")))) | I20: =+G20&H20
A21: R18 | E21: =+CONCATENATE(B21," ",C21," ",D21) | H21: =+IF(F21='11 FORMULAS'!$B$4,'11 FORMULAS'!$C$4,IF(F21='11 FORMULAS'!$B$6,'11 FORMULAS'!$C$6,IF(F21='11 FORMULAS'!$B$8,'11 FORMULAS'!$C$8,IF(F21='11 FORMULAS'!$B$10,'11 FORMULAS'!$C$10,"")))) | I21: =+G21&H21
A22: R19 | E22: =+CONCATENATE(B22," ",C22," ",D22) | H22: =+IF(F22='11 FORMULAS'!$B$4,'11 FORMULAS'!$C$4,IF(F22='11 FORMULAS'!$B$6,'11 FORMULAS'!$C$6,IF(F22='11 FORMULAS'!$B$8,'11 FORMULAS'!$C$8,IF(F22='11 FORMULAS'!$B$10,'11 FORMULAS'!$C$10,"")))) | I22: =+G22&H22
A23: R20 | E23: =+CONCATENATE(B23," ",C23," ",D23) | H23: =+IF(F23='11 FORMULAS'!$B$4,'11 FORMULAS'!$C$4,IF(F23='11 FORMULAS'!$B$6,'11 FORMULAS'!$C$6,IF(F23='11 FORMULAS'!$B$8,'11 FORMULAS'!$C$8,IF(F23='11 FORMULAS'!$B$10,'11 FORMULAS'!$C$10,"")))) | I23: =+G23&H23

Sheet 3 PROBABIL E IMPACTO INHERENTE
A2: PROCESO: | B2: =+IF('2 CONTEXTO E IDENTIFICACIÓN'!$B$2="","",'2 CONTEXTO E IDENTIFICACIÓN'!$B$2) -> GESTIÓN DE SERVICIOS PUBLICOS | G2: =+'2 CONTEXTO E IDENTIFICACIÓN'!#REF! -> #REF! | H2: =+IF('2 CONTEXTO E IDENTIFICACIÓN'!#REF!="","",'2 CONTEXTO E IDENTIFICACIÓN'!#REF!) -> #REF! | I2: Al | J2: =+IF('2 CONTEXTO E IDENTIFICACIÓN'!#REF!="","",'2 CONTEXTO E IDENTIFICACIÓN'!#REF!) -> #REF!
B3: =+IF('2 CONTEXTO E IDENTIFICACIÓN'!$D$2="","",'2 CONTEXTO E IDENTIFICACIÓN'!$D$2)
G4: IMPACTO INHERENTE
C5: PROBABILIDAD INHERENTE | G5: Afectación Económica | J5: Reputacional | M5: Resultado | P5: PROBABILIDAD | V5: IMPACTO
A6: No. Riesgo | B6: Riesgo | C6: No. veces que realiza la actividad al año | D6: Frecuencia de la Actividad | E6: % Probabilidad | F6: Nivel Probabilidad | G6: Afectación Económica | H6: % | I6: Nivel | J6: Reputacional | K6: % | L6: Nivel | M6: Porcentaje de Impacto | N6: Nivel de Impacto | P6: Nivel | Q6: Frecuencia de la Actividad | R6: Mínimo | S6: Máximo | T6: Probabilidad | V6: Nivel | W6: % Impacto | X6: Afectación_Económica | Y6: Reputacional
A7: ='2 CONTEXTO E IDENTIFICACIÓN'!A6 -> R1 | B7: =+'2 CONTEXTO E IDENTIFICACIÓN'!E6 -> Posibilidad de pérdida Económica y Reputacional por contaminación ambiental a causa de las descargas de aguas residuales debido a la falta de seguimiento y control a los vertimientos realizados por usuarios diferentes al residencial que hacen uso del alcantarillado público y a la infraestructura de las redes de alcantarillado en condiciones inadecuadas. | C7: 20 | D7: =+IF(C7="","",IF(C7<=$S$7,$Q$7,IF(C7<=$S$8,$Q$8,IF(C7<=$S$9,$Q$9,IF(C7<=$S$10,$Q$10,IF(C7>=$R$11,$Q$11,"")))))) -> La actividad que conlleva el riesgo se ejecuta de 3 a 24 veces por año | E7: =+IF(D7="","",IF(D7=$Q$7,$T$7,IF(D7=$Q$8,$T$8,IF(D7=$Q$9,$T$9,IF(D7=$Q$10,$T$10,IF(D7=$Q$11,$T$11)))))) -> 0.4 | F7: =+IF(D7="","",IF(D7=$Q$7,$P$7,IF(D7=$Q$8,$P$8,IF(D7=$Q$9,$P$9,IF(D7=$Q$10,$P$10,IF(D7=$Q$11,$P$11)))))) -> Baja | G7: Menor a 10 SMLMV | H7: =+IF(G7="","",IF(G7="N/A","",IF(OR(G7=$X$7,G7=$Y$7),$W$7,IF(OR(G7=$X$8,G7=$Y$8),$W$8,IF(OR(G7=$X$9,G7=$Y$9),$W$9,IF(OR(G7=$X$10,G7=$Y$10),$W$10,IF(OR(G7=$X$11,G7=$Y$11),$W$11))))))) -> 0.2 | I7: =+IF(G7="","",IF(G7="N/A","",IF(OR(G7=$X$7,G7=$Y$7),$V$7,IF(OR(G7=$X$8,G7=$Y$8),$V$8,IF(OR(G7=$X$9,G7=$Y$9),$V$9,IF(OR(G7=$X$10,G7=$Y$10),$V$10,IF(OR(G7=$X$11,G7=$Y$11),$V$11))))))) -> Leve | J7: El riesgo afecta la imagen de la entidad con efecto publicitario sostenido a nivel de sector administrativo, nivel departamental o municipal. | K7: =+IF(J7="","",IF(J7="N/A","",IF(OR(J7=$X$7,J7=$Y$7),$W$7,IF(OR(J7=$X$8,J7=$Y$8),$W$8,IF(OR(J7=$X$9,J7=$Y$9),$W$9,IF(OR(J7=$X$10,J7=$Y$10),$W$10,IF(OR(J7=$X$11,J7=$Y$11),$W$11))))))) -> 0.8 | L7: =+IF(J7="","",IF(J7="N/A","",IF(OR(J7=$X$7,J7=$Y$7),$V$7,IF(OR(J7=$X$8,J7=$Y$8),$V$8,IF(OR(J7=$X$9,J7=$Y$9),$V$9,IF(OR(J7=$X$10,J7=$Y$10),$V$10,IF(OR(J7=$X$11,J7=$Y$11),$V$11))))))) -> Mayor | M7: =+IF(H7="",K7,IF(K7="",H7,IF(H7>K7,H7,K7))) -> 0.8 | N7: =+IF(M7="","",IF(M7=$W$7,$V$7,IF(M7=$W$8,$V$8,IF(M7=$W$9,$V$9,IF(M7=$W$10,$V$10,IF(M7=$W$11,$V$11)))))) -> Mayor | P7: Muy Baja | Q7: La actividad que conlleva el riesgo se ejecuta como máximos 2 veces por año | R7: 0 | S7: 2 | T7: 0.2 | V7: Leve | W7: 0.2 | X7: Menor a 10 SMLMV | Y7: El riesgo afecta la imagen de algún área de la organización.
F8: =+IF(D8="","",IF(D8=$Q$7,$P$7,IF(D8=$Q$8,$P$8,IF(D8=$Q$9,$P$9,IF(D8=$Q$10,$P$10,IF(D8=$Q$11,$P$11)))))) | H8: =+IF(G8="","",IF(G8="N/A","",IF(OR(G8=$X$7,G8=$Y$7),$W$7,IF(OR(G8=$X$8,G8=$Y$8),$W$8,IF(OR(G8=$X$9,G8=$Y$9),$W$9,IF(OR(G8=$X$10,G8=$Y$10),$W$10,IF(OR(G8=$X$11,G8=$Y$11),$W$11))))))) | I8: =+IF(G8="","",IF(G8="N/A","",IF(OR(G8=$X$7,G8=$Y$7),$V$7,IF(OR(G8=$X$8,G8=$Y$8),$V$8,IF(OR(G8=$X$9,G8=$Y$9),$V$9,IF(OR(G8=$X$10,G8=$Y$10),$V$10,IF(OR(G8=$X$11,G8=$Y$11),$V$11))))))) | K8: =+IF(J8="","",IF(J8="N/A","",IF(OR(J8=$X$7,J8=$Y$7),$W$7,IF(OR(J8=$X$8,J8=$Y$8),$W$8,IF(OR(J8=$X$9,J8=$Y$9),$W$9,IF(OR(J8=$X$10,J8=$Y$10),$W$10,IF(OR(J8=$X$11,J8=$Y$11),$W$11))))))) | L8: =+IF(J8="","",IF(J8="N/A","",IF(OR(J8=$X$7,J8=$Y$7),$V$7,IF(OR(J8=$X$8,J8=$Y$8),$V$8,IF(OR(J8=$X$9,J8=$Y$9),$V$9,IF(OR(J8=$X$10,J8=$Y$10),$V$10,IF(OR(J8=$X$11,J8=$Y$11),$V$11))))))) | M8: =+IF(H8="",K8,IF(K8="",H8,IF(H8>K8,H8,K8))) | N8: =+IF(M8="","",IF(M8=$W$7,$V$7,IF(M8=$W$8,$V$8,IF(M8=$W$9,$V$9,IF(M8=$W$10,$V$10,IF(M8=$W$11,$V$11)))))) | P8: Baja | Q8: La actividad que conlleva el riesgo se ejecuta de 3 a 24 veces por año | R8: 3 | S8: 24 | T8: 0.4 | V8: Menor | W8: 0.4 | X8: Entre 10 y 50 SMLMV | Y8: El riesgo afecta la imagen de la entidad internamente, de conocimiento general nivel interno, de junta directiva y accionistas y/o de proveedores.
A9: ='2 CONTEXTO E IDENTIFICACIÓN'!A7 -> R2 | B9: =+'2 CONTEXTO E IDENTIFICACIÓN'!E7 -> Posibilidad de pérdida Económica y Reputacional por la atención inoportuna de las solicitudes de reparación de alcantarillado debido a la falta de seguimiento a las ordenes de trabajo generadas, falta de personal operativo para los grupos de trabajo y falta de asignación de recursos o de disponibilidad de materiales. | C9: 365 | D9: =+IF(C9="","",IF(C9<=$S$7,$Q$7,IF(C9<=$S$8,$Q$8,IF(C9<=$S$9,$Q$9,IF(C9<=$S$10,$Q$10,IF(C9>=$R$11,$Q$11,"")))))) -> La actividad que conlleva el riesgo se ejecuta de 24 a 500 veces por año | E9: =+IF(D9="","",IF(D9=$Q$7,$T$7,IF(D9=$Q$8,$T$8,IF(D9=$Q$9,$T$9,IF(D9=$Q$10,$T$10,IF(D9=$Q$11,$T$11)))))) -> 0.6 | F9: =+IF(D9="","",IF(D9=$Q$7,$P$7,IF(D9=$Q$8,$P$8,IF(D9=$Q$9,$P$9,IF(D9=$Q$10,$P$10,IF(D9=$Q$11,$P$11)))))) -> Media | G9: Entre 100 y 500 SMLMV | H9: =+IF(G9="","",IF(G9="N/A","",IF(OR(G9=$X$7,G9=$Y$7),$W$7,IF(OR(G9=$X$8,G9=$Y$8),$W$8,IF(OR(G9=$X$9,G9=$Y$9),$W$9,IF(OR(G9=$X$10,G9=$Y$10),$W$10,IF(OR(G9=$X$11,G9=$Y$11),$W$11))))))) -> 0.8 | I9: =+IF(G9="","",IF(G9="N/A","",IF(OR(G9=$X$7,G9=$Y$7),$V$7,IF(OR(G9=$X$8,G9=$Y$8),$V$8,IF(OR(G9=$X$9,G9=$Y$9),$V$9,IF(OR(G9=$X$10,G9=$Y$10),$V$10,IF(OR(G9=$X$11,G9=$Y$11),$V$11))))))) -> Mayor | J9: El riesgo afecta la imagen de la entidad con efecto publicitario sostenido a nivel de sector administrativo, nivel departamental o municipal. | K9: =+IF(J9="","",IF(J9="N/A","",IF(OR(J9=$X$7,J9=$Y$7),$W$7,IF(OR(J9=$X$8,J9=$Y$8),$W$8,IF(OR(J9=$X$9,J9=$Y$9),$W$9,IF(OR(J9=$X$10,J9=$Y$10),$W$10,IF(OR(J9=$X$11,J9=$Y$11),$W$11))))))) -> 0.8 | L9: =+IF(J9="","",IF(J9="N/A","",IF(OR(J9=$X$7,J9=$Y$7),$V$7,IF(OR(J9=$X$8,J9=$Y$8),$V$8,IF(OR(J9=$X$9,J9=$Y$9),$V$9,IF(OR(J9=$X$10,J9=$Y$10),$V$10,IF(OR(J9=$X$11,J9=$Y$11),$V$11))))))) -> Mayor | M9: =+IF(H9="",K9,IF(K9="",H9,IF(H9>K9,H9,K9))) -> 0.8 | N9: =+IF(M9="","",IF(M9=$W$7,$V$7,IF(M9=$W$8,$V$8,IF(M9=$W$9,$V$9,IF(M9=$W$10,$V$10,IF(M9=$W$11,$V$11)))))) -> Mayor | P9: Media | Q9: La actividad que conlleva el riesgo se ejecuta de 24 a 500 veces por año | R9: 25 | S9: 500 | T9: 0.6 | V9: Moderado | W9: 0.6 | X9: Entre 50 y 100 SMLMV | Y9: El riesgo afecta la imagen de la entidad con algunos usuarios de relevancia frente al logro de los objetivos.
A10: ='2 CONTEXTO E IDENTIFICACIÓN'!A8 -> R3 | B10: =+'2 CONTEXTO E IDENTIFICACIÓN'!E8 -> Posibilidad de pérdida Económica y Reputacional por la falta de atención a las afectaciones generadas por actividades de alcantarillado debido a que la parametrización del software permite el cierre de ordenes de trabajo con actividades pendientes. | C10: 12 | D10: =+IF(C10="","",IF(C10<=$S$7,$Q$7,IF(C10<=$S$8,$Q$8,IF(C10<=$S$9,$Q$9,IF(C10<=$S$10,$Q$10,IF(C10>=$R$11,$Q$11,"")))))) -> La actividad que conlleva el riesgo se ejecuta de 3 a 24 veces por año | E10: =+IF(D10="","",IF(D10=$Q$7,$T$7,IF(D10=$Q$8,$T$8,IF(D10=$Q$9,$T$9,IF(D10=$Q$10,$T$10,IF(D10=$Q$11,$T$11)))))) -> 0.4 | F10: =+IF(D10="","",IF(D10=$Q$7,$P$7,IF(D10=$Q$8,$P$8,IF(D10=$Q$9,$P$9,IF(D10=$Q$10,$P$10,IF(D10=$Q$11,$P$11)))))) -> Baja | G10: Entre 100 y 500 SMLMV | H10: =+IF(G10="","",IF(G10="N/A","",IF(OR(G10=$X$7,G10=$Y$7),$W$7,IF(OR(G10=$X$8,G10=$Y$8),$W$8,IF(OR(G10=$X$9,G10=$Y$9),$W$9,IF(OR(G10=$X$10,G10=$Y$10),$W$10,IF(OR(G10=$X$11,G10=$Y$11),$W$11))))))) -> 0.8 | I10: =+IF(G10="","",IF(G10="N/A","",IF(OR(G10=$X$7,G10=$Y$7),$V$7,IF(OR(G10=$X$8,G10=$Y$8),$V$8,IF(OR(G10=$X$9,G10=$Y$9),$V$9,IF(OR(G10=$X$10,G10=$Y$10),$V$10,IF(OR(G10=$X$11,G10=$Y$11),$V$11))))))) -> Mayor | J10: El riesgo afecta la imagen de la entidad con algunos usuarios de relevancia frente al logro de los objetivos. | K10: =+IF(J10="","",IF(J10="N/A","",IF(OR(J10=$X$7,J10=$Y$7),$W$7,IF(OR(J10=$X$8,J10=$Y$8),$W$8,IF(OR(J10=$X$9,J10=$Y$9),$W$9,IF(OR(J10=$X$10,J10=$Y$10),$W$10,IF(OR(J10=$X$11,J10=$Y$11),$W$11))))))) -> 0.6 | L10: =+IF(J10="","",IF(J10="N/A","",IF(OR(J10=$X$7,J10=$Y$7),$V$7,IF(OR(J10=$X$8,J10=$Y$8),$V$8,IF(OR(J10=$X$9,J10=$Y$9),$V$9,IF(OR(J10=$X$10,J10=$Y$10),$V$10,IF(OR(J10=$X$11,J10=$Y$11),$V$11))))))) -> Moderado | M10: =+IF(H10="",K10,IF(K10="",H10,IF(H10>K10,H10,K10))) -> 0.8 | N10: =+IF(M10="","",IF(M10=$W$7,$V$7,IF(M10=$W$8,$V$8,IF(M10=$W$9,$V$9,IF(M10=$W$10,$V$10,IF(M10=$W$11,$V$11)))))) -> Mayor | P10: Alta | Q10: La actividad que conlleva el riesgo se ejecuta mínimo 500 veces al año y máximo 5.000 veces por año | R10: 5001 | S10: 5000 | T10: 0.8 | V10: Mayor | W10: 0.8 | X10: Entre 100 y 500 SMLMV | Y10: El riesgo afecta la imagen de la entidad con efecto publicitario sostenido a nivel de sector administrativo, nivel departamental o municipal.
A11: ='2 CONTEXTO E IDENTIFICACIÓN'!A9 -> R4 | B11: =+'2 CONTEXTO E IDENTIFICACIÓN'!E9 -> Posibilidad de pérdida Económica y Reputacional Por la captacion del caudal de las plantas de tratamiento de los municipios por encima del lt/s consecionados Debido a la falta de medicion en el sistema de las bocatomas | C11: 365 | D11: =+IF(C11="","",IF(C11<=$S$7,$Q$7,IF(C11<=$S$8,$Q$8,IF(C11<=$S$9,$Q$9,IF(C11<=$S$10,$Q$10,IF(C11>=$R$11,$Q$11,"")))))) -> La actividad que conlleva el riesgo se ejecuta de 24 a 500 veces por año | E11: =+IF(D11="","",IF(D11=$Q$7,$T$7,IF(D11=$Q$8,$T$8,IF(D11=$Q$9,$T$9,IF(D11=$Q$10,$T$10,IF(D11=$Q$11,$T$11)))))) -> 0.6 | F11: =+IF(D11="","",IF(D11=$Q$7,$P$7,IF(D11=$Q$8,$P$8,IF(D11=$Q$9,$P$9,IF(D11=$Q$10,$P$10,IF(D11=$Q$11,$P$11)))))) -> Media | G11: Entre 100 y 500 SMLMV | H11: =+IF(G11="","",IF(G11="N/A","",IF(OR(G11=$X$7,G11=$Y$7),$W$7,IF(OR(G11=$X$8,G11=$Y$8),$W$8,IF(OR(G11=$X$9,G11=$Y$9),$W$9,IF(OR(G11=$X$10,G11=$Y$10),$W$10,IF(OR(G11=$X$11,G11=$Y$11),$W$11))))))) -> 0.8 | I11: =+IF(G11="","",IF(G11="N/A","",IF(OR(G11=$X$7,G11=$Y$7),$V$7,IF(OR(G11=$X$8,G11=$Y$8),$V$8,IF(OR(G11=$X$9,G11=$Y$9),$V$9,IF(OR(G11=$X$10,G11=$Y$10),$V$10,IF(OR(G11=$X$11,G11=$Y$11),$V$11))))))) -> Mayor | J11: El riesgo afecta la imagen de la entidad con efecto publicitario sostenido a nivel de sector administrativo, nivel departamental o municipal. | K11: =+IF(J11="","",IF(J11="N/A","",IF(OR(J11=$X$7,J11=$Y$7),$W$7,IF(OR(J11=$X$8,J11=$Y$8),$W$8,IF(OR(J11=$X$9,J11=$Y$9),$W$9,IF(OR(J11=$X$10,J11=$Y$10),$W$10,IF(OR(J11=$X$11,J11=$Y$11),$W$11))))))) -> 0.8 | L11: =+IF(J11="","",IF(J11="N/A","",IF(OR(J11=$X$7,J11=$Y$7),$V$7,IF(OR(J11=$X$8,J11=$Y$8),$V$8,IF(OR(J11=$X$9,J11=$Y$9),$V$9,IF(OR(J11=$X$10,J11=$Y$10),$V$10,IF(OR(J11=$X$11,J11=$Y$11),$V$11))))))) -> Mayor | M11: =+IF(H11="",K11,IF(K11="",H11,IF(H11>K11,H11,K11))) -> 0.8 | N11: =+IF(M11="","",IF(M11=$W$7,$V$7,IF(M11=$W$8,$V$8,IF(M11=$W$9,$V$9,IF(M11=$W$10,$V$10,IF(M11=$W$11,$V$11)))))) -> Mayor | P11: Muy Alta | Q11: La actividad que conlleva el riesgo se ejecuta más de 5.000 veces por año | R11: 5001 | T11: 1 | V11: Catastrófico | W11: 1 | X11: Mayor a 500 SMLMV | Y11: El riesgo afecta la imagen de la entidad a nivel nacional, con efecto publicitario sostenido a nivel país
A12: ='2 CONTEXTO E IDENTIFICACIÓN'!A10 -> R5 | B12: =+'2 CONTEXTO E IDENTIFICACIÓN'!E10 -> Posibilidad de pérdida Económica y Reputacional por condiciones de calidad de agua cruda que no permite tratabilidad y afectaciones de tipo climático debido a crecientes que generan arrastre de solidos y elevacion en los niveles de turbierdad en agua cruda | C12: 150 | D12: =+IF(C12="","",IF(C12<=$S$7,$Q$7,IF(C12<=$S$8,$Q$8,IF(C12<=$S$9,$Q$9,IF(C12<=$S$10,$Q$10,IF(C12>=$R$11,$Q$11,"")))))) -> La actividad que conlleva el riesgo se ejecuta de 24 a 500 veces por año | E12: =+IF(D12="","",IF(D12=$Q$7,$T$7,IF(D12=$Q$8,$T$8,IF(D12=$Q$9,$T$9,IF(D12=$Q$10,$T$10,IF(D12=$Q$11,$T$11)))))) -> 0.6 | F12: =+IF(D12="","",IF(D12=$Q$7,$P$7,IF(D12=$Q$8,$P$8,IF(D12=$Q$9,$P$9,IF(D12=$Q$10,$P$10,IF(D12=$Q$11,$P$11)))))) -> Media | G12: Entre 10 y 50 SMLMV | H12: =+IF(G12="","",IF(G12="N/A","",IF(OR(G12=$X$7,G12=$Y$7),$W$7,IF(OR(G12=$X$8,G12=$Y$8),$W$8,IF(OR(G12=$X$9,G12=$Y$9),$W$9,IF(OR(G12=$X$10,G12=$Y$10),$W$10,IF(OR(G12=$X$11,G12=$Y$11),$W$11))))))) -> 0.4 | I12: =+IF(G12="","",IF(G12="N/A","",IF(OR(G12=$X$7,G12=$Y$7),$V$7,IF(OR(G12=$X$8,G12=$Y$8),$V$8,IF(OR(G12=$X$9,G12=$Y$9),$V$9,IF(OR(G12=$X$10,G12=$Y$10),$V$10,IF(OR(G12=$X$11,G12=$Y$11),$V$11))))))) -> Menor | J12: El riesgo afecta la imagen de la entidad con efecto publicitario sostenido a nivel de sector administrativo, nivel departamental o municipal. | K12: =+IF(J12="","",IF(J12="N/A","",IF(OR(J12=$X$7,J12=$Y$7),$W$7,IF(OR(J12=$X$8,J12=$Y$8),$W$8,IF(OR(J12=$X$9,J12=$Y$9),$W$9,IF(OR(J12=$X$10,J12=$Y$10),$W$10,IF(OR(J12=$X$11,J12=$Y$11),$W$11))))))) -> 0.8 | L12: =+IF(J12="","",IF(J12="N/A","",IF(OR(J12=$X$7,J12=$Y$7),$V$7,IF(OR(J12=$X$8,J12=$Y$8),$V$8,IF(OR(J12=$X$9,J12=$Y$9),$V$9,IF(OR(J12=$X$10,J12=$Y$10),$V$10,IF(OR(J12=$X$11,J12=$Y$11),$V$11))))))) -> Mayor | M12: =+IF(H12="",K12,IF(K12="",H12,IF(H12>K12,H12,K12))) -> 0.8 | N12: =+IF(M12="","",IF(M12=$W$7,$V$7,IF(M12=$W$8,$V$8,IF(M12=$W$9,$V$9,IF(M12=$W$10,$V$10,IF(M12=$W$11,$V$11)))))) -> Mayor | X12: N/A | Y12: N/A
A13: ='2 CONTEXTO E IDENTIFICACIÓN'!A11 -> R6 | B13: =+'2 CONTEXTO E IDENTIFICACIÓN'!E11 -> Posibilidad de pérdida Económica y Reputacional por el aumento en el índice de agua no contabilizada por pérdidas técnicas debido a la infraestructura de produccion ,almacenameinto y distribucion en condiciones inadecuadas, y la reparación inoportuna de fugas y daños en las redes de acueducto. | C13: 365 | D13: =+IF(C13="","",IF(C13<=$S$7,$Q$7,IF(C13<=$S$8,$Q$8,IF(C13<=$S$9,$Q$9,IF(C13<=$S$10,$Q$10,IF(C13>=$R$11,$Q$11,"")))))) -> La actividad que conlleva el riesgo se ejecuta de 24 a 500 veces por año | E13: =+IF(D13="","",IF(D13=$Q$7,$T$7,IF(D13=$Q$8,$T$8,IF(D13=$Q$9,$T$9,IF(D13=$Q$10,$T$10,IF(D13=$Q$11,$T$11)))))) -> 0.6 | F13: =+IF(D13="","",IF(D13=$Q$7,$P$7,IF(D13=$Q$8,$P$8,IF(D13=$Q$9,$P$9,IF(D13=$Q$10,$P$10,IF(D13=$Q$11,$P$11)))))) -> Media | G13: Entre 50 y 100 SMLMV | H13: =+IF(G13="","",IF(G13="N/A","",IF(OR(G13=$X$7,G13=$Y$7),$W$7,IF(OR(G13=$X$8,G13=$Y$8),$W$8,IF(OR(G13=$X$9,G13=$Y$9),$W$9,IF(OR(G13=$X$10,G13=$Y$10),$W$10,IF(OR(G13=$X$11,G13=$Y$11),$W$11))))))) -> 0.6 | I13: =+IF(G13="","",IF(G13="N/A","",IF(OR(G13=$X$7,G13=$Y$7),$V$7,IF(OR(G13=$X$8,G13=$Y$8),$V$8,IF(OR(G13=$X$9,G13=$Y$9),$V$9,IF(OR(G13=$X$10,G13=$Y$10),$V$10,IF(OR(G13=$X$11,G13=$Y$11),$V$11))))))) -> Moderado | J13: El riesgo afecta la imagen de la entidad con efecto publicitario sostenido a nivel de sector administrativo, nivel departamental o municipal. | K13: =+IF(J13="","",IF(J13="N/A","",IF(OR(J13=$X$7,J13=$Y$7),$W$7,IF(OR(J13=$X$8,J13=$Y$8),$W$8,IF(OR(J13=$X$9,J13=$Y$9),$W$9,IF(OR(J13=$X$10,J13=$Y$10),$W$10,IF(OR(J13=$X$11,J13=$Y$11),$W$11))))))) -> 0.8 | L13: =+IF(J13="","",IF(J13="N/A","",IF(OR(J13=$X$7,J13=$Y$7),$V$7,IF(OR(J13=$X$8,J13=$Y$8),$V$8,IF(OR(J13=$X$9,J13=$Y$9),$V$9,IF(OR(J13=$X$10,J13=$Y$10),$V$10,IF(OR(J13=$X$11,J13=$Y$11),$V$11))))))) -> Mayor | M13: =+IF(H13="",K13,IF(K13="",H13,IF(H13>K13,H13,K13))) -> 0.8 | N13: =+IF(M13="","",IF(M13=$W$7,$V$7,IF(M13=$W$8,$V$8,IF(M13=$W$9,$V$9,IF(M13=$W$10,$V$10,IF(M13=$W$11,$V$11)))))) -> Mayor
A14: ='2 CONTEXTO E IDENTIFICACIÓN'!A12 -> R7 | B14: =+'2 CONTEXTO E IDENTIFICACIÓN'!E12 -> Posibilidad de pérdida Económica y Reputacional por la atención inoportuna de las solicitudes de reparación de acueducto debido a la falta de seguimiento a las ordenes de trabajo generadas, falta de personal operativo para los grupos de trabajo y falta de asignación de recursos o de disponibilidad de materiales. | C14: 365 | D14: =+IF(C14="","",IF(C14<=$S$7,$Q$7,IF(C14<=$S$8,$Q$8,IF(C14<=$S$9,$Q$9,IF(C14<=$S$10,$Q$10,IF(C14>=$R$11,$Q$11,"")))))) -> La actividad que conlleva el riesgo se ejecuta de 24 a 500 veces por año | E14: =+IF(D14="","",IF(D14=$Q$7,$T$7,IF(D14=$Q$8,$T$8,IF(D14=$Q$9,$T$9,IF(D14=$Q$10,$T$10,IF(D14=$Q$11,$T$11)))))) -> 0.6 | F14: =+IF(D14="","",IF(D14=$Q$7,$P$7,IF(D14=$Q$8,$P$8,IF(D14=$Q$9,$P$9,IF(D14=$Q$10,$P$10,IF(D14=$Q$11,$P$11)))))) -> Media | G14: Entre 10 y 50 SMLMV | H14: =+IF(G14="","",IF(G14="N/A","",IF(OR(G14=$X$7,G14=$Y$7),$W$7,IF(OR(G14=$X$8,G14=$Y$8),$W$8,IF(OR(G14=$X$9,G14=$Y$9),$W$9,IF(OR(G14=$X$10,G14=$Y$10),$W$10,IF(OR(G14=$X$11,G14=$Y$11),$W$11))))))) -> 0.4 | I14: =+IF(G14="","",IF(G14="N/A","",IF(OR(G14=$X$7,G14=$Y$7),$V$7,IF(OR(G14=$X$8,G14=$Y$8),$V$8,IF(OR(G14=$X$9,G14=$Y$9),$V$9,IF(OR(G14=$X$10,G14=$Y$10),$V$10,IF(OR(G14=$X$11,G14=$Y$11),$V$11))))))) -> Menor | J14: El riesgo afecta la imagen de la entidad con algunos usuarios de relevancia frente al logro de los objetivos. | K14: =+IF(J14="","",IF(J14="N/A","",IF(OR(J14=$X$7,J14=$Y$7),$W$7,IF(OR(J14=$X$8,J14=$Y$8),$W$8,IF(OR(J14=$X$9,J14=$Y$9),$W$9,IF(OR(J14=$X$10,J14=$Y$10),$W$10,IF(OR(J14=$X$11,J14=$Y$11),$W$11))))))) -> 0.6 | L14: =+IF(J14="","",IF(J14="N/A","",IF(OR(J14=$X$7,J14=$Y$7),$V$7,IF(OR(J14=$X$8,J14=$Y$8),$V$8,IF(OR(J14=$X$9,J14=$Y$9),$V$9,IF(OR(J14=$X$10,J14=$Y$10),$V$10,IF(OR(J14=$X$11,J14=$Y$11),$V$11))))))) -> Moderado | M14: =+IF(H14="",K14,IF(K14="",H14,IF(H14>K14,H14,K14))) -> 0.6 | N14: =+IF(M14="","",IF(M14=$W$7,$V$7,IF(M14=$W$8,$V$8,IF(M14=$W$9,$V$9,IF(M14=$W$10,$V$10,IF(M14=$W$11,$V$11)))))) -> Moderado
A15: ='2 CONTEXTO E IDENTIFICACIÓN'!A13 -> R10 | B15: =+'2 CONTEXTO E IDENTIFICACIÓN'!E13 | D15: =+IF(C15="","",IF(C15<=$S$7,$Q$7,IF(C15<=$S$8,$Q$8,IF(C15<=$S$9,$Q$9,IF(C15<=$S$10,$Q$10,IF(C15>=$R$11,$Q$11,"")))))) | E15: =+IF(D15="","",IF(D15=$Q$7,$T$7,IF(D15=$Q$8,$T$8,IF(D15=$Q$9,$T$9,IF(D15=$Q$10,$T$10,IF(D15=$Q$11,$T$11)))))) | F15: =+IF(D15="","",IF(D15=$Q$7,$P$7,IF(D15=$Q$8,$P$8,IF(D15=$Q$9,$P$9,IF(D15=$Q$10,$P$10,IF(D15=$Q$11,$P$11)))))) | H15: =+IF(G15="","",IF(G15="N/A","",IF(OR(G15=$X$7,G15=$Y$7),$W$7,IF(OR(G15=$X$8,G15=$Y$8),$W$8,IF(OR(G15=$X$9,G15=$Y$9),$W$9,IF(OR(G15=$X$10,G15=$Y$10),$W$10,IF(OR(G15=$X$11,G15=$Y$11),$W$11))))))) | I15: =+IF(G15="","",IF(G15="N/A","",IF(OR(G15=$X$7,G15=$Y$7),$V$7,IF(OR(G15=$X$8,G15=$Y$8),$V$8,IF(OR(G15=$X$9,G15=$Y$9),$V$9,IF(OR(G15=$X$10,G15=$Y$10),$V$10,IF(OR(G15=$X$11,G15=$Y$11),$V$11))))))) | K15: =+IF(J15="","",IF(J15="N/A","",IF(OR(J15=$X$7,J15=$Y$7),$W$7,IF(OR(J15=$X$8,J15=$Y$8),$W$8,IF(OR(J15=$X$9,J15=$Y$9),$W$9,IF(OR(J15=$X$10,J15=$Y$10),$W$10,IF(OR(J15=$X$11,J15=$Y$11),$W$11))))))) | L15: =+IF(J15="","",IF(J15="N/A","",IF(OR(J15=$X$7,J15=$Y$7),$V$7,IF(OR(J15=$X$8,J15=$Y$8),$V$8,IF(OR(J15=$X$9,J15=$Y$9),$V$9,IF(OR(J15=$X$10,J15=$Y$10),$V$10,IF(OR(J15=$X$11,J15=$Y$11),$V$11))))))) | M15: =+IF(H15="",K15,IF(K15="",H15,IF(H15>K15,H15,K15))) | N15: =+IF(M15="","",IF(M15=$W$7,$V$7,IF(M15=$W$8,$V$8,IF(M15=$W$9,$V$9,IF(M15=$W$10,$V$10,IF(M15=$W$11,$V$11))))))
A16: ='2 CONTEXTO E IDENTIFICACIÓN'!A14 -> R11 | B16: =+'2 CONTEXTO E IDENTIFICACIÓN'!E14 | D16: =+IF(C16="","",IF(C16<=$S$7,$Q$7,IF(C16<=$S$8,$Q$8,IF(C16<=$S$9,$Q$9,IF(C16<=$S$10,$Q$10,IF(C16>=$R$11,$Q$11,"")))))) | E16: =+IF(D16="","",IF(D16=$Q$7,$T$7,IF(D16=$Q$8,$T$8,IF(D16=$Q$9,$T$9,IF(D16=$Q$10,$T$10,IF(D16=$Q$11,$T$11)))))) | F16: =+IF(D16="","",IF(D16=$Q$7,$P$7,IF(D16=$Q$8,$P$8,IF(D16=$Q$9,$P$9,IF(D16=$Q$10,$P$10,IF(D16=$Q$11,$P$11)))))) | H16: =+IF(G16="","",IF(G16="N/A","",IF(OR(G16=$X$7,G16=$Y$7),$W$7,IF(OR(G16=$X$8,G16=$Y$8),$W$8,IF(OR(G16=$X$9,G16=$Y$9),$W$9,IF(OR(G16=$X$10,G16=$Y$10),$W$10,IF(OR(G16=$X$11,G16=$Y$11),$W$11))))))) | I16: =+IF(G16="","",IF(G16="N/A","",IF(OR(G16=$X$7,G16=$Y$7),$V$7,IF(OR(G16=$X$8,G16=$Y$8),$V$8,IF(OR(G16=$X$9,G16=$Y$9),$V$9,IF(OR(G16=$X$10,G16=$Y$10),$V$10,IF(OR(G16=$X$11,G16=$Y$11),$V$11))))))) | K16: =+IF(J16="","",IF(J16="N/A","",IF(OR(J16=$X$7,J16=$Y$7),$W$7,IF(OR(J16=$X$8,J16=$Y$8),$W$8,IF(OR(J16=$X$9,J16=$Y$9),$W$9,IF(OR(J16=$X$10,J16=$Y$10),$W$10,IF(OR(J16=$X$11,J16=$Y$11),$W$11))))))) | L16: =+IF(J16="","",IF(J16="N/A","",IF(OR(J16=$X$7,J16=$Y$7),$V$7,IF(OR(J16=$X$8,J16=$Y$8),$V$8,IF(OR(J16=$X$9,J16=$Y$9),$V$9,IF(OR(J16=$X$10,J16=$Y$10),$V$10,IF(OR(J16=$X$11,J16=$Y$11),$V$11))))))) | M16: =+IF(H16="",K16,IF(K16="",H16,IF(H16>K16,H16,K16))) | N16: =+IF(M16="","",IF(M16=$W$7,$V$7,IF(M16=$W$8,$V$8,IF(M16=$W$9,$V$9,IF(M16=$W$10,$V$10,IF(M16=$W$11,$V$11))))))
A17: ='2 CONTEXTO E IDENTIFICACIÓN'!A15 -> R12 | B17: =+'2 CONTEXTO E IDENTIFICACIÓN'!E15 | D17: =+IF(C17="","",IF(C17<=$S$7,$Q$7,IF(C17<=$S$8,$Q$8,IF(C17<=$S$9,$Q$9,IF(C17<=$S$10,$Q$10,IF(C17>=$R$11,$Q$11,"")))))) | E17: =+IF(D17="","",IF(D17=$Q$7,$T$7,IF(D17=$Q$8,$T$8,IF(D17=$Q$9,$T$9,IF(D17=$Q$10,$T$10,IF(D17=$Q$11,$T$11)))))) | F17: =+IF(D17="","",IF(D17=$Q$7,$P$7,IF(D17=$Q$8,$P$8,IF(D17=$Q$9,$P$9,IF(D17=$Q$10,$P$10,IF(D17=$Q$11,$P$11)))))) | H17: =+IF(G17="","",IF(G17="N/A","",IF(OR(G17=$X$7,G17=$Y$7),$W$7,IF(OR(G17=$X$8,G17=$Y$8),$W$8,IF(OR(G17=$X$9,G17=$Y$9),$W$9,IF(OR(G17=$X$10,G17=$Y$10),$W$10,IF(OR(G17=$X$11,G17=$Y$11),$W$11))))))) | I17: =+IF(G17="","",IF(G17="N/A","",IF(OR(G17=$X$7,G17=$Y$7),$V$7,IF(OR(G17=$X$8,G17=$Y$8),$V$8,IF(OR(G17=$X$9,G17=$Y$9),$V$9,IF(OR(G17=$X$10,G17=$Y$10),$V$10,IF(OR(G17=$X$11,G17=$Y$11),$V$11))))))) | K17: =+IF(J17="","",IF(J17="N/A","",IF(OR(J17=$X$7,J17=$Y$7),$W$7,IF(OR(J17=$X$8,J17=$Y$8),$W$8,IF(OR(J17=$X$9,J17=$Y$9),$W$9,IF(OR(J17=$X$10,J17=$Y$10),$W$10,IF(OR(J17=$X$11,J17=$Y$11),$W$11))))))) | L17: =+IF(J17="","",IF(J17="N/A","",IF(OR(J17=$X$7,J17=$Y$7),$V$7,IF(OR(J17=$X$8,J17=$Y$8),$V$8,IF(OR(J17=$X$9,J17=$Y$9),$V$9,IF(OR(J17=$X$10,J17=$Y$10),$V$10,IF(OR(J17=$X$11,J17=$Y$11),$V$11))))))) | M17: =+IF(H17="",K17,IF(K17="",H17,IF(H17>K17,H17,K17))) | N17: =+IF(M17="","",IF(M17=$W$7,$V$7,IF(M17=$W$8,$V$8,IF(M17=$W$9,$V$9,IF(M17=$W$10,$V$10,IF(M17=$W$11,$V$11))))))
A18: ='2 CONTEXTO E IDENTIFICACIÓN'!A16 -> R13 | B18: =+'2 CONTEXTO E IDENTIFICACIÓN'!E16 | D18: =+IF(C18="","",IF(C18<=$S$7,$Q$7,IF(C18<=$S$8,$Q$8,IF(C18<=$S$9,$Q$9,IF(C18<=$S$10,$Q$10,IF(C18>=$R$11,$Q$11,"")))))) | E18: =+IF(D18="","",IF(D18=$Q$7,$T$7,IF(D18=$Q$8,$T$8,IF(D18=$Q$9,$T$9,IF(D18=$Q$10,$T$10,IF(D18=$Q$11,$T$11)))))) | F18: =+IF(D18="","",IF(D18=$Q$7,$P$7,IF(D18=$Q$8,$P$8,IF(D18=$Q$9,$P$9,IF(D18=$Q$10,$P$10,IF(D18=$Q$11,$P$11)))))) | H18: =+IF(G18="","",IF(G18="N/A","",IF(OR(G18=$X$7,G18=$Y$7),$W$7,IF(OR(G18=$X$8,G18=$Y$8),$W$8,IF(OR(G18=$X$9,G18=$Y$9),$W$9,IF(OR(G18=$X$10,G18=$Y$10),$W$10,IF(OR(G18=$X$11,G18=$Y$11),$W$11))))))) | I18: =+IF(G18="","",IF(G18="N/A","",IF(OR(G18=$X$7,G18=$Y$7),$V$7,IF(OR(G18=$X$8,G18=$Y$8),$V$8,IF(OR(G18=$X$9,G18=$Y$9),$V$9,IF(OR(G18=$X$10,G18=$Y$10),$V$10,IF(OR(G18=$X$11,G18=$Y$11),$V$11))))))) | K18: =+IF(J18="","",IF(J18="N/A","",IF(OR(J18=$X$7,J18=$Y$7),$W$7,IF(OR(J18=$X$8,J18=$Y$8),$W$8,IF(OR(J18=$X$9,J18=$Y$9),$W$9,IF(OR(J18=$X$10,J18=$Y$10),$W$10,IF(OR(J18=$X$11,J18=$Y$11),$W$11))))))) | L18: =+IF(J18="","",IF(J18="N/A","",IF(OR(J18=$X$7,J18=$Y$7),$V$7,IF(OR(J18=$X$8,J18=$Y$8),$V$8,IF(OR(J18=$X$9,J18=$Y$9),$V$9,IF(OR(J18=$X$10,J18=$Y$10),$V$10,IF(OR(J18=$X$11,J18=$Y$11),$V$11))))))) | M18: =+IF(H18="",K18,IF(K18="",H18,IF(H18>K18,H18,K18))) | N18: =+IF(M18="","",IF(M18=$W$7,$V$7,IF(M18=$W$8,$V$8,IF(M18=$W$9,$V$9,IF(M18=$W$10,$V$10,IF(M18=$W$11,$V$11))))))
A19: ='2 CONTEXTO E IDENTIFICACIÓN'!A17 -> R14 | B19: =+'2 CONTEXTO E IDENTIFICACIÓN'!E17 | D19: =+IF(C19="","",IF(C19<=$S$7,$Q$7,IF(C19<=$S$8,$Q$8,IF(C19<=$S$9,$Q$9,IF(C19<=$S$10,$Q$10,IF(C19>=$R$11,$Q$11,"")))))) | E19: =+IF(D19="","",IF(D19=$Q$7,$T$7,IF(D19=$Q$8,$T$8,IF(D19=$Q$9,$T$9,IF(D19=$Q$10,$T$10,IF(D19=$Q$11,$T$11)))))) | F19: =+IF(D19="","",IF(D19=$Q$7,$P$7,IF(D19=$Q$8,$P$8,IF(D19=$Q$9,$P$9,IF(D19=$Q$10,$P$10,IF(D19=$Q$11,$P$11)))))) | H19: =+IF(G19="","",IF(G19="N/A","",IF(OR(G19=$X$7,G19=$Y$7),$W$7,IF(OR(G19=$X$8,G19=$Y$8),$W$8,IF(OR(G19=$X$9,G19=$Y$9),$W$9,IF(OR(G19=$X$10,G19=$Y$10),$W$10,IF(OR(G19=$X$11,G19=$Y$11),$W$11))))))) | I19: =+IF(G19="","",IF(G19="N/A","",IF(OR(G19=$X$7,G19=$Y$7),$V$7,IF(OR(G19=$X$8,G19=$Y$8),$V$8,IF(OR(G19=$X$9,G19=$Y$9),$V$9,IF(OR(G19=$X$10,G19=$Y$10),$V$10,IF(OR(G19=$X$11,G19=$Y$11),$V$11))))))) | K19: =+IF(J19="","",IF(J19="N/A","",IF(OR(J19=$X$7,J19=$Y$7),$W$7,IF(OR(J19=$X$8,J19=$Y$8),$W$8,IF(OR(J19=$X$9,J19=$Y$9),$W$9,IF(OR(J19=$X$10,J19=$Y$10),$W$10,IF(OR(J19=$X$11,J19=$Y$11),$W$11))))))) | L19: =+IF(J19="","",IF(J19="N/A","",IF(OR(J19=$X$7,J19=$Y$7),$V$7,IF(OR(J19=$X$8,J19=$Y$8),$V$8,IF(OR(J19=$X$9,J19=$Y$9),$V$9,IF(OR(J19=$X$10,J19=$Y$10),$V$10,IF(OR(J19=$X$11,J19=$Y$11),$V$11))))))) | M19: =+IF(H19="",K19,IF(K19="",H19,IF(H19>K19,H19,K19))) | N19: =+IF(M19="","",IF(M19=$W$7,$V$7,IF(M19=$W$8,$V$8,IF(M19=$W$9,$V$9,IF(M19=$W$10,$V$10,IF(M19=$W$11,$V$11))))))
A20: ='2 CONTEXTO E IDENTIFICACIÓN'!A18 -> R15 | B20: =+'2 CONTEXTO E IDENTIFICACIÓN'!E18 | D20: =+IF(C20="","",IF(C20<=$S$7,$Q$7,IF(C20<=$S$8,$Q$8,IF(C20<=$S$9,$Q$9,IF(C20<=$S$10,$Q$10,IF(C20>=$R$11,$Q$11,"")))))) | E20: =+IF(D20="","",IF(D20=$Q$7,$T$7,IF(D20=$Q$8,$T$8,IF(D20=$Q$9,$T$9,IF(D20=$Q$10,$T$10,IF(D20=$Q$11,$T$11)))))) | F20: =+IF(D20="","",IF(D20=$Q$7,$P$7,IF(D20=$Q$8,$P$8,IF(D20=$Q$9,$P$9,IF(D20=$Q$10,$P$10,IF(D20=$Q$11,$P$11)))))) | H20: =+IF(G20="","",IF(G20="N/A","",IF(OR(G20=$X$7,G20=$Y$7),$W$7,IF(OR(G20=$X$8,G20=$Y$8),$W$8,IF(OR(G20=$X$9,G20=$Y$9),$W$9,IF(OR(G20=$X$10,G20=$Y$10),$W$10,IF(OR(G20=$X$11,G20=$Y$11),$W$11))))))) | I20: =+IF(G20="","",IF(G20="N/A","",IF(OR(G20=$X$7,G20=$Y$7),$V$7,IF(OR(G20=$X$8,G20=$Y$8),$V$8,IF(OR(G20=$X$9,G20=$Y$9),$V$9,IF(OR(G20=$X$10,G20=$Y$10),$V$10,IF(OR(G20=$X$11,G20=$Y$11),$V$11))))))) | K20: =+IF(J20="","",IF(J20="N/A","",IF(OR(J20=$X$7,J20=$Y$7),$W$7,IF(OR(J20=$X$8,J20=$Y$8),$W$8,IF(OR(J20=$X$9,J20=$Y$9),$W$9,IF(OR(J20=$X$10,J20=$Y$10),$W$10,IF(OR(J20=$X$11,J20=$Y$11),$W$11))))))) | L20: =+IF(J20="","",IF(J20="N/A","",IF(OR(J20=$X$7,J20=$Y$7),$V$7,IF(OR(J20=$X$8,J20=$Y$8),$V$8,IF(OR(J20=$X$9,J20=$Y$9),$V$9,IF(OR(J20=$X$10,J20=$Y$10),$V$10,IF(OR(J20=$X$11,J20=$Y$11),$V$11))))))) | M20: =+IF(H20="",K20,IF(K20="",H20,IF(H20>K20,H20,K20))) | N20: =+IF(M20="","",IF(M20=$W$7,$V$7,IF(M20=$W$8,$V$8,IF(M20=$W$9,$V$9,IF(M20=$W$10,$V$10,IF(M20=$W$11,$V$11))))))
A21: ='2 CONTEXTO E IDENTIFICACIÓN'!A19 -> R16 | B21: =+'2 CONTEXTO E IDENTIFICACIÓN'!E19 | D21: =+IF(C21="","",IF(C21<=$S$7,$Q$7,IF(C21<=$S$8,$Q$8,IF(C21<=$S$9,$Q$9,IF(C21<=$S$10,$Q$10,IF(C21>=$R$11,$Q$11,"")))))) | E21: =+IF(D21="","",IF(D21=$Q$7,$T$7,IF(D21=$Q$8,$T$8,IF(D21=$Q$9,$T$9,IF(D21=$Q$10,$T$10,IF(D21=$Q$11,$T$11)))))) | F21: =+IF(D21="","",IF(D21=$Q$7,$P$7,IF(D21=$Q$8,$P$8,IF(D21=$Q$9,$P$9,IF(D21=$Q$10,$P$10,IF(D21=$Q$11,$P$11)))))) | H21: =+IF(G21="","",IF(G21="N/A","",IF(OR(G21=$X$7,G21=$Y$7),$W$7,IF(OR(G21=$X$8,G21=$Y$8),$W$8,IF(OR(G21=$X$9,G21=$Y$9),$W$9,IF(OR(G21=$X$10,G21=$Y$10),$W$10,IF(OR(G21=$X$11,G21=$Y$11),$W$11))))))) | I21: =+IF(G21="","",IF(G21="N/A","",IF(OR(G21=$X$7,G21=$Y$7),$V$7,IF(OR(G21=$X$8,G21=$Y$8),$V$8,IF(OR(G21=$X$9,G21=$Y$9),$V$9,IF(OR(G21=$X$10,G21=$Y$10),$V$10,IF(OR(G21=$X$11,G21=$Y$11),$V$11))))))) | K21: =+IF(J21="","",IF(J21="N/A","",IF(OR(J21=$X$7,J21=$Y$7),$W$7,IF(OR(J21=$X$8,J21=$Y$8),$W$8,IF(OR(J21=$X$9,J21=$Y$9),$W$9,IF(OR(J21=$X$10,J21=$Y$10),$W$10,IF(OR(J21=$X$11,J21=$Y$11),$W$11))))))) | L21: =+IF(J21="","",IF(J21="N/A","",IF(OR(J21=$X$7,J21=$Y$7),$V$7,IF(OR(J21=$X$8,J21=$Y$8),$V$8,IF(OR(J21=$X$9,J21=$Y$9),$V$9,IF(OR(J21=$X$10,J21=$Y$10),$V$10,IF(OR(J21=$X$11,J21=$Y$11),$V$11))))))) | M21: =+IF(H21="",K21,IF(K21="",H21,IF(H21>K21,H21,K21))) | N21: =+IF(M21="","",IF(M21=$W$7,$V$7,IF(M21=$W$8,$V$8,IF(M21=$W$9,$V$9,IF(M21=$W$10,$V$10,IF(M21=$W$11,$V$11))))))
A22: ='2 CONTEXTO E IDENTIFICACIÓN'!A20 -> R17 | B22: =+'2 CONTEXTO E IDENTIFICACIÓN'!E20 | D22: =+IF(C22="","",IF(C22<=$S$7,$Q$7,IF(C22<=$S$8,$Q$8,IF(C22<=$S$9,$Q$9,IF(C22<=$S$10,$Q$10,IF(C22>=$R$11,$Q$11,"")))))) | E22: =+IF(D22="","",IF(D22=$Q$7,$T$7,IF(D22=$Q$8,$T$8,IF(D22=$Q$9,$T$9,IF(D22=$Q$10,$T$10,IF(D22=$Q$11,$T$11)))))) | F22: =+IF(D22="","",IF(D22=$Q$7,$P$7,IF(D22=$Q$8,$P$8,IF(D22=$Q$9,$P$9,IF(D22=$Q$10,$P$10,IF(D22=$Q$11,$P$11)))))) | H22: =+IF(G22="","",IF(G22="N/A","",IF(OR(G22=$X$7,G22=$Y$7),$W$7,IF(OR(G22=$X$8,G22=$Y$8),$W$8,IF(OR(G22=$X$9,G22=$Y$9),$W$9,IF(OR(G22=$X$10,G22=$Y$10),$W$10,IF(OR(G22=$X$11,G22=$Y$11),$W$11))))))) | I22: =+IF(G22="","",IF(G22="N/A","",IF(OR(G22=$X$7,G22=$Y$7),$V$7,IF(OR(G22=$X$8,G22=$Y$8),$V$8,IF(OR(G22=$X$9,G22=$Y$9),$V$9,IF(OR(G22=$X$10,G22=$Y$10),$V$10,IF(OR(G22=$X$11,G22=$Y$11),$V$11))))))) | K22: =+IF(J22="","",IF(J22="N/A","",IF(OR(J22=$X$7,J22=$Y$7),$W$7,IF(OR(J22=$X$8,J22=$Y$8),$W$8,IF(OR(J22=$X$9,J22=$Y$9),$W$9,IF(OR(J22=$X$10,J22=$Y$10),$W$10,IF(OR(J22=$X$11,J22=$Y$11),$W$11))))))) | L22: =+IF(J22="","",IF(J22="N/A","",IF(OR(J22=$X$7,J22=$Y$7),$V$7,IF(OR(J22=$X$8,J22=$Y$8),$V$8,IF(OR(J22=$X$9,J22=$Y$9),$V$9,IF(OR(J22=$X$10,J22=$Y$10),$V$10,IF(OR(J22=$X$11,J22=$Y$11),$V$11))))))) | M22: =+IF(H22="",K22,IF(K22="",H22,IF(H22>K22,H22,K22))) | N22: =+IF(M22="","",IF(M22=$W$7,$V$7,IF(M22=$W$8,$V$8,IF(M22=$W$9,$V$9,IF(M22=$W$10,$V$10,IF(M22=$W$11,$V$11))))))
A23: ='2 CONTEXTO E IDENTIFICACIÓN'!A21 -> R18 | B23: =+'2 CONTEXTO E IDENTIFICACIÓN'!E21 | D23: =+IF(C23="","",IF(C23<=$S$7,$Q$7,IF(C23<=$S$8,$Q$8,IF(C23<=$S$9,$Q$9,IF(C23<=$S$10,$Q$10,IF(C23>=$R$11,$Q$11,"")))))) | E23: =+IF(D23="","",IF(D23=$Q$7,$T$7,IF(D23=$Q$8,$T$8,IF(D23=$Q$9,$T$9,IF(D23=$Q$10,$T$10,IF(D23=$Q$11,$T$11)))))) | F23: =+IF(D23="","",IF(D23=$Q$7,$P$7,IF(D23=$Q$8,$P$8,IF(D23=$Q$9,$P$9,IF(D23=$Q$10,$P$10,IF(D23=$Q$11,$P$11)))))) | H23: =+IF(G23="","",IF(G23="N/A","",IF(OR(G23=$X$7,G23=$Y$7),$W$7,IF(OR(G23=$X$8,G23=$Y$8),$W$8,IF(OR(G23=$X$9,G23=$Y$9),$W$9,IF(OR(G23=$X$10,G23=$Y$10),$W$10,IF(OR(G23=$X$11,G23=$Y$11),$W$11))))))) | I23: =+IF(G23="","",IF(G23="N/A","",IF(OR(G23=$X$7,G23=$Y$7),$V$7,IF(OR(G23=$X$8,G23=$Y$8),$V$8,IF(OR(G23=$X$9,G23=$Y$9),$V$9,IF(OR(G23=$X$10,G23=$Y$10),$V$10,IF(OR(G23=$X$11,G23=$Y$11),$V$11))))))) | K23: =+IF(J23="","",IF(J23="N/A","",IF(OR(J23=$X$7,J23=$Y$7),$W$7,IF(OR(J23=$X$8,J23=$Y$8),$W$8,IF(OR(J23=$X$9,J23=$Y$9),$W$9,IF(OR(J23=$X$10,J23=$Y$10),$W$10,IF(OR(J23=$X$11,J23=$Y$11),$W$11))))))) | L23: =+IF(J23="","",IF(J23="N/A","",IF(OR(J23=$X$7,J23=$Y$7),$V$7,IF(OR(J23=$X$8,J23=$Y$8),$V$8,IF(OR(J23=$X$9,J23=$Y$9),$V$9,IF(OR(J23=$X$10,J23=$Y$10),$V$10,IF(OR(J23=$X$11,J23=$Y$11),$V$11))))))) | M23: =+IF(H23="",K23,IF(K23="",H23,IF(H23>K23,H23,K23))) | N23: =+IF(M23="","",IF(M23=$W$7,$V$7,IF(M23=$W$8,$V$8,IF(M23=$W$9,$V$9,IF(M23=$W$10,$V$10,IF(M23=$W$11,$V$11))))))
A24: ='2 CONTEXTO E IDENTIFICACIÓN'!A22 -> R19 | B24: =+'2 CONTEXTO E IDENTIFICACIÓN'!E22 | D24: =+IF(C24="","",IF(C24<=$S$7,$Q$7,IF(C24<=$S$8,$Q$8,IF(C24<=$S$9,$Q$9,IF(C24<=$S$10,$Q$10,IF(C24>=$R$11,$Q$11,"")))))) | E24: =+IF(D24="","",IF(D24=$Q$7,$T$7,IF(D24=$Q$8,$T$8,IF(D24=$Q$9,$T$9,IF(D24=$Q$10,$T$10,IF(D24=$Q$11,$T$11)))))) | F24: =+IF(D24="","",IF(D24=$Q$7,$P$7,IF(D24=$Q$8,$P$8,IF(D24=$Q$9,$P$9,IF(D24=$Q$10,$P$10,IF(D24=$Q$11,$P$11)))))) | H24: =+IF(G24="","",IF(G24="N/A","",IF(OR(G24=$X$7,G24=$Y$7),$W$7,IF(OR(G24=$X$8,G24=$Y$8),$W$8,IF(OR(G24=$X$9,G24=$Y$9),$W$9,IF(OR(G24=$X$10,G24=$Y$10),$W$10,IF(OR(G24=$X$11,G24=$Y$11),$W$11))))))) | I24: =+IF(G24="","",IF(G24="N/A","",IF(OR(G24=$X$7,G24=$Y$7),$V$7,IF(OR(G24=$X$8,G24=$Y$8),$V$8,IF(OR(G24=$X$9,G24=$Y$9),$V$9,IF(OR(G24=$X$10,G24=$Y$10),$V$10,IF(OR(G24=$X$11,G24=$Y$11),$V$11))))))) | K24: =+IF(J24="","",IF(J24="N/A","",IF(OR(J24=$X$7,J24=$Y$7),$W$7,IF(OR(J24=$X$8,J24=$Y$8),$W$8,IF(OR(J24=$X$9,J24=$Y$9),$W$9,IF(OR(J24=$X$10,J24=$Y$10),$W$10,IF(OR(J24=$X$11,J24=$Y$11),$W$11))))))) | L24: =+IF(J24="","",IF(J24="N/A","",IF(OR(J24=$X$7,J24=$Y$7),$V$7,IF(OR(J24=$X$8,J24=$Y$8),$V$8,IF(OR(J24=$X$9,J24=$Y$9),$V$9,IF(OR(J24=$X$10,J24=$Y$10),$V$10,IF(OR(J24=$X$11,J24=$Y$11),$V$11))))))) | M24: =+IF(H24="",K24,IF(K24="",H24,IF(H24>K24,H24,K24))) | N24: =+IF(M24="","",IF(M24=$W$7,$V$7,IF(M24=$W$8,$V$8,IF(M24=$W$9,$V$9,IF(M24=$W$10,$V$10,IF(M24=$W$11,$V$11))))))
A25: ='2 CONTEXTO E IDENTIFICACIÓN'!A23 -> R20 | B25: =+'2 CONTEXTO E IDENTIFICACIÓN'!E23 | D25: =+IF(C25="","",IF(C25<=$S$7,$Q$7,IF(C25<=$S$8,$Q$8,IF(C25<=$S$9,$Q$9,IF(C25<=$S$10,$Q$10,IF(C25>=$R$11,$Q$11,"")))))) | E25: =+IF(D25="","",IF(D25=$Q$7,$T$7,IF(D25=$Q$8,$T$8,IF(D25=$Q$9,$T$9,IF(D25=$Q$10,$T$10,IF(D25=$Q$11,$T$11)))))) | F25: =+IF(D25="","",IF(D25=$Q$7,$P$7,IF(D25=$Q$8,$P$8,IF(D25=$Q$9,$P$9,IF(D25=$Q$10,$P$10,IF(D25=$Q$11,$P$11)))))) | H25: =+IF(G25="","",IF(G25="N/A","",IF(OR(G25=$X$7,G25=$Y$7),$W$7,IF(OR(G25=$X$8,G25=$Y$8),$W$8,IF(OR(G25=$X$9,G25=$Y$9),$W$9,IF(OR(G25=$X$10,G25=$Y$10),$W$10,IF(OR(G25=$X$11,G25=$Y$11),$W$11))))))) | I25: =+IF(G25="","",IF(G25="N/A","",IF(OR(G25=$X$7,G25=$Y$7),$V$7,IF(OR(G25=$X$8,G25=$Y$8),$V$8,IF(OR(G25=$X$9,G25=$Y$9),$V$9,IF(OR(G25=$X$10,G25=$Y$10),$V$10,IF(OR(G25=$X$11,G25=$Y$11),$V$11))))))) | K25: =+IF(J25="","",IF(J25="N/A","",IF(OR(J25=$X$7,J25=$Y$7),$W$7,IF(OR(J25=$X$8,J25=$Y$8),$W$8,IF(OR(J25=$X$9,J25=$Y$9),$W$9,IF(OR(J25=$X$10,J25=$Y$10),$W$10,IF(OR(J25=$X$11,J25=$Y$11),$W$11))))))) | L25: =+IF(J25="","",IF(J25="N/A","",IF(OR(J25=$X$7,J25=$Y$7),$V$7,IF(OR(J25=$X$8,J25=$Y$8),$V$8,IF(OR(J25=$X$9,J25=$Y$9),$V$9,IF(OR(J25=$X$10,J25=$Y$10),$V$10,IF(OR(J25=$X$11,J25=$Y$11),$V$11))))))) | M25: =+IF(H25="",K25,IF(K25="",H25,IF(H25>K25,H25,K25))) | N25: =+IF(M25="","",IF(M25=$W$7,$V$7,IF(M25=$W$8,$V$8,IF(M25=$W$9,$V$9,IF(M25=$W$10,$V$10,IF(M25=$W$11,$V$11))))))

Sheet 4 MAPA CALOR INHERENTE
I1: =+'2 CONTEXTO E IDENTIFICACIÓN'!#REF! -> #REF! | J1: =+IF('2 CONTEXTO E IDENTIFICACIÓN'!#REF!="","",'2 CONTEXTO E IDENTIFICACIÓN'!#REF!) -> #REF! | K1: Al | L1: =+IF('2 CONTEXTO E IDENTIFICACIÓN'!#REF!="","",'2 CONTEXTO E IDENTIFICACIÓN'!#REF!) -> #REF!
A2: PROCESO: | B2: =+IF('2 CONTEXTO E IDENTIFICACIÓN'!$B$2="","",'2 CONTEXTO E IDENTIFICACIÓN'!$B$2) -> GESTIÓN DE SERVICIOS PUBLICOS
G4: MAPA DE CALOR RIESGO INHERENTE | R4: Impacto
C5: CALIFICACIÓN RIESGO INHERENTE | I5: Impacto | R5: 0.2 | S5: 0.4 | T5: 0.6 | U5: 0.8 | V5: 1
A6: No. DEL RIESGO | B6: RIESGO | C6: PROBABILIDAD | D6: IMPACTO | E6: SEVERIDAD (NIVEL DE RIESGO) | I6: Leve | J6: Menor | K6: Moderado | L6: Mayor | M6: Catastrófico | R6: Leve | S6: Menor | T6: Moderado | U6: Mayor | V6: Catastrófico
A7: ='2 CONTEXTO E IDENTIFICACIÓN'!A6 -> R1 | B7: =+'2 CONTEXTO E IDENTIFICACIÓN'!E6 -> Posibilidad de pérdida Económica y Reputacional por contaminación ambiental a causa de las descargas de aguas residuales debido a la falta de seguimiento y control a los vertimientos realizados por usuarios diferentes al residencial que hacen uso del alcantarillado público y a la infraestructura de las redes de alcantarillado en condiciones inadecuadas. | C7: =+'3 PROBABIL E IMPACTO INHERENTE'!F7 -> Baja | D7: =+'3 PROBABIL E IMPACTO INHERENTE'!N7 -> Mayor | E7: =+IF(C7=$Q$7,IF(D7=$R$6,$R$7,IF(D7=$S$6,$S$7,IF(D7=$T$6,$T$7,IF(D7=$U$6,$U$7,IF(D7=$V$6,$V$7))))),IF(C7=$Q$8,IF(D7=$R$6,$R$8,IF(D7=$S$6,$S$8,IF(D7=$T$6,$T$8,IF(D7=$U$6,$U$8,IF(D7=$V$6,$V$8))))),IF(C7=$Q$9,IF(D7=$R$6,$R$9,IF(D7=$S$6,$S$9,IF(D7=$T$6,$T$9,IF(D7=$U$6,$U$9,IF(D7=$V$6,$V$9))))),IF(C7=$Q$10,IF(D7=$R$6,$R$10,IF(D7=$S$6,$S$10,IF(D7=$T$6,$T$10,IF(D7=$U$6,$U$10,IF(D7=$V$6,$V$10))))),IF(C7=$Q$11,IF(D7=$R$6,$R$11,IF(D7=$S$6,$S$11,IF(D7=$T$6,$T$11,IF(D7=$U$6,$U$11,IF(D7=$V$6,$V$11))))),""))))) -> Alto | G7: Probabilidad | H7: Muy Alta | I7: =+IF(AND(C7=$Q$7,D7=$R$6),A7,"")&" "&IF(AND(C8=$Q$7,D8=$R$6),A8,"")&" "&IF(AND(C9=$Q$7,D9=$R$6),A9,"")&" "&IF(AND(C10=$Q$7,D10=$R$6),A10,"")&" "&IF(AND(C11=$Q$7,D11=$R$6),A11,"")&" "&IF(AND(C12=$Q$7,D12=$R$6),A12,"")&" "&IF(AND(C13=$Q$7,D13=$R$6),A13,"")&" "&IF(AND(C14=$Q$7,D14=$R$6),A14,"")&" "&IF(AND(C15=$Q$7,D15=$R$6),A15,"")&" "&IF(AND(C16=$Q$7,D16=$R$6),A16,"")&" "&IF(AND(C17=$Q$7,D17=$R$6),A17,"")&" "&IF(AND(C18=$Q$7,D18=$R$6),A18,"")&" "&IF(AND(C19=$Q$7,D19=$R$6),A19,"")&" "&IF(AND(C20=$Q$7,D20=$R$6),A20,"")&" "&IF(AND(C21=$Q$7,D21=$R$6),A21,"")&" "&IF(AND(C22=$Q$7,D22=$R$6),A22,"")&" "&IF(AND(C23=$Q$7,D23=$R$6),A23,"")&" "&IF(AND(C24=$Q$7,D24=$R$6),A24,"")&" "&IF(AND(C25=$Q$7,D25=$R$6),A25,"")&" "&IF(AND(C26=$Q$7,D26=$R$6),A26,"") | J7: =+IF(AND(C7=$Q$7,D7=$S$6),A7,"")&" "&IF(AND(C8=$Q$7,D8=$S$6),A8,"")&" "&IF(AND(C9=$Q$7,D9=$S$6),A9,"")&" "&IF(AND(C10=$Q$7,D10=$S$6),A10,"")&" "&IF(AND(C11=$Q$7,D11=$S$6),A11,"")&" "&IF(AND(C12=$Q$7,D12=$S$6),A12,"")&" "&IF(AND(C13=$Q$7,D13=$S$6),A13,"")&" "&IF(AND(C14=$Q$7,D14=$S$6),A14,"")&" "&IF(AND(C15=$Q$7,D15=$S$6),A15,"")&" "&IF(AND(C16=$Q$7,D16=$S$6),A16,"")&" "&IF(AND(C17=$Q$7,D17=$S$6),A17,"")&" "&IF(AND(C18=$Q$7,D18=$S$6),A18,"")&" "&IF(AND(C19=$Q$7,D19=$S$6),A19,"")&" "&IF(AND(C20=$Q$7,D20=$S$6),A20,"")&" "&IF(AND(C21=$Q$7,D21=$S$6),A21,"")&" "&IF(AND(C22=$Q$7,D22=$S$6),A22,"")&" "&IF(AND(C23=$Q$7,D23=$S$6),A23,"")&" "&IF(AND(C24=$Q$7,D24=$S$6),A24,"")&" "&IF(AND(C25=$Q$7,D25=$S$6),A25,"")&" "&IF(AND(C26=$Q$7,D26=$S$6),A26,"") | K7: =+IF(AND(C7=$Q$7,D7=$T$6),A7,"")&" "&IF(AND(C8=$Q$7,D8=$T$6),A8,"")&" "&IF(AND(C9=$Q$7,D9=$T$6),A9,"")&" "&IF(AND(C10=$Q$7,D10=$T$6),A10,"")&" "&IF(AND(C11=$Q$7,D11=$T$6),A11,"")&" "&IF(AND(C12=$Q$7,D12=$T$6),A12,"")&" "&IF(AND(C13=$Q$7,D13=$T$6),A13,"")&" "&IF(AND(C14=$Q$7,D14=$T$6),A14,"")&" "&IF(AND(C15=$Q$7,D15=$T$6),A15,"")&" "&IF(AND(C16=$Q$7,D16=$T$6),A16,"")&" "&IF(AND(C17=$Q$7,D17=$T$6),A17,"")&" "&IF(AND(C18=$Q$7,D18=$T$6),A18,"")&" "&IF(AND(C19=$Q$7,D19=$T$6),A19,"")&" "&IF(AND(C20=$Q$7,D20=$T$6),A20,"")&" "&IF(AND(C21=$Q$7,D21=$T$6),A21,"")&" "&IF(AND(C22=$Q$7,D22=$T$6),A22,"")&" "&IF(AND(C23=$Q$7,D23=$T$6),A23,"")&" "&IF(AND(C24=$Q$7,D24=$T$6),A24,"")&" "&IF(AND(C25=$Q$7,D25=$T$6),A25,"")&" "&IF(AND(C26=$Q$7,D26=$T$6),A26,"") | L7: =+IF(AND(C7=$Q$7,D7=$U$6),A7,"")&" "&IF(AND(C8=$Q$7,D8=$U$6),A8,"")&" "&IF(AND(C9=$Q$7,D9=$U$6),A9,"")&" "&IF(AND(C10=$Q$7,D10=$U$6),A10,"")&" "&IF(AND(C11=$Q$7,D11=$U$6),A11,"")&" "&IF(AND(C12=$Q$7,D12=$U$6),A12,"")&" "&IF(AND(C13=$Q$7,D13=$U$6),A13,"")&" "&IF(AND(C14=$Q$7,D14=$U$6),A14,"")&" "&IF(AND(C15=$Q$7,D15=$U$6),A15,"")&" "&IF(AND(C16=$Q$7,D16=$U$6),A16,"")&" "&IF(AND(C17=$Q$7,D17=$U$6),A17,"")&" "&IF(AND(C18=$Q$7,D18=$U$6),A18,"")&" "&IF(AND(C19=$Q$7,D19=$U$6),A19,"")&" "&IF(AND(C20=$Q$7,D20=$U$6),A20,"")&" "&IF(AND(C21=$Q$7,D21=$U$6),A21,"")&" "&IF(AND(C22=$Q$7,D22=$U$6),A22,"")&" "&IF(AND(C23=$Q$7,D23=$U$6),A23,"")&" "&IF(AND(C24=$Q$7,D24=$U$6),A24,"")&" "&IF(AND(C25=$Q$7,D25=$U$6),A25,"")&" "&IF(AND(C26=$Q$7,D26=$U$6),A26,"") | M7: =+IF(AND(C7=$Q$7,D7=$V$6),A7,"")&" "&IF(AND(C8=$Q$7,D8=$V$6),A8,"")&" "&IF(AND(C9=$Q$7,D9=$V$6),A9,"")&" "&IF(AND(C10=$Q$7,D10=$V$6),A10,"")&" "&IF(AND(C11=$Q$7,D11=$V$6),A11,"")&" "&IF(AND(C12=$Q$7,D12=$V$6),A12,"")&" "&IF(AND(C13=$Q$7,D13=$V$6),A13,"")&" "&IF(AND(C14=$Q$7,D14=$V$6),A14,"")&" "&IF(AND(C15=$Q$7,D15=$V$6),A15,"")&" "&IF(AND(C16=$Q$7,D16=$V$6),A16,"")&" "&IF(AND(C17=$Q$7,D17=$V$6),A17,"")&" "&IF(AND(C18=$Q$7,D18=$V$6),A18,"")&" "&IF(AND(C19=$Q$7,D19=$V$6),A19,"")&" "&IF(AND(C20=$Q$7,D20=$V$6),A20,"")&" "&IF(AND(C21=$Q$7,D21=$V$6),A21,"")&" "&IF(AND(C22=$Q$7,D22=$V$6),A22,"")&" "&IF(AND(C23=$Q$7,D23=$V$6),A23,"")&" "&IF(AND(C24=$Q$7,D24=$V$6),A24,"")&" "&IF(AND(C25=$Q$7,D25=$V$6),A25,"")&" "&IF(AND(C26=$Q$7,D26=$V$6),A26,"") | O7: Probabilidad | P7: 1 | Q7: Muy Alta | R7: Alto | S7: Alto | T7: Alto | U7: Alto | V7: Extremo
